BEGIN:VCALENDAR
VERSION:2.0
PRODID:-//Asociación Ferreycorp - ECPv6.15.3//NONSGML v1.0//EN
CALSCALE:GREGORIAN
METHOD:PUBLISH
X-WR-CALNAME:Asociación Ferreycorp
X-ORIGINAL-URL:https://www.asociacionferreycorp.edu.pe
X-WR-CALDESC:Eventos para Asociación Ferreycorp
REFRESH-INTERVAL;VALUE=DURATION:PT1H
X-Robots-Tag:noindex
X-PUBLISHED-TTL:PT1H
BEGIN:VTIMEZONE
TZID:America/Lima
BEGIN:STANDARD
TZOFFSETFROM:-0500
TZOFFSETTO:-0500
TZNAME:-05
DTSTART:20240101T050000
END:STANDARD
END:VTIMEZONE
BEGIN:VEVENT
DTSTART;TZID=America/Lima:20241205T200000
DTEND;TZID=America/Lima:20241205T210000
DTSTAMP:20260424T053527
CREATED:20241129T180959Z
LAST-MODIFIED:20241129T180959Z
UID:2547-1733428800-1733432400@www.asociacionferreycorp.edu.pe
SUMMARY:Bienestar y salud mental
DESCRIPTION:Únete a nuestra próxima secuencia de Conversaciones con Expertos junto a: \n\nVerousckha Uchofen: Psicóloga y Especialista Senior de Bienestar Ferreycorp.\n\n¡Conoce la importancia del bienestar y salud mental!
URL:https://www.asociacionferreycorp.edu.pe/evento/bienestar-y-salud-mental/
CATEGORIES:Conversaciones con Expertos
ATTACH;FMTTYPE=image/png:https://static.asociacionferreycorp.edu.pe/fcsaprdasocferreycorp02/2024/11/CCE-dic.png
END:VEVENT
BEGIN:VEVENT
DTSTART;TZID=America/Lima:20241210T130000
DTEND;TZID=America/Lima:20241210T220000
DTSTAMP:20260424T053527
CREATED:20241108T165836Z
LAST-MODIFIED:20241108T165836Z
UID:2508-1733835600-1733868000@www.asociacionferreycorp.edu.pe
SUMMARY:Programa Impulsando Talento con Valores: Escuela de Educación Superior Pedagógica Pública Monterrico
DESCRIPTION:Modalidad Presencial  \n¿Estudias en la EESPPM y te encuentras en los últimos ciclos de tu carrera? ¡Este programa es para ti! \nDurante 3 días presenciales (10\, 11 y 12 de diciembre) podrás reforzar\, bajo metodologías participativas y lúdicas\, distintas competencias claves como adaptación al cambio\, trabajo en equipo\, gestión de emociones\, liderazgo y otras para destacar como profesional. \nConoce más aquí \n¡No te lo pierdas! Contamos con cupos gratuitos limitados.
URL:https://www.asociacionferreycorp.edu.pe/evento/programa-impulsando-talento-con-valores-escuela-de-educacion-superior-pedagogica-publica-monterrico/
ATTACH;FMTTYPE=image/jpeg:https://static.asociacionferreycorp.edu.pe/fcsaprdasocferreycorp02/2024/08/WhatsApp-Image-2024-06-15-at-4.09.33-PM-1.jpeg
END:VEVENT
BEGIN:VEVENT
DTSTART;TZID=America/Lima:20241212T130000
DTEND;TZID=America/Lima:20241212T220000
DTSTAMP:20260424T053527
CREATED:20241108T174731Z
LAST-MODIFIED:20250128T143018Z
UID:2510-1734008400-1734040800@www.asociacionferreycorp.edu.pe
SUMMARY:Programa Impulsando Talento con Valores: UDEP sede Piura
DESCRIPTION:Modalidad Presencial  \n¿Estudias en la UDEP sede Piura y te encuentras en los últimos ciclos de tu carrera? ¡Este programa fue para ti! \nDurante 3 días presenciales (12\, 13 y 14 de diciembre) se reforzó\, bajo metodologías participativas y lúdicas\, distintas competencias claves como adaptación al cambio\, trabajo en equipo\, gestión de emociones\, liderazgo y otras para destacar como profesional. \n¡Gracias a todos los que participaron! \nEstamos preparando más eventos similares. \nHaz clic aquí.
URL:https://www.asociacionferreycorp.edu.pe/evento/programa-impulsando-talento-con-valores-udep-sede-piura/
ATTACH;FMTTYPE=image/jpeg:https://static.asociacionferreycorp.edu.pe/fcsaprdasocferreycorp02/2024/08/IMG_6574-scaled.jpg
END:VEVENT
END:VCALENDAR