BEGIN:VCALENDAR
VERSION:2.0
PRODID:-//Asociación Ferreycorp - ECPv6.15.3//NONSGML v1.0//EN
CALSCALE:GREGORIAN
METHOD:PUBLISH
X-ORIGINAL-URL:https://www.asociacionferreycorp.edu.pe
X-WR-CALDESC:Eventos para Asociación Ferreycorp
REFRESH-INTERVAL;VALUE=DURATION:PT1H
X-Robots-Tag:noindex
X-PUBLISHED-TTL:PT1H
BEGIN:VTIMEZONE
TZID:America/Lima
BEGIN:STANDARD
TZOFFSETFROM:-0500
TZOFFSETTO:-0500
TZNAME:-05
DTSTART:20240101T050000
END:STANDARD
END:VTIMEZONE
BEGIN:VEVENT
DTSTART;TZID=America/Lima:20241001T130000
DTEND;TZID=America/Lima:20241001T220000
DTSTAMP:20260424T030435
CREATED:20241029T145002Z
LAST-MODIFIED:20241029T145002Z
UID:2411-1727787600-1727820000@www.asociacionferreycorp.edu.pe
SUMMARY:Programa Impulsando Talento con Valores: Senati Huancavelica
DESCRIPTION:Modalidad Presencial  \n¿Estudias en Senati y te encuentras en los últimos ciclos de tu carrera? ¡Este programa es para ti! \nDurante 3 días presenciales (1\, 2 y 3 de octubre) podrás reforzar\, bajo metodologías participativas y lúdicas\, distintas competencias claves como adaptación al cambio\, trabajo en equipo\, gestión de emociones\, liderazgo y otras para destacar como profesional. \nConoce más aquí \n¡No te lo pierdas! Contamos con cupos gratuitos limitados.
URL:https://www.asociacionferreycorp.edu.pe/evento/programa-impulsando-talento-con-valores-senati-huancavelica/
ATTACH;FMTTYPE=image/jpeg:https://static.asociacionferreycorp.edu.pe/fcsaprdasocferreycorp02/2024/08/IMG_6348-scaled.jpg
END:VEVENT
BEGIN:VEVENT
DTSTART;TZID=America/Lima:20241002T130000
DTEND;TZID=America/Lima:20241002T220000
DTSTAMP:20260424T030435
CREATED:20241029T145226Z
LAST-MODIFIED:20241029T145226Z
UID:2429-1727874000-1727906400@www.asociacionferreycorp.edu.pe
SUMMARY:Programa Impulsando Talento con Valores: UNSAAC
DESCRIPTION:Modalidad Presencial  \n¿Estudias en la UNSAAC y te encuentras en los últimos ciclos de tu carrera? ¡Este programa es para ti! \nDurante 3 días presenciales (2\, 3 y 4 de octubre) podrás reforzar\, bajo metodologías participativas y lúdicas\, distintas competencias claves como adaptación al cambio\, trabajo en equipo\, gestión de emociones\, liderazgo y otras para destacar como profesional. \nConoce más aquí \n¡No te lo pierdas! Contamos con cupos gratuitos limitados.
URL:https://www.asociacionferreycorp.edu.pe/evento/programa-impulsando-talento-con-valores-unsaac/
ATTACH;FMTTYPE=image/jpeg:https://static.asociacionferreycorp.edu.pe/fcsaprdasocferreycorp02/2024/08/IMG_6802-scaled.jpg
END:VEVENT
BEGIN:VEVENT
DTSTART;TZID=America/Lima:20241002T130000
DTEND;TZID=America/Lima:20241002T220000
DTSTAMP:20260424T030435
CREATED:20241029T152539Z
LAST-MODIFIED:20241029T152539Z
UID:2471-1727874000-1727906400@www.asociacionferreycorp.edu.pe
SUMMARY:Programa Impulsando Talento con Valores: Cumbre Chiclayo
DESCRIPTION:Modalidad Presencial  \n¿Estudias en la Cumbre de Chiclayo y te encuentras en los últimos ciclos de tu carrera? ¡Este programa es para ti! \nDurante 3 días presenciales (4\, 5 y 6 de octubre) podrás reforzar\, bajo metodologías participativas y lúdicas\, distintas competencias claves como adaptación al cambio\, trabajo en equipo\, gestión de emociones\, liderazgo y otras para destacar como profesional. \nConoce más aquí \n¡No te lo pierdas! Contamos con cupos gratuitos limitados.
URL:https://www.asociacionferreycorp.edu.pe/evento/programa-impulsando-talento-con-valores-cumbre-chiclayo/
ATTACH;FMTTYPE=image/jpeg:https://static.asociacionferreycorp.edu.pe/fcsaprdasocferreycorp02/2024/08/IMG_6802-scaled.jpg
END:VEVENT
BEGIN:VEVENT
DTSTART;TZID=America/Lima:20241004T130000
DTEND;TZID=America/Lima:20241004T220000
DTSTAMP:20260424T030435
CREATED:20240904T203609Z
LAST-MODIFIED:20240925T131931Z
UID:2430-1728046800-1728079200@www.asociacionferreycorp.edu.pe
SUMMARY:Impulsando Talento con Valores: Edición Especial en Lima
DESCRIPTION:Modalidad Presencial  \n¿Te encuentras en los últimos ciclos de tu carrera y estudias en Lima o el Callao?\nNo puedes perderte nuestro programa donde durante 3 días en modalidad presencial reforzarás\, bajo metodologías lúdicas\, distintas competencias claves para tu desarrollo personal y profesional. \nEl programa se llevará a cabo en Lima\, Edificio Ferreycorp los días 04\, 05 y 06 de octubre. \nContamos con cupos gratuitos. ¡Conoce más aquí!  \nAdemás tendremos una charla informativa para contarte más del programa este viernes 20 de septiembre a las 7 pm. ¡Regístrate gratis!
URL:https://www.asociacionferreycorp.edu.pe/evento/impulsando-talento-con-valores-edicion-especial-en-lima-2/
ATTACH;FMTTYPE=image/jpeg:https://static.asociacionferreycorp.edu.pe/fcsaprdasocferreycorp02/2024/08/IMG_4170_11zon-scaled.jpg
END:VEVENT
BEGIN:VEVENT
DTSTART;TZID=America/Lima:20241010T200000
DTEND;TZID=America/Lima:20241010T210000
DTSTAMP:20260424T030435
CREATED:20241009T212326Z
LAST-MODIFIED:20250214T175553Z
UID:2459-1728590400-1728594000@www.asociacionferreycorp.edu.pe
SUMMARY:Las claves para conseguir tus primeras prácticas profesionales
DESCRIPTION:Únete a nuestra próxima secuencia de Conversaciones con Expertos junto a: \n\nAngélica Vidal: Psicóloga y facilitadora de la Asociación Ferreycorp.\nJuly Chávez: Psicóloga y facilitadora de la Asociación Ferreycorp.\n\n¡Dónde nos brindarán las claves para conseguir tus primeras prácticas profesionales!
URL:https://www.asociacionferreycorp.edu.pe/evento/conversaciones-con-expertos-las-claves-para-conseguir-tus-primeras-practicas-profesionales/
CATEGORIES:Conversaciones con Expertos
ATTACH;FMTTYPE=image/png:https://static.asociacionferreycorp.edu.pe/fcsaprdasocferreycorp02/2024/10/CCE-10-10.png
END:VEVENT
BEGIN:VEVENT
DTSTART;TZID=America/Lima:20241011T130000
DTEND;TZID=America/Lima:20241011T220000
DTSTAMP:20260424T030435
CREATED:20241029T170352Z
LAST-MODIFIED:20241029T170352Z
UID:2472-1728651600-1728684000@www.asociacionferreycorp.edu.pe
SUMMARY:Programa Impulsando Talento con Valores: UTP Arequipa
DESCRIPTION:Modalidad Presencial  \n¿Estudias en la UTP Arequipa y te encuentras en los últimos ciclos de tu carrera? ¡Este programa es para ti! \nDurante 3 días presenciales (11\, 12 y 13 de octubre) podrás reforzar\, bajo metodologías participativas y lúdicas\, distintas competencias claves como adaptación al cambio\, trabajo en equipo\, gestión de emociones\, liderazgo y otras para destacar como profesional. \nConoce más aquí \n¡No te lo pierdas! Contamos con cupos gratuitos limitados.
URL:https://www.asociacionferreycorp.edu.pe/evento/programa-impulsando-talento-con-valores-utp-arequipa-2/
ATTACH;FMTTYPE=image/jpeg:https://static.asociacionferreycorp.edu.pe/fcsaprdasocferreycorp02/2024/08/WhatsApp-Image-2024-07-14-at-9.34.10-PM-scaled.jpeg
END:VEVENT
BEGIN:VEVENT
DTSTART;TZID=America/Lima:20241011T130000
DTEND;TZID=America/Lima:20241013T220000
DTSTAMP:20260424T030435
CREATED:20241029T170833Z
LAST-MODIFIED:20241029T170833Z
UID:2474-1728651600-1728856800@www.asociacionferreycorp.edu.pe
SUMMARY:Programa Impulsando Talento con Valores: Instituto Alas Peruanas
DESCRIPTION:Modalidad Presencial  \n¿Estudias en la Instituto Alas Peruanas y te encuentras en los últimos ciclos de tu carrera? ¡Este programa es para ti! \nDurante 3 días presenciales (11\, 12 y 13 de octubre) podrás reforzar\, bajo metodologías participativas y lúdicas\, distintas competencias claves como adaptación al cambio\, trabajo en equipo\, gestión de emociones\, liderazgo y otras para destacar como profesional. \nConoce más aquí \n¡No te lo pierdas! Contamos con cupos gratuitos limitados.
URL:https://www.asociacionferreycorp.edu.pe/evento/programa-impulsando-talento-con-valores-instituto-alas-peruanas/
ATTACH;FMTTYPE=image/jpeg:https://static.asociacionferreycorp.edu.pe/fcsaprdasocferreycorp02/2024/06/pexels-fauxels-3184428-1-scaled.jpg
END:VEVENT
BEGIN:VEVENT
DTSTART;TZID=America/Lima:20241016T130000
DTEND;TZID=America/Lima:20241018T220000
DTSTAMP:20260424T030435
CREATED:20241029T171833Z
LAST-MODIFIED:20241029T171833Z
UID:2477-1729083600-1729288800@www.asociacionferreycorp.edu.pe
SUMMARY:Programa Impulsando Talento con Valores: Universidad César Vallejo - CHEPEN
DESCRIPTION:Modalidad Presencial  \n¿Estudias en la Instituto Universidad César Vallejo – CHEPEN y te encuentras en los últimos ciclos de tu carrera? ¡Este programa es para ti! \nDurante 3 días presenciales (16\, 17 y 18 de octubre) podrás reforzar\, bajo metodologías participativas y lúdicas\, distintas competencias claves como adaptación al cambio\, trabajo en equipo\, gestión de emociones\, liderazgo y otras para destacar como profesional. \nConoce más aquí \n¡No te lo pierdas! Contamos con cupos gratuitos limitados.
URL:https://www.asociacionferreycorp.edu.pe/evento/programa-impulsando-talento-con-valores-universidad-cesar-vallejo-chepen/
ATTACH;FMTTYPE=image/jpeg:https://static.asociacionferreycorp.edu.pe/fcsaprdasocferreycorp02/2024/03/IMG_2955.jpg
END:VEVENT
BEGIN:VEVENT
DTSTART;TZID=America/Lima:20241024T200000
DTEND;TZID=America/Lima:20241024T210000
DTSTAMP:20260424T030435
CREATED:20241018T143711Z
LAST-MODIFIED:20250214T175525Z
UID:2462-1729800000-1729803600@www.asociacionferreycorp.edu.pe
SUMMARY:La importancia del clima laboral
DESCRIPTION:Únete a nuestra próxima secuencia de Conversaciones con Expertos junto a: \n\nRocío Arbulú: Gerente de Bienestar\, Cultura y Comunicación en Ferreycorp.\n\n¡Dónde conocerás la importancia del clima laboral!
URL:https://www.asociacionferreycorp.edu.pe/evento/conversaciones-con-expertos-la-importancia-del-clima-laboral/
CATEGORIES:Conversaciones con Expertos
ATTACH;FMTTYPE=image/png:https://static.asociacionferreycorp.edu.pe/fcsaprdasocferreycorp02/2024/10/unnamed.png
END:VEVENT
BEGIN:VEVENT
DTSTART;TZID=America/Lima:20241031T200000
DTEND;TZID=America/Lima:20241031T210000
DTSTAMP:20260424T030435
CREATED:20241026T222223Z
LAST-MODIFIED:20241026T222223Z
UID:2466-1730404800-1730408400@www.asociacionferreycorp.edu.pe
SUMMARY:El Perú que queremos
DESCRIPTION:Únete a nuestra próxima secuencia de Conversaciones con Expertos junto a: \n\nLorena Villanueva: Psicóloga y Facilitadora de la Asociación Ferreycorp\nJoan Girón: Filósofo y Facilitador de la Asociación Ferreycorp\n\n¡Conoce como construir el Perú que queremos!
URL:https://www.asociacionferreycorp.edu.pe/evento/el-peru-que-queremos/
CATEGORIES:Conversaciones con Expertos
ATTACH;FMTTYPE=image/png:https://static.asociacionferreycorp.edu.pe/fcsaprdasocferreycorp02/2024/10/unnamed-2.png
END:VEVENT
END:VCALENDAR