BEGIN:VCALENDAR
VERSION:2.0
PRODID:-//Asociación Ferreycorp - ECPv6.15.3//NONSGML v1.0//EN
CALSCALE:GREGORIAN
METHOD:PUBLISH
X-WR-CALNAME:Asociación Ferreycorp
X-ORIGINAL-URL:https://www.asociacionferreycorp.edu.pe
X-WR-CALDESC:Eventos para Asociación Ferreycorp
REFRESH-INTERVAL;VALUE=DURATION:PT1H
X-Robots-Tag:noindex
X-PUBLISHED-TTL:PT1H
BEGIN:VTIMEZONE
TZID:America/Lima
BEGIN:STANDARD
TZOFFSETFROM:-0500
TZOFFSETTO:-0500
TZNAME:-05
DTSTART:20240101T050000
END:STANDARD
END:VTIMEZONE
BEGIN:VEVENT
DTSTART;TZID=America/Lima:20240803T130000
DTEND;TZID=America/Lima:20240803T220000
DTSTAMP:20260424T002401
CREATED:20240725T205401Z
LAST-MODIFIED:20240725T205401Z
UID:2295-1722690000-1722722400@www.asociacionferreycorp.edu.pe
SUMMARY:Programa Impulsando Talento con Valores: UNFV
DESCRIPTION:Modalidad Presencial  \n¿Estudias en la Universidad Nacional Federico Villareal y te encuentras en los últimos ciclos de tu carrera? ¡Este programa es para ti! \nDurante 3 días presenciales (03\, 04 y 10 de agosto) podrás reforzar\, bajo metodologías participativas y lúdicas\, distintas competencias claves como adaptación al cambio\, trabajo en equipo\, gestión de emociones\, liderazgo y otras para destacar como profesional. \nConoce más aquí \n¡No te lo pierdas! Contamos con cupos gratuitos limitados. 
URL:https://www.asociacionferreycorp.edu.pe/evento/programa-impulsando-talento-con-valores-unfv/
ATTACH;FMTTYPE=image/jpeg:https://static.asociacionferreycorp.edu.pe/fcsaprdasocferreycorp02/2024/07/grupal-2.jpg
END:VEVENT
BEGIN:VEVENT
DTSTART;TZID=America/Lima:20240807T130000
DTEND;TZID=America/Lima:20240807T220000
DTSTAMP:20260424T002401
CREATED:20240725T205851Z
LAST-MODIFIED:20240725T205851Z
UID:2298-1723035600-1723068000@www.asociacionferreycorp.edu.pe
SUMMARY:Programa Impulsando Talento con Valores: UCV Trujillo
DESCRIPTION:Modalidad Presencial  \n¿Estudias en la UCV Trujillo y te encuentras en los últimos ciclos de tu carrera? ¡Este programa es para ti! \nDurante 3 días presenciales (07\, 08 y 09 de agosto) podrás reforzar\, bajo metodologías participativas y lúdicas\, distintas competencias claves como adaptación al cambio\, trabajo en equipo\, gestión de emociones\, liderazgo y otras para destacar como profesional. \nConoce más aquí \n¡No te lo pierdas! Contamos con cupos gratuitos limitados. 
URL:https://www.asociacionferreycorp.edu.pe/evento/programa-impulsando-talento-con-valores-ucv-trujillo/
ATTACH;FMTTYPE=image/jpeg:https://static.asociacionferreycorp.edu.pe/fcsaprdasocferreycorp02/2024/07/WhatsApp-Image-2024-07-17-at-11.17.58-AM-scaled.jpeg
END:VEVENT
BEGIN:VEVENT
DTSTART;TZID=America/Lima:20240807T130000
DTEND;TZID=America/Lima:20240807T220000
DTSTAMP:20260424T002401
CREATED:20240725T210431Z
LAST-MODIFIED:20240725T210431Z
UID:2302-1723035600-1723068000@www.asociacionferreycorp.edu.pe
SUMMARY:Programa Impulsando Talento con Valores: UNMSM
DESCRIPTION:Modalidad Presencial  \n¿Estudias en la UNMSM y te encuentras en los últimos ciclos de tu carrera? ¡Este programa es para ti! \nDurante 3 días presenciales (07\, 08 y 09 de agosto) podrás reforzar\, bajo metodologías participativas y lúdicas\, distintas competencias claves como adaptación al cambio\, trabajo en equipo\, gestión de emociones\, liderazgo y otras para destacar como profesional. \nConoce más aquí \n¡No te lo pierdas! Contamos con cupos gratuitos limitados. 
URL:https://www.asociacionferreycorp.edu.pe/evento/programa-impulsando-talento-con-valores-unmsm-2/
ATTACH;FMTTYPE=image/jpeg:https://static.asociacionferreycorp.edu.pe/fcsaprdasocferreycorp02/2024/07/Imagen-de-WhatsApp-2023-12-12-a-las-09.48.38_5b693664.jpg
END:VEVENT
BEGIN:VEVENT
DTSTART;TZID=America/Lima:20240807T130000
DTEND;TZID=America/Lima:20240807T220000
DTSTAMP:20260424T002401
CREATED:20240725T211208Z
LAST-MODIFIED:20240725T211208Z
UID:2305-1723035600-1723068000@www.asociacionferreycorp.edu.pe
SUMMARY:Programa Impulsando Talento con Valores: Universidad Ruiz de Montoya
DESCRIPTION:Modalidad Presencial  \n¿Estudias en la Universidad Ruiz de Montoya y te encuentras en los últimos ciclos de tu carrera? ¡Este programa es para ti! \nDurante 3 días presenciales (07\, 08 y 09 de agosto) podrás reforzar\, bajo metodologías participativas y lúdicas\, distintas competencias claves como adaptación al cambio\, trabajo en equipo\, gestión de emociones\, liderazgo y otras para destacar como profesional. \nConoce más aquí \n¡No te lo pierdas! Contamos con cupos gratuitos limitados. 
URL:https://www.asociacionferreycorp.edu.pe/evento/programa-impulsando-talento-con-valores-universidad-ruiz-de-montoya/
ATTACH;FMTTYPE=image/jpeg:https://static.asociacionferreycorp.edu.pe/fcsaprdasocferreycorp02/2024/07/IMG_6446-1.jpg
END:VEVENT
BEGIN:VEVENT
DTSTART;TZID=America/Lima:20240808T130000
DTEND;TZID=America/Lima:20240808T220000
DTSTAMP:20260424T002401
CREATED:20240725T211720Z
LAST-MODIFIED:20240725T211840Z
UID:2309-1723122000-1723154400@www.asociacionferreycorp.edu.pe
SUMMARY:Programa Impulsando Talento con Valores: UTP Chimbote
DESCRIPTION:Modalidad Presencial  \n¿Estudias en la UTP Chimbote y te encuentras en los últimos ciclos de tu carrera? ¡Este programa es para ti! \nDurante 3 días presenciales (08\, 09 y 10 de agosto) podrás reforzar\, bajo metodologías participativas y lúdicas\, distintas competencias claves como adaptación al cambio\, trabajo en equipo\, gestión de emociones\, liderazgo y otras para destacar como profesional. \nConoce más aquí \n¡No te lo pierdas! Contamos con cupos gratuitos limitados. 
URL:https://www.asociacionferreycorp.edu.pe/evento/programa-impulsando-talento-con-valores-utp-chimbote/
ATTACH;FMTTYPE=image/png:https://static.asociacionferreycorp.edu.pe/fcsaprdasocferreycorp02/2024/05/IMAGEN-AF.png
END:VEVENT
BEGIN:VEVENT
DTSTART;TZID=America/Lima:20240808T200000
DTEND;TZID=America/Lima:20240808T210000
DTSTAMP:20260424T002401
CREATED:20240802T213707Z
LAST-MODIFIED:20250214T175632Z
UID:1824-1723147200-1723150800@www.asociacionferreycorp.edu.pe
SUMMARY:Liderazgo con propósito - Mariela Garcia
DESCRIPTION:Únete a nuestra próxima secuencia de Conversaciones con Expertos junto a: \n\nMariela Garcia: Gerente General de Ferreycorp.\n\nDónde conversaremos sobre como liderar con propósito.
URL:https://www.asociacionferreycorp.edu.pe/evento/conversaciones-con-expertos-junto-a-mariela-garcia/
ATTACH;FMTTYPE=image/jpeg:https://static.asociacionferreycorp.edu.pe/fcsaprdasocferreycorp02/2024/01/WhatsApp-Image-2024-08-02-at-3.54.40-PM.jpeg
END:VEVENT
BEGIN:VEVENT
DTSTART;TZID=America/Lima:20240809T130000
DTEND;TZID=America/Lima:20240809T220000
DTSTAMP:20260424T002401
CREATED:20240725T212308Z
LAST-MODIFIED:20240725T212355Z
UID:2311-1723208400-1723240800@www.asociacionferreycorp.edu.pe
SUMMARY:Programa Impulsando Talento con Valores: UNTELS
DESCRIPTION:Modalidad Presencial  \n¿Estudias en UNTELS  y te encuentras en los últimos ciclos de tu carrera? ¡Este programa es para ti! \nDurante 3 días presenciales (09\, 10 y 11 de agosto) podrás reforzar\, bajo metodologías participativas y lúdicas\, distintas competencias claves como adaptación al cambio\, trabajo en equipo\, gestión de emociones\, liderazgo y otras para destacar como profesional. \nConoce más aquí \n¡No te lo pierdas! Contamos con cupos gratuitos limitados. 
URL:https://www.asociacionferreycorp.edu.pe/evento/programa-impulsando-talento-con-valores-untels/
ATTACH;FMTTYPE=image/jpeg:https://static.asociacionferreycorp.edu.pe/fcsaprdasocferreycorp02/2024/05/IMG_0427-1-scaled.jpeg
END:VEVENT
BEGIN:VEVENT
DTSTART;TZID=America/Lima:20240813T130000
DTEND;TZID=America/Lima:20240813T220000
DTSTAMP:20260424T002401
CREATED:20240726T164423Z
LAST-MODIFIED:20240726T164423Z
UID:2313-1723554000-1723586400@www.asociacionferreycorp.edu.pe
SUMMARY:Programa Impulsando Talento con Valores: Instituto Le Cordon Bleu
DESCRIPTION:Modalidad Presencial  \n¿Estudias en el Instituto Le Cordon Bleu y te encuentras en los últimos ciclos de tu carrera? ¡Este programa es para ti! \nDurante 3 días presenciales (13\, 14 y 15 de agosto) podrás reforzar\, bajo metodologías participativas y lúdicas\, distintas competencias claves como adaptación al cambio\, trabajo en equipo\, gestión de emociones\, liderazgo y otras para destacar como profesional. \nConoce más aquí \n¡No te lo pierdas! Contamos con cupos gratuitos limitados. 
URL:https://www.asociacionferreycorp.edu.pe/evento/programa-impulsando-talento-con-valores-instituto-le-cordon-bleu/
ATTACH;FMTTYPE=image/jpeg:https://static.asociacionferreycorp.edu.pe/fcsaprdasocferreycorp02/2024/07/IMG_1946-scaled.jpg
END:VEVENT
BEGIN:VEVENT
DTSTART;TZID=America/Lima:20240815T130000
DTEND;TZID=America/Lima:20240815T220000
DTSTAMP:20260424T002401
CREATED:20240709T141405Z
LAST-MODIFIED:20240725T205958Z
UID:2290-1723726800-1723759200@www.asociacionferreycorp.edu.pe
SUMMARY:Programa Impulsando Talento con Valores: USMP FCCTP
DESCRIPTION:Modalidad Presencial  \n¿Estudias en la USMP FCCTP y te encuentras en los últimos ciclos de tu carrera? ¡Este programa es para ti! \nDurante 3 días presenciales (15\, 16 y 17 de agosto) podrás reforzar\, bajo metodologías participativas y lúdicas\, distintas competencias claves como adaptación al cambio\, trabajo en equipo\, gestión de emociones\, liderazgo y otras para destacar como profesional. \nConoce más aquí \n¡No te lo pierdas! Contamos con cupos gratuitos limitados. 
URL:https://www.asociacionferreycorp.edu.pe/evento/programa-impulsando-talento-con-valores-usmp-fcctp-2/
ATTACH;FMTTYPE=image/jpeg:https://static.asociacionferreycorp.edu.pe/fcsaprdasocferreycorp02/2024/05/1711734917426.jpg
END:VEVENT
BEGIN:VEVENT
DTSTART;TZID=America/Lima:20240816T130000
DTEND;TZID=America/Lima:20240816T220000
DTSTAMP:20260424T002401
CREATED:20240625T210333Z
LAST-MODIFIED:20240712T192538Z
UID:2221-1723813200-1723845600@www.asociacionferreycorp.edu.pe
SUMMARY:Impulsando Talento con Valores: Edición Especial en Lima
DESCRIPTION:Modalidad Presencial  \n¿Te encuentras en los últimos ciclos de tu carrera y estudias en Lima o el Callao?\nNo puedes perderte nuestro programa donde durante 3 días en modalidad presencial reforzarás\, bajo metodologías lúdicas\, distintas competencias claves para tu desarrollo personal y profesional. \nEl programa se llevará a cabo en Lima\, Edificio Ferreycorp los días 16\, 17 y 18 de agosto. \nContamos con cupos gratuitos. ¡Conoce más aquí!  \nAdemás tendremos una charla informativa para contarte más del programa este viernes 09 de agosto a las 7 pm. ¡Regístrate gratis!
URL:https://www.asociacionferreycorp.edu.pe/evento/impulsando-talento-con-valores-edicion-especial-en-lima-3/
ATTACH;FMTTYPE=image/jpeg:https://static.asociacionferreycorp.edu.pe/fcsaprdasocferreycorp02/2024/03/IMG_2955.jpg
END:VEVENT
BEGIN:VEVENT
DTSTART;TZID=America/Lima:20240816T130000
DTEND;TZID=America/Lima:20240816T220000
DTSTAMP:20260424T002401
CREATED:20240726T164819Z
LAST-MODIFIED:20240726T164819Z
UID:2316-1723813200-1723845600@www.asociacionferreycorp.edu.pe
SUMMARY:Programa Impulsando Talento con Valores: UNACH Chota
DESCRIPTION:Modalidad Presencial  \n¿Estudias en la UNACH y te encuentras en los últimos ciclos de tu carrera? ¡Este programa es para ti! \nDurante 3 días presenciales (16\, 17 y 18 de agosto) podrás reforzar\, bajo metodologías participativas y lúdicas\, distintas competencias claves como adaptación al cambio\, trabajo en equipo\, gestión de emociones\, liderazgo y otras para destacar como profesional. \nConoce más aquí \n¡No te lo pierdas! Contamos con cupos gratuitos limitados. 
URL:https://www.asociacionferreycorp.edu.pe/evento/programa-impulsando-talento-con-valores-unach-chota/
ATTACH;FMTTYPE=image/png:https://static.asociacionferreycorp.edu.pe/fcsaprdasocferreycorp02/2024/01/02-foto-nota-af.png
END:VEVENT
BEGIN:VEVENT
DTSTART;TZID=America/Lima:20240821T130000
DTEND;TZID=America/Lima:20240821T220000
DTSTAMP:20260424T002401
CREATED:20240801T162641Z
LAST-MODIFIED:20240801T162641Z
UID:2318-1724245200-1724277600@www.asociacionferreycorp.edu.pe
SUMMARY:Programa Impulsando Talento con Valores: UNI - I
DESCRIPTION:Modalidad Presencial  \n¿Estudias en la UNI y te encuentras en los últimos ciclos de tu carrera? ¡Este programa es para ti! \nDurante 3 días presenciales (21\, 22 y 23 de agosto) podrás reforzar\, bajo metodologías participativas y lúdicas\, distintas competencias claves como adaptación al cambio\, trabajo en equipo\, gestión de emociones\, liderazgo y otras para destacar como profesional. \nConoce más aquí \n¡No te lo pierdas! Contamos con cupos gratuitos limitados. 
URL:https://www.asociacionferreycorp.edu.pe/evento/programa-impulsando-talento-con-valores-uni-i/
ATTACH;FMTTYPE=image/jpeg:https://static.asociacionferreycorp.edu.pe/fcsaprdasocferreycorp02/2024/08/IMG_3935_11zon-scaled.jpg
END:VEVENT
BEGIN:VEVENT
DTSTART;TZID=America/Lima:20240821T130000
DTEND;TZID=America/Lima:20240821T220000
DTSTAMP:20260424T002401
CREATED:20240801T163412Z
LAST-MODIFIED:20240801T163412Z
UID:2321-1724245200-1724277600@www.asociacionferreycorp.edu.pe
SUMMARY:Programa Impulsando Talento con Valores: UNI - II
DESCRIPTION:Modalidad Presencial  \n¿Estudias en la UNI y te encuentras en los últimos ciclos de tu carrera? ¡Este programa es para ti! \nDurante 3 días presenciales (21\, 22 y 23 de agosto) podrás reforzar\, bajo metodologías participativas y lúdicas\, distintas competencias claves como adaptación al cambio\, trabajo en equipo\, gestión de emociones\, liderazgo y otras para destacar como profesional. \nConoce más aquí \n¡No te lo pierdas! Contamos con cupos gratuitos limitados. 
URL:https://www.asociacionferreycorp.edu.pe/evento/programa-impulsando-talento-con-valores-uni-ii/
ATTACH;FMTTYPE=image/jpeg:https://static.asociacionferreycorp.edu.pe/fcsaprdasocferreycorp02/2024/08/IMG_3919_11zon-scaled.jpg
END:VEVENT
BEGIN:VEVENT
DTSTART;TZID=America/Lima:20240821T130000
DTEND;TZID=America/Lima:20240821T220000
DTSTAMP:20260424T002401
CREATED:20240801T163907Z
LAST-MODIFIED:20240801T163907Z
UID:2324-1724245200-1724277600@www.asociacionferreycorp.edu.pe
SUMMARY:Programa Impulsando Talento con Valores: UNI - III
DESCRIPTION:Modalidad Presencial  \n¿Estudias en la UNI y te encuentras en los últimos ciclos de tu carrera? ¡Este programa es para ti! \nDurante 3 días presenciales (21\, 22 y 23 de agosto) podrás reforzar\, bajo metodologías participativas y lúdicas\, distintas competencias claves como adaptación al cambio\, trabajo en equipo\, gestión de emociones\, liderazgo y otras para destacar como profesional. \nConoce más aquí \n¡No te lo pierdas! Contamos con cupos gratuitos limitados. 
URL:https://www.asociacionferreycorp.edu.pe/evento/programa-impulsando-talento-con-valores-uni-iii/
ATTACH;FMTTYPE=image/jpeg:https://static.asociacionferreycorp.edu.pe/fcsaprdasocferreycorp02/2024/08/IMG_4170_11zon-scaled.jpg
END:VEVENT
BEGIN:VEVENT
DTSTART;TZID=America/Lima:20240822T130000
DTEND;TZID=America/Lima:20240822T220000
DTSTAMP:20260424T002401
CREATED:20240801T181643Z
LAST-MODIFIED:20240801T181842Z
UID:2327-1724331600-1724364000@www.asociacionferreycorp.edu.pe
SUMMARY:Programa Impulsando Talento con Valores: Universidad Nacional de Piura
DESCRIPTION:Modalidad Presencial  \n¿Estudias en la Universidad Nacional de Piura y te encuentras en los últimos ciclos de tu carrera? ¡Este programa es para ti! \nDurante 3 días presenciales (22\, 23 y 24 de agosto) podrás reforzar\, bajo metodologías participativas y lúdicas\, distintas competencias claves como adaptación al cambio\, trabajo en equipo\, gestión de emociones\, liderazgo y otras para destacar como profesional. \nConoce más aquí \n¡No te lo pierdas! Contamos con cupos gratuitos limitados. 
URL:https://www.asociacionferreycorp.edu.pe/evento/programa-impulsando-talento-con-valores-universidad-nacional-de-piura/
ATTACH;FMTTYPE=image/jpeg:https://static.asociacionferreycorp.edu.pe/fcsaprdasocferreycorp02/2024/08/IMG_4637_11zon-scaled.jpg
END:VEVENT
BEGIN:VEVENT
DTSTART;TZID=America/Lima:20240823T130000
DTEND;TZID=America/Lima:20240823T220000
DTSTAMP:20260424T002401
CREATED:20240801T183734Z
LAST-MODIFIED:20240801T184625Z
UID:2330-1724418000-1724450400@www.asociacionferreycorp.edu.pe
SUMMARY:Programa Impulsando Talento con Valores: Senati Cañete
DESCRIPTION:Modalidad Presencial  \n¿Estudias en Senati Cañete y te encuentras en los últimos ciclos de tu carrera? ¡Este programa es para ti! \nDurante 3 días presenciales (23\, 24 y 25 de agosto) podrás reforzar\, bajo metodologías participativas y lúdicas\, distintas competencias claves como adaptación al cambio\, trabajo en equipo\, gestión de emociones\, liderazgo y otras para destacar como profesional. \nConoce más aquí \n¡No te lo pierdas! Contamos con cupos gratuitos limitados.
URL:https://www.asociacionferreycorp.edu.pe/evento/programa-impulsando-talento-con-valores-senati-canete/
ATTACH;FMTTYPE=image/jpeg:https://static.asociacionferreycorp.edu.pe/fcsaprdasocferreycorp02/2024/08/WhatsApp-Image-2024-06-15-at-4.09.33-PM-1.jpeg
END:VEVENT
BEGIN:VEVENT
DTSTART;TZID=America/Lima:20240826T130000
DTEND;TZID=America/Lima:20240826T220000
DTSTAMP:20260424T002401
CREATED:20240801T184342Z
LAST-MODIFIED:20240801T184342Z
UID:2333-1724677200-1724709600@www.asociacionferreycorp.edu.pe
SUMMARY:Programa Impulsando Talento con Valores: Universidad Nacional de Trujillo Sede Huamachuco
DESCRIPTION:Modalidad Presencial  \n¿Estudias en lla UNT sede Huamachuco y te encuentras en los últimos ciclos de tu carrera? ¡Este programa es para ti! \nDurante 3 días presenciales (26\, 27 y 28 de agosto) podrás reforzar\, bajo metodologías participativas y lúdicas\, distintas competencias claves como adaptación al cambio\, trabajo en equipo\, gestión de emociones\, liderazgo y otras para destacar como profesional. \nConoce más aquí \n¡No te lo pierdas! Contamos con cupos gratuitos limitados.
URL:https://www.asociacionferreycorp.edu.pe/evento/programa-impulsando-talento-con-valores-universidad-nacional-de-trujillo-sede-huamachuco/
ATTACH;FMTTYPE=image/jpeg:https://static.asociacionferreycorp.edu.pe/fcsaprdasocferreycorp02/2024/06/pexels-fauxels-3184428-1-scaled.jpg
END:VEVENT
BEGIN:VEVENT
DTSTART;TZID=America/Lima:20240829T200000
DTEND;TZID=America/Lima:20240829T210000
DTSTAMP:20260424T002401
CREATED:20240816T185348Z
LAST-MODIFIED:20250214T175622Z
UID:2343-1724961600-1724965200@www.asociacionferreycorp.edu.pe
SUMMARY:Gestión de Equipos de Alto Rendimiento - Alberto Parodi
DESCRIPTION:Únete a nuestra próxima secuencia de Conversaciones con Expertos junto a: \n\nAlberto Parodi: Gerente General de Unimaq.\n\nDónde conversaremos sobre la Gestión de Equipos de Alto Rendimiento.
URL:https://www.asociacionferreycorp.edu.pe/evento/conversaciones-con-expertos-liderazgo-con-proposito-alberto-parodi/
ATTACH;FMTTYPE=image/png:https://static.asociacionferreycorp.edu.pe/fcsaprdasocferreycorp02/2024/08/unnamed-2.png
END:VEVENT
END:VCALENDAR