BEGIN:VCALENDAR
VERSION:2.0
PRODID:-//Asociación Ferreycorp - ECPv6.15.3//NONSGML v1.0//EN
CALSCALE:GREGORIAN
METHOD:PUBLISH
X-WR-CALNAME:Asociación Ferreycorp
X-ORIGINAL-URL:https://www.asociacionferreycorp.edu.pe
X-WR-CALDESC:Eventos para Asociación Ferreycorp
REFRESH-INTERVAL;VALUE=DURATION:PT1H
X-Robots-Tag:noindex
X-PUBLISHED-TTL:PT1H
BEGIN:VTIMEZONE
TZID:America/Lima
BEGIN:STANDARD
TZOFFSETFROM:-0500
TZOFFSETTO:-0500
TZNAME:-05
DTSTART:20240101T050000
END:STANDARD
END:VTIMEZONE
BEGIN:VEVENT
DTSTART;TZID=America/Lima:20240208T200000
DTEND;TZID=America/Lima:20240208T210000
DTSTAMP:20260423T161137
CREATED:20240206T145210Z
LAST-MODIFIED:20240321T165853Z
UID:1871-1707422400-1707426000@www.asociacionferreycorp.edu.pe
SUMMARY:La importancia de la inteligencia emocional para el éxito profesional
DESCRIPTION:Únete a nuestra próxima secuencia de Zona Franca junto a: \n\nKatiuska Tacanga: Psicóloga y Facilitadora de la Asociación Ferreycorp para conversar sobre “La importancia de la inteligencia emocional en el éxito profesional.”\n\nEste evento sobre la importancia de la inteligencia emocional será de aporte para tu crecimiento profesional. \n¡No te lo pierdas!
URL:https://www.asociacionferreycorp.edu.pe/evento/la-importancia-de-la-inteligencia-emocional-para-el-exito-profesional/
CATEGORIES:Zona Franca
ATTACH;FMTTYPE=image/jpeg:https://static.asociacionferreycorp.edu.pe/fcsaprdasocferreycorp02/2024/02/arreglo-plano-diferentes-sentimientos-scaled.jpg
END:VEVENT
BEGIN:VEVENT
DTSTART;TZID=America/Lima:20240215T200000
DTEND;TZID=America/Lima:20240215T210000
DTSTAMP:20260423T161137
CREATED:20240212T152315Z
LAST-MODIFIED:20240213T213049Z
UID:1922-1708027200-1708030800@www.asociacionferreycorp.edu.pe
SUMMARY:Técnicas para mejorar la comunicación interpersonal en el entorno laboral
DESCRIPTION:Únete a nuestra próxima secuencia de Zona Franca junto a nuestra invitada: \n\nErica Shehadeh: Coach de Oratoria y Comunicación para conversar sobre “Técnicas para mejorar la comunicación interpersonal en el entorno laboral”\n\nEste evento sobre técnicas de comunicación interpersonal será de aporte para tu desarrollo profesional. \n¡No te lo pierdas!
URL:https://www.asociacionferreycorp.edu.pe/evento/tecnicas-para-mejorar-la-comunicacion-interpersonal-en-el-entorno-laboral/
CATEGORIES:Zona Franca
ATTACH;FMTTYPE=image/png:https://static.asociacionferreycorp.edu.pe/fcsaprdasocferreycorp02/2024/02/joven-presentador-hispano-explicando-plan-negocios-sus-companeros-trabajo-sala-reuniones.png
END:VEVENT
BEGIN:VEVENT
DTSTART;TZID=America/Lima:20240222T130000
DTEND;TZID=America/Lima:20240222T220000
DTSTAMP:20260423T161137
CREATED:20240207T222057Z
LAST-MODIFIED:20240222T161506Z
UID:1903-1708606800-1708639200@www.asociacionferreycorp.edu.pe
SUMMARY:Programa Ferreycorp para la Empleabilidad: UCSP Arequipa
DESCRIPTION:Modalidad Presencial  \n¿Estudias en UCSP Arequipa y te encuentras en los últimos ciclos de tu carrera? ¡Este programa es para ti!  Durante 3 días presenciales (22\, 23 y 24 de febrero) podrás reforzar\, bajo metodologías participativas y lúdicas\, distintas competencias claves para tu desarrollo personal y profesional. \nConoce más del programa aquí \n¡Pronto llegaremos a distintas universidades e institutos en todo el Perú!
URL:https://www.asociacionferreycorp.edu.pe/evento/programa-ferreycorp-para-la-empleabilidad-ucsp-arequipa-2/
ATTACH;FMTTYPE=image/png:https://static.asociacionferreycorp.edu.pe/fcsaprdasocferreycorp02/2022/10/Programa-F.-para-la-Empleabilidad.png
END:VEVENT
BEGIN:VEVENT
DTSTART;TZID=America/Lima:20240223T130000
DTEND;TZID=America/Lima:20240223T220000
DTSTAMP:20260423T161137
CREATED:20240207T222939Z
LAST-MODIFIED:20240222T161413Z
UID:1906-1708693200-1708725600@www.asociacionferreycorp.edu.pe
SUMMARY:Programa Ferreycorp para la Empleabilidad: UNAS Tingo María
DESCRIPTION:Modalidad Presencial  \n¿Estudias en UNAS Tingo María y te encuentras en los últimos ciclos de tu carrera? ¡Este programa es para ti!  Durante 3 días presenciales (23\, 24 y 25 de febrero) podrás reforzar\, bajo metodologías participativas y lúdicas\, distintas competencias claves para tu desarrollo personal y profesional. \nConoce más del programa aquí \n¡Pronto llegaremos a distintas universidades e institutos en todo el Perú!
URL:https://www.asociacionferreycorp.edu.pe/evento/programa-ferreycorp-para-la-empleabilidad-unas-tingo-maria/
ATTACH;FMTTYPE=image/png:https://static.asociacionferreycorp.edu.pe/fcsaprdasocferreycorp02/2022/10/Programa-F.-para-la-Empleabilidad.png
END:VEVENT
BEGIN:VEVENT
DTSTART;TZID=America/Lima:20240223T130000
DTEND;TZID=America/Lima:20240223T220000
DTSTAMP:20260423T161137
CREATED:20240209T173428Z
LAST-MODIFIED:20240209T173428Z
UID:1910-1708693200-1708725600@www.asociacionferreycorp.edu.pe
SUMMARY:Programa Ferreycorp para la Empleabilidad: Instituto Arzobispo Loayza
DESCRIPTION:Modalidad Presencial  \n¿Estudias en Instituto Arzobispo Loayza y te encuentras en los últimos ciclos de tu carrera? ¡Este programa es para ti!  Durante 3 días presenciales (23\, 24 y 25 de febrero) podrás reforzar\, bajo metodologías participativas y lúdicas\, distintas competencias claves para tu desarrollo personal y profesional. \n¡Pronto llegaremos a distintas universidades e institutos en todo el Perú!
URL:https://www.asociacionferreycorp.edu.pe/evento/programa-ferreycorp-para-la-empleabilidad-instituto-arzobispo-loayza/
ATTACH;FMTTYPE=image/png:https://static.asociacionferreycorp.edu.pe/fcsaprdasocferreycorp02/2022/10/Programa-F.-para-la-Empleabilidad.png
END:VEVENT
END:VCALENDAR