BEGIN:VCALENDAR
VERSION:2.0
PRODID:-//Asociación Ferreycorp - ECPv6.15.3//NONSGML v1.0//EN
CALSCALE:GREGORIAN
METHOD:PUBLISH
X-WR-CALNAME:Asociación Ferreycorp
X-ORIGINAL-URL:https://www.asociacionferreycorp.edu.pe
X-WR-CALDESC:Eventos para Asociación Ferreycorp
REFRESH-INTERVAL;VALUE=DURATION:PT1H
X-Robots-Tag:noindex
X-PUBLISHED-TTL:PT1H
BEGIN:VTIMEZONE
TZID:America/Lima
BEGIN:STANDARD
TZOFFSETFROM:-0500
TZOFFSETTO:-0500
TZNAME:-05
DTSTART:20230101T050000
END:STANDARD
END:VTIMEZONE
BEGIN:VEVENT
DTSTART;TZID=America/Lima:20231012T130000
DTEND;TZID=America/Lima:20231012T220000
DTSTAMP:20260423T104623
CREATED:20231005T011438Z
LAST-MODIFIED:20231005T011438Z
UID:1662-1697115600-1697148000@www.asociacionferreycorp.edu.pe
SUMMARY:Programa Ferreycorp para la Empleabilidad: UCV - Chiclayo
DESCRIPTION:Modalidad Presencial  \n¿Estudias en UCV – Chiclayo y te encuentras en los últimos ciclos de tu carrera? ¡Este programa es para ti!  Durante 3 días presenciales (12\, 13 y 14 de octubre) podrás reforzar\, bajo metodologías participativas y lúdicas\, distintas competencias claves para tu desarrollo personal y profesional. \nConoce más del programa aquí \n¡Pronto llegaremos a distintas universidades e institutos en todo el Perú!
URL:https://www.asociacionferreycorp.edu.pe/evento/programa-ferreycorp-para-la-empleabilidad-ucv-chiclayo/
ATTACH;FMTTYPE=image/png:https://static.asociacionferreycorp.edu.pe/fcsaprdasocferreycorp02/2022/10/Programa-F.-para-la-Empleabilidad.png
END:VEVENT
BEGIN:VEVENT
DTSTART;TZID=America/Lima:20231012T130000
DTEND;TZID=America/Lima:20231012T220000
DTSTAMP:20260423T104623
CREATED:20231005T011818Z
LAST-MODIFIED:20231005T011818Z
UID:1664-1697115600-1697148000@www.asociacionferreycorp.edu.pe
SUMMARY:Programa Ferreycorp para la Empleabilidad: UNHEVAL - Huánuco
DESCRIPTION:Modalidad Presencial  \n¿Estudias en UNHEVAL – Huánuco y te encuentras en los últimos ciclos de tu carrera? ¡Este programa es para ti!  Durante 3 días presenciales (12\, 13 y 14 de octubre) podrás reforzar\, bajo metodologías participativas y lúdicas\, distintas competencias claves para tu desarrollo personal y profesional. \nConoce más del programa aquí \n¡Pronto llegaremos a distintas universidades e institutos en todo el Perú!
URL:https://www.asociacionferreycorp.edu.pe/evento/programa-ferreycorp-para-la-empleabilidad-unheval-huanuco/
ATTACH;FMTTYPE=image/png:https://static.asociacionferreycorp.edu.pe/fcsaprdasocferreycorp02/2022/10/Programa-F.-para-la-Empleabilidad.png
END:VEVENT
BEGIN:VEVENT
DTSTART;TZID=America/Lima:20231012T200000
DTEND;TZID=America/Lima:20231012T210000
DTSTAMP:20260423T104623
CREATED:20231005T202422Z
LAST-MODIFIED:20231005T202452Z
UID:1693-1697140800-1697144400@www.asociacionferreycorp.edu.pe
SUMMARY:Gestión del tiempo
DESCRIPTION:Sé parte de nuestra próxima secuencia de Zona Franca para conversar sobre cómo sacar el máximo provecho a tus días con una buena organización y gestión del tiempo. 😉 ¡Regístrate gratis!
URL:https://www.asociacionferreycorp.edu.pe/evento/gestion-del-tiempo/
CATEGORIES:Zona Franca
ATTACH;FMTTYPE=image/png:https://static.asociacionferreycorp.edu.pe/fcsaprdasocferreycorp02/2023/10/ZONA-FRANCA-12-10-23.png
END:VEVENT
BEGIN:VEVENT
DTSTART;TZID=America/Lima:20231013T130000
DTEND;TZID=America/Lima:20231013T220000
DTSTAMP:20260423T104623
CREATED:20230925T201256Z
LAST-MODIFIED:20230925T201527Z
UID:1646-1697202000-1697234400@www.asociacionferreycorp.edu.pe
SUMMARY:Programa Ferreycorp para la Empleabilidad - Edición especial Lima
DESCRIPTION:Modalidad Presencial  \n¿Te encuentras en los últimos ciclos de tu carrera y estudias en Lima o el Callao? ¡Este programa es para ti!  Durante 3 días presenciales (13\, 24 y 15 de octubre) podrás reforzar\, bajo metodologías participativas y lúdicas\, distintas competencias claves para tu desarrollo personal y profesional. \nConoce más del programa aquí \n¡Pronto llegaremos a distintas universidades e institutos en todo el Perú!
URL:https://www.asociacionferreycorp.edu.pe/evento/programa-ferreycorp-para-la-empleabilidad-edicion-especial-lima-2/
ATTACH;FMTTYPE=image/png:https://static.asociacionferreycorp.edu.pe/fcsaprdasocferreycorp02/2022/10/Programa-F.-para-la-Empleabilidad.png
END:VEVENT
BEGIN:VEVENT
DTSTART;TZID=America/Lima:20231013T130000
DTEND;TZID=America/Lima:20231013T220000
DTSTAMP:20260423T104623
CREATED:20231005T012546Z
LAST-MODIFIED:20231005T012546Z
UID:1666-1697202000-1697234400@www.asociacionferreycorp.edu.pe
SUMMARY:Programa Ferreycorp para la Empleabilidad: UCV - Moyobamba
DESCRIPTION:Modalidad Presencial  \n¿Estudias en UCV – Moyobamba y te encuentras en los últimos ciclos de tu carrera? ¡Este programa es para ti!  Durante 3 días presenciales (13\, 14 y 15 de octubre) podrás reforzar\, bajo metodologías participativas y lúdicas\, distintas competencias claves para tu desarrollo personal y profesional. \nConoce más del programa aquí \n¡Pronto llegaremos a distintas universidades e institutos en todo el Perú!
URL:https://www.asociacionferreycorp.edu.pe/evento/programa-ferreycorp-para-la-empleabilidad-ucv-moyobamba/
ATTACH;FMTTYPE=image/png:https://static.asociacionferreycorp.edu.pe/fcsaprdasocferreycorp02/2022/10/Programa-F.-para-la-Empleabilidad.png
END:VEVENT
BEGIN:VEVENT
DTSTART;TZID=America/Lima:20231013T130000
DTEND;TZID=America/Lima:20231013T220000
DTSTAMP:20260423T104623
CREATED:20231005T013348Z
LAST-MODIFIED:20231005T013348Z
UID:1668-1697202000-1697234400@www.asociacionferreycorp.edu.pe
SUMMARY:Programa Ferreycorp para la Empleabilidad: UNEEGV - La Cantuta
DESCRIPTION:Modalidad Presencial  \n¿Estudias en UNEEGV – La Cantuta y te encuentras en los últimos ciclos de tu carrera? ¡Este programa es para ti!  Durante 3 días presenciales (13\, 14 y 15 de octubre) podrás reforzar\, bajo metodologías participativas y lúdicas\, distintas competencias claves para tu desarrollo personal y profesional. \nConoce más del programa aquí \n¡Pronto llegaremos a distintas universidades e institutos en todo el Perú!
URL:https://www.asociacionferreycorp.edu.pe/evento/programa-ferreycorp-para-la-empleabilidad-uneegv-la-cantuta/
ATTACH;FMTTYPE=image/png:https://static.asociacionferreycorp.edu.pe/fcsaprdasocferreycorp02/2022/10/Programa-F.-para-la-Empleabilidad.png
END:VEVENT
BEGIN:VEVENT
DTSTART;TZID=America/Lima:20231016T130000
DTEND;TZID=America/Lima:20231016T220000
DTSTAMP:20260423T104623
CREATED:20231005T013720Z
LAST-MODIFIED:20231005T014040Z
UID:1670-1697461200-1697493600@www.asociacionferreycorp.edu.pe
SUMMARY:Programa Ferreycorp para la Empleabilidad: UNSA - Arequipa
DESCRIPTION:Modalidad Presencial  \n¿Estudias en UNSA – Arequipa y te encuentras en los últimos ciclos de tu carrera? ¡Este programa es para ti!  Durante 5 días presenciales (16\, 17\, 18\, 19 y 20 de octubre) podrás reforzar\, bajo metodologías participativas y lúdicas\, distintas competencias claves para tu desarrollo personal y profesional. \n¡Pronto llegaremos a distintas universidades e institutos en todo el Perú!
URL:https://www.asociacionferreycorp.edu.pe/evento/programa-ferreycorp-para-la-empleabilidad-unsa-arequipa/
ATTACH;FMTTYPE=image/png:https://static.asociacionferreycorp.edu.pe/fcsaprdasocferreycorp02/2022/10/Programa-F.-para-la-Empleabilidad.png
END:VEVENT
BEGIN:VEVENT
DTSTART;TZID=America/Lima:20231016T130000
DTEND;TZID=America/Lima:20231016T220000
DTSTAMP:20260423T104623
CREATED:20231005T014008Z
LAST-MODIFIED:20231005T014008Z
UID:1672-1697461200-1697493600@www.asociacionferreycorp.edu.pe
SUMMARY:Programa Ferreycorp para la Empleabilidad: UCV - Trujillo
DESCRIPTION:Modalidad Presencial  \n¿Estudias en UCV – Trujillo y te encuentras en los últimos ciclos de tu carrera? ¡Este programa es para ti!  Durante 3 días presenciales (16\, 17 y 18 de octubre) podrás reforzar\, bajo metodologías participativas y lúdicas\, distintas competencias claves para tu desarrollo personal y profesional. \nConoce más del programa aquí \n¡Pronto llegaremos a distintas universidades e institutos en todo el Perú!
URL:https://www.asociacionferreycorp.edu.pe/evento/programa-ferreycorp-para-la-empleabilidad-ucv-trujillo/
ATTACH;FMTTYPE=image/png:https://static.asociacionferreycorp.edu.pe/fcsaprdasocferreycorp02/2022/10/Programa-F.-para-la-Empleabilidad.png
END:VEVENT
BEGIN:VEVENT
DTSTART;TZID=America/Lima:20231019T130000
DTEND;TZID=America/Lima:20231019T220000
DTSTAMP:20260423T104623
CREATED:20231005T014322Z
LAST-MODIFIED:20231005T014322Z
UID:1675-1697720400-1697752800@www.asociacionferreycorp.edu.pe
SUMMARY:Programa Ferreycorp para la Empleabilidad: UCV - Chepén
DESCRIPTION:Modalidad Presencial  \n¿Estudias en UCV – Chepén y te encuentras en los últimos ciclos de tu carrera? ¡Este programa es para ti!  Durante 3 días presenciales (19\, 20 y 21 de octubre) podrás reforzar\, bajo metodologías participativas y lúdicas\, distintas competencias claves para tu desarrollo personal y profesional. \nConoce más del programa aquí \n¡Pronto llegaremos a distintas universidades e institutos en todo el Perú!
URL:https://www.asociacionferreycorp.edu.pe/evento/programa-ferreycorp-para-la-empleabilidad-ucv-chepen/
ATTACH;FMTTYPE=image/png:https://static.asociacionferreycorp.edu.pe/fcsaprdasocferreycorp02/2022/10/Programa-F.-para-la-Empleabilidad.png
END:VEVENT
BEGIN:VEVENT
DTSTART;TZID=America/Lima:20231019T130000
DTEND;TZID=America/Lima:20231019T220000
DTSTAMP:20260423T104623
CREATED:20231005T014602Z
LAST-MODIFIED:20231005T014602Z
UID:1677-1697720400-1697752800@www.asociacionferreycorp.edu.pe
SUMMARY:Programa Ferreycorp para la Empleabilidad: UNW - Lima
DESCRIPTION:Modalidad Presencial  \n¿Estudias en UNW – Lima y te encuentras en los últimos ciclos de tu carrera? ¡Este programa es para ti!  Durante 3 días presenciales (19\, 20 y 21 de octubre) podrás reforzar\, bajo metodologías participativas y lúdicas\, distintas competencias claves para tu desarrollo personal y profesional. \nConoce más del programa aquí \n¡Pronto llegaremos a distintas universidades e institutos en todo el Perú!
URL:https://www.asociacionferreycorp.edu.pe/evento/programa-ferreycorp-para-la-empleabilidad-unw-lima/
ATTACH;FMTTYPE=image/png:https://static.asociacionferreycorp.edu.pe/fcsaprdasocferreycorp02/2022/10/Programa-F.-para-la-Empleabilidad.png
END:VEVENT
BEGIN:VEVENT
DTSTART;TZID=America/Lima:20231020T130000
DTEND;TZID=America/Lima:20231020T220000
DTSTAMP:20260423T104623
CREATED:20231005T015057Z
LAST-MODIFIED:20231005T015057Z
UID:1679-1697806800-1697839200@www.asociacionferreycorp.edu.pe
SUMMARY:Programa Ferreycorp para la Empleabilidad: SENATI - Iquitos
DESCRIPTION:Modalidad Presencial  \n¿Estudias en SENATI – Iquitos y te encuentras en los últimos ciclos de tu carrera? ¡Este programa es para ti!  Durante 3 días presenciales (20\, 21 y 22 de octubre) podrás reforzar\, bajo metodologías participativas y lúdicas\, distintas competencias claves para tu desarrollo personal y profesional. \nConoce más del programa aquí \n¡Pronto llegaremos a distintas universidades e institutos en todo el Perú!
URL:https://www.asociacionferreycorp.edu.pe/evento/programa-ferreycorp-para-la-empleabilidad-senati-iquitos-2/
ATTACH;FMTTYPE=image/png:https://static.asociacionferreycorp.edu.pe/fcsaprdasocferreycorp02/2022/10/Programa-F.-para-la-Empleabilidad.png
END:VEVENT
BEGIN:VEVENT
DTSTART;TZID=America/Lima:20231020T130000
DTEND;TZID=America/Lima:20231020T220000
DTSTAMP:20260423T104623
CREATED:20231005T015511Z
LAST-MODIFIED:20231005T015511Z
UID:1681-1697806800-1697839200@www.asociacionferreycorp.edu.pe
SUMMARY:Programa Ferreycorp para la Empleabilidad: UNJFSC - Lima
DESCRIPTION:Modalidad Presencial  \n¿Estudias en UNJFSC – Lima y te encuentras en los últimos ciclos de tu carrera? ¡Este programa es para ti!  Durante 3 días presenciales (20\, 21 y 22 de octubre) podrás reforzar\, bajo metodologías participativas y lúdicas\, distintas competencias claves para tu desarrollo personal y profesional. \nConoce más del programa aquí \n¡Pronto llegaremos a distintas universidades e institutos en todo el Perú!
URL:https://www.asociacionferreycorp.edu.pe/evento/programa-ferreycorp-para-la-empleabilidad-unjfsc-lima/
ATTACH;FMTTYPE=image/png:https://static.asociacionferreycorp.edu.pe/fcsaprdasocferreycorp02/2022/10/Programa-F.-para-la-Empleabilidad.png
END:VEVENT
BEGIN:VEVENT
DTSTART;TZID=America/Lima:20231020T130000
DTEND;TZID=America/Lima:20231020T220000
DTSTAMP:20260423T104623
CREATED:20231005T015838Z
LAST-MODIFIED:20231005T015838Z
UID:1683-1697806800-1697839200@www.asociacionferreycorp.edu.pe
SUMMARY:Programa Ferreycorp para la Empleabilidad: IESTP - Utcubamba
DESCRIPTION:Modalidad Presencial  \n¿Estudias en IESTP – Utcubamba y te encuentras en los últimos ciclos de tu carrera? ¡Este programa es para ti!  Durante 3 días presenciales (20\, 21 y 22 de octubre) podrás reforzar\, bajo metodologías participativas y lúdicas\, distintas competencias claves para tu desarrollo personal y profesional. \nConoce más del programa aquí \n¡Pronto llegaremos a distintas universidades e institutos en todo el Perú!
URL:https://www.asociacionferreycorp.edu.pe/evento/programa-ferreycorp-para-la-empleabilidad-iestp-utcubamba/
ATTACH;FMTTYPE=image/png:https://static.asociacionferreycorp.edu.pe/fcsaprdasocferreycorp02/2022/10/Programa-F.-para-la-Empleabilidad.png
END:VEVENT
BEGIN:VEVENT
DTSTART;TZID=America/Lima:20231021T130000
DTEND;TZID=America/Lima:20231021T220000
DTSTAMP:20260423T104623
CREATED:20231005T020108Z
LAST-MODIFIED:20231005T020108Z
UID:1685-1697893200-1697925600@www.asociacionferreycorp.edu.pe
SUMMARY:Programa Ferreycorp para la Empleabilidad: CETEMIN - Arequipa
DESCRIPTION:Modalidad Presencial  \n¿Estudias en CETEMIN – Arequipa y te encuentras en los últimos ciclos de tu carrera? ¡Este programa es para ti!  Durante 3 días presenciales (21\, 28 y 29 de octubre) podrás reforzar\, bajo metodologías participativas y lúdicas\, distintas competencias claves para tu desarrollo personal y profesional. \nConoce más del programa aquí \n¡Pronto llegaremos a distintas universidades e institutos en todo el Perú!
URL:https://www.asociacionferreycorp.edu.pe/evento/programa-ferreycorp-para-la-empleabilidad-cetemin-arequipa/
ATTACH;FMTTYPE=image/png:https://static.asociacionferreycorp.edu.pe/fcsaprdasocferreycorp02/2022/10/Programa-F.-para-la-Empleabilidad.png
END:VEVENT
BEGIN:VEVENT
DTSTART;TZID=America/Lima:20231026T130000
DTEND;TZID=America/Lima:20231026T220000
DTSTAMP:20260423T104623
CREATED:20231005T020707Z
LAST-MODIFIED:20231005T020815Z
UID:1687-1698325200-1698357600@www.asociacionferreycorp.edu.pe
SUMMARY:Programa Ferreycorp para la Empleabilidad: UNSCH - Huamanga
DESCRIPTION:Modalidad Presencial  \n¿Estudias en UNSCH – Huamanga y te encuentras en los últimos ciclos de tu carrera? ¡Este programa es para ti!  Durante 3 días presenciales (26\, 27 y 28 de octubre) podrás reforzar\, bajo metodologías participativas y lúdicas\, distintas competencias claves para tu desarrollo personal y profesional. \nConoce más del programa aquí \n¡Pronto llegaremos a distintas universidades e institutos en todo el Perú!
URL:https://www.asociacionferreycorp.edu.pe/evento/programa-ferreycorp-para-la-empleabilidad-unsch-huamanga/
ATTACH;FMTTYPE=image/png:https://static.asociacionferreycorp.edu.pe/fcsaprdasocferreycorp02/2022/10/Programa-F.-para-la-Empleabilidad.png
END:VEVENT
BEGIN:VEVENT
DTSTART;TZID=America/Lima:20231026T200000
DTEND;TZID=America/Lima:20231026T210000
DTSTAMP:20260423T104623
CREATED:20231018T153723Z
LAST-MODIFIED:20231018T153723Z
UID:1699-1698350400-1698354000@www.asociacionferreycorp.edu.pe
SUMMARY:Claves para una negociación exitosa
DESCRIPTION:Sé parte de nuestra próxima secuencia de Zona Franca para conversar sobre cómo liderar una negociación exitosa. 😉 ¡Regístrate gratis!
URL:https://www.asociacionferreycorp.edu.pe/evento/claves-para-una-negociacion-exitosa/
CATEGORIES:Zona Franca
ATTACH;FMTTYPE=image/png:https://static.asociacionferreycorp.edu.pe/fcsaprdasocferreycorp02/2023/10/Zona-Franca-26-09-23.png
END:VEVENT
BEGIN:VEVENT
DTSTART;TZID=America/Lima:20231027T130000
DTEND;TZID=America/Lima:20231027T220000
DTSTAMP:20260423T104623
CREATED:20231005T011052Z
LAST-MODIFIED:20231005T011052Z
UID:1660-1698411600-1698444000@www.asociacionferreycorp.edu.pe
SUMMARY:Programa Ferreycorp para la Empleabilidad: UNIFSLB - Bagua
DESCRIPTION:Modalidad Presencial  \n¿Estudias en UNIFSLB – Bagua y te encuentras en los últimos ciclos de tu carrera? ¡Este programa es para ti!  Durante 3 días presenciales (27\, 28 y 29 de octubre) podrás reforzar\, bajo metodologías participativas y lúdicas\, distintas competencias claves para tu desarrollo personal y profesional. \nConoce más del programa aquí \n¡Pronto llegaremos a distintas universidades e institutos en todo el Perú!
URL:https://www.asociacionferreycorp.edu.pe/evento/programa-ferreycorp-para-la-empleabilidad-unifslb-bagua/
ATTACH;FMTTYPE=image/png:https://static.asociacionferreycorp.edu.pe/fcsaprdasocferreycorp02/2022/10/Programa-F.-para-la-Empleabilidad.png
END:VEVENT
BEGIN:VEVENT
DTSTART;TZID=America/Lima:20231027T130000
DTEND;TZID=America/Lima:20231027T220000
DTSTAMP:20260423T104623
CREATED:20231005T021140Z
LAST-MODIFIED:20231005T021140Z
UID:1691-1698411600-1698444000@www.asociacionferreycorp.edu.pe
SUMMARY:Programa Ferreycorp para la Empleabilidad: IESTP RFA - Chiclayo
DESCRIPTION:Modalidad Presencial  \n¿Estudias en IESTP RFA – Chiclayo y te encuentras en los últimos ciclos de tu carrera? ¡Este programa es para ti!  Durante 3 días presenciales (27\, 28 y 29 de octubre) podrás reforzar\, bajo metodologías participativas y lúdicas\, distintas competencias claves para tu desarrollo personal y profesional. \nConoce más del programa aquí \n¡Pronto llegaremos a distintas universidades e institutos en todo el Perú!
URL:https://www.asociacionferreycorp.edu.pe/evento/programa-ferreycorp-para-la-empleabilidad-iestp-rfa-chiclayo/
ATTACH;FMTTYPE=image/png:https://static.asociacionferreycorp.edu.pe/fcsaprdasocferreycorp02/2022/10/Programa-F.-para-la-Empleabilidad.png
END:VEVENT
END:VCALENDAR