BEGIN:VCALENDAR
VERSION:2.0
PRODID:-//Asociación Ferreycorp - ECPv6.15.3//NONSGML v1.0//EN
CALSCALE:GREGORIAN
METHOD:PUBLISH
X-ORIGINAL-URL:https://www.asociacionferreycorp.edu.pe
X-WR-CALDESC:Eventos para Asociación Ferreycorp
REFRESH-INTERVAL;VALUE=DURATION:PT1H
X-Robots-Tag:noindex
X-PUBLISHED-TTL:PT1H
BEGIN:VTIMEZONE
TZID:America/Lima
BEGIN:STANDARD
TZOFFSETFROM:-0500
TZOFFSETTO:-0500
TZNAME:-05
DTSTART:20230101T050000
END:STANDARD
END:VTIMEZONE
BEGIN:VEVENT
DTSTART;TZID=America/Lima:20231214T200000
DTEND;TZID=America/Lima:20231214T210000
DTSTAMP:20260423T190628
CREATED:20231207T215301Z
LAST-MODIFIED:20231207T220223Z
UID:1784-1702584000-1702587600@www.asociacionferreycorp.edu.pe
SUMMARY:¡A evaluar 2023 y a soñar con el 2024!
DESCRIPTION:¿List@ para iniciar un nuevo año? Únete a Zona Franca y evalúa lo que fue tu 2023 para proyectar tu metas del 2024 ✨  ¡Regístrate gratis!
URL:https://www.asociacionferreycorp.edu.pe/evento/a-evaluar-2023-y-a-sonar-con-el-2024/
CATEGORIES:Zona Franca
ATTACH;FMTTYPE=image/png:https://static.asociacionferreycorp.edu.pe/fcsaprdasocferreycorp02/2023/12/Zona-Franca-14-12-23.png
END:VEVENT
BEGIN:VEVENT
DTSTART;TZID=America/Lima:20240125T200000
DTEND;TZID=America/Lima:20240125T210000
DTSTAMP:20260423T190628
CREATED:20240118T144426Z
LAST-MODIFIED:20240118T200359Z
UID:1825-1706212800-1706216400@www.asociacionferreycorp.edu.pe
SUMMARY:Habilidades blandas más valoradas por los empleadores
DESCRIPTION:¿Qué habilidades blandas son más valoradas en el entorno laboral? ¡Descúbrelo aquí! ✨
URL:https://www.asociacionferreycorp.edu.pe/evento/habilidades-blandas-mas-valoradas-por-los-empleadores/
CATEGORIES:Zona Franca
ATTACH;FMTTYPE=image/jpeg:https://static.asociacionferreycorp.edu.pe/fcsaprdasocferreycorp02/2024/01/WhatsApp-Image-2024-01-18-at-14.42.34.jpeg
END:VEVENT
BEGIN:VEVENT
DTSTART;TZID=America/Lima:20240208T200000
DTEND;TZID=America/Lima:20240208T210000
DTSTAMP:20260423T190628
CREATED:20240206T145210Z
LAST-MODIFIED:20240321T165853Z
UID:1871-1707422400-1707426000@www.asociacionferreycorp.edu.pe
SUMMARY:La importancia de la inteligencia emocional para el éxito profesional
DESCRIPTION:Únete a nuestra próxima secuencia de Zona Franca junto a: \n\nKatiuska Tacanga: Psicóloga y Facilitadora de la Asociación Ferreycorp para conversar sobre “La importancia de la inteligencia emocional en el éxito profesional.”\n\nEste evento sobre la importancia de la inteligencia emocional será de aporte para tu crecimiento profesional. \n¡No te lo pierdas!
URL:https://www.asociacionferreycorp.edu.pe/evento/la-importancia-de-la-inteligencia-emocional-para-el-exito-profesional/
CATEGORIES:Zona Franca
ATTACH;FMTTYPE=image/jpeg:https://static.asociacionferreycorp.edu.pe/fcsaprdasocferreycorp02/2024/02/arreglo-plano-diferentes-sentimientos-scaled.jpg
END:VEVENT
BEGIN:VEVENT
DTSTART;TZID=America/Lima:20240215T200000
DTEND;TZID=America/Lima:20240215T210000
DTSTAMP:20260423T190628
CREATED:20240212T152315Z
LAST-MODIFIED:20240213T213049Z
UID:1922-1708027200-1708030800@www.asociacionferreycorp.edu.pe
SUMMARY:Técnicas para mejorar la comunicación interpersonal en el entorno laboral
DESCRIPTION:Únete a nuestra próxima secuencia de Zona Franca junto a nuestra invitada: \n\nErica Shehadeh: Coach de Oratoria y Comunicación para conversar sobre “Técnicas para mejorar la comunicación interpersonal en el entorno laboral”\n\nEste evento sobre técnicas de comunicación interpersonal será de aporte para tu desarrollo profesional. \n¡No te lo pierdas!
URL:https://www.asociacionferreycorp.edu.pe/evento/tecnicas-para-mejorar-la-comunicacion-interpersonal-en-el-entorno-laboral/
CATEGORIES:Zona Franca
ATTACH;FMTTYPE=image/png:https://static.asociacionferreycorp.edu.pe/fcsaprdasocferreycorp02/2024/02/joven-presentador-hispano-explicando-plan-negocios-sus-companeros-trabajo-sala-reuniones.png
END:VEVENT
BEGIN:VEVENT
DTSTART;TZID=America/Lima:20240222T130000
DTEND;TZID=America/Lima:20240222T220000
DTSTAMP:20260423T190628
CREATED:20240207T222057Z
LAST-MODIFIED:20240222T161506Z
UID:1903-1708606800-1708639200@www.asociacionferreycorp.edu.pe
SUMMARY:Programa Ferreycorp para la Empleabilidad: UCSP Arequipa
DESCRIPTION:Modalidad Presencial  \n¿Estudias en UCSP Arequipa y te encuentras en los últimos ciclos de tu carrera? ¡Este programa es para ti!  Durante 3 días presenciales (22\, 23 y 24 de febrero) podrás reforzar\, bajo metodologías participativas y lúdicas\, distintas competencias claves para tu desarrollo personal y profesional. \nConoce más del programa aquí \n¡Pronto llegaremos a distintas universidades e institutos en todo el Perú!
URL:https://www.asociacionferreycorp.edu.pe/evento/programa-ferreycorp-para-la-empleabilidad-ucsp-arequipa-2/
ATTACH;FMTTYPE=image/png:https://static.asociacionferreycorp.edu.pe/fcsaprdasocferreycorp02/2022/10/Programa-F.-para-la-Empleabilidad.png
END:VEVENT
BEGIN:VEVENT
DTSTART;TZID=America/Lima:20240223T130000
DTEND;TZID=America/Lima:20240223T220000
DTSTAMP:20260423T190628
CREATED:20240207T222939Z
LAST-MODIFIED:20240222T161413Z
UID:1906-1708693200-1708725600@www.asociacionferreycorp.edu.pe
SUMMARY:Programa Ferreycorp para la Empleabilidad: UNAS Tingo María
DESCRIPTION:Modalidad Presencial  \n¿Estudias en UNAS Tingo María y te encuentras en los últimos ciclos de tu carrera? ¡Este programa es para ti!  Durante 3 días presenciales (23\, 24 y 25 de febrero) podrás reforzar\, bajo metodologías participativas y lúdicas\, distintas competencias claves para tu desarrollo personal y profesional. \nConoce más del programa aquí \n¡Pronto llegaremos a distintas universidades e institutos en todo el Perú!
URL:https://www.asociacionferreycorp.edu.pe/evento/programa-ferreycorp-para-la-empleabilidad-unas-tingo-maria/
ATTACH;FMTTYPE=image/png:https://static.asociacionferreycorp.edu.pe/fcsaprdasocferreycorp02/2022/10/Programa-F.-para-la-Empleabilidad.png
END:VEVENT
BEGIN:VEVENT
DTSTART;TZID=America/Lima:20240223T130000
DTEND;TZID=America/Lima:20240223T220000
DTSTAMP:20260423T190628
CREATED:20240209T173428Z
LAST-MODIFIED:20240209T173428Z
UID:1910-1708693200-1708725600@www.asociacionferreycorp.edu.pe
SUMMARY:Programa Ferreycorp para la Empleabilidad: Instituto Arzobispo Loayza
DESCRIPTION:Modalidad Presencial  \n¿Estudias en Instituto Arzobispo Loayza y te encuentras en los últimos ciclos de tu carrera? ¡Este programa es para ti!  Durante 3 días presenciales (23\, 24 y 25 de febrero) podrás reforzar\, bajo metodologías participativas y lúdicas\, distintas competencias claves para tu desarrollo personal y profesional. \n¡Pronto llegaremos a distintas universidades e institutos en todo el Perú!
URL:https://www.asociacionferreycorp.edu.pe/evento/programa-ferreycorp-para-la-empleabilidad-instituto-arzobispo-loayza/
ATTACH;FMTTYPE=image/png:https://static.asociacionferreycorp.edu.pe/fcsaprdasocferreycorp02/2022/10/Programa-F.-para-la-Empleabilidad.png
END:VEVENT
BEGIN:VEVENT
DTSTART;TZID=America/Lima:20240305T130000
DTEND;TZID=America/Lima:20240305T220000
DTSTAMP:20260423T190628
CREATED:20240209T174235Z
LAST-MODIFIED:20240228T152744Z
UID:1914-1709643600-1709676000@www.asociacionferreycorp.edu.pe
SUMMARY:Programa Ferreycorp para la Empleabilidad: Edición Especial en Lima
DESCRIPTION:Modalidad Presencial  \n¿Te encuentras en los últimos ciclos de tu carrera y estudias en Lima o el Callao?\nNo puedes perderte nuestro programa donde durante 3 días en modalidad presencial reforzarás\, bajo metodologías lúdicas\, distintas competencias claves para tu desarrollo personal y profesional. \nEl programa se llevará a cabo en Lima\, Edificio Ferreycorp los días 05\, 06 y 07 de marzo. \nContamos con cupos gratuitos. ¡Conoce más aquí!
URL:https://www.asociacionferreycorp.edu.pe/evento/programa-ferreycorp-para-la-empleabilidad-edicion-especial-en-lima/
ATTACH;FMTTYPE=image/png:https://static.asociacionferreycorp.edu.pe/fcsaprdasocferreycorp02/2022/10/Programa-F.-para-la-Empleabilidad.png
END:VEVENT
BEGIN:VEVENT
DTSTART;TZID=America/Lima:20240320T130000
DTEND;TZID=America/Lima:20240320T220000
DTSTAMP:20260423T190628
CREATED:20240209T174713Z
LAST-MODIFIED:20240222T161326Z
UID:1916-1710939600-1710972000@www.asociacionferreycorp.edu.pe
SUMMARY:Programa Ferreycorp para la Empleabilidad: UNI Lima
DESCRIPTION:Modalidad Presencial  \n¿Estudias en UNI Lima y te encuentras en los últimos ciclos de tu carrera? ¡Este programa es para ti!  Durante 3 días presenciales (20\, 21 y 22 de marzo) podrás reforzar\, bajo metodologías participativas y lúdicas\, distintas competencias claves para tu desarrollo personal y profesional. \nConoce más del programa aquí \n¡Pronto llegaremos a distintas universidades e institutos en todo el Perú!
URL:https://www.asociacionferreycorp.edu.pe/evento/programa-ferreycorp-para-la-empleabilidad-uni-lima/
ATTACH;FMTTYPE=image/png:https://static.asociacionferreycorp.edu.pe/fcsaprdasocferreycorp02/2022/10/Programa-F.-para-la-Empleabilidad.png
END:VEVENT
BEGIN:VEVENT
DTSTART;TZID=America/Lima:20240321T130000
DTEND;TZID=America/Lima:20240321T220000
DTSTAMP:20260423T190628
CREATED:20240209T175150Z
LAST-MODIFIED:20240305T185438Z
UID:1918-1711026000-1711058400@www.asociacionferreycorp.edu.pe
SUMMARY:Programa Ferreycorp para la Empleabilidad: USMP Lima
DESCRIPTION:Modalidad Presencial  \n¿Estudias en USMP Lima y te encuentras en los últimos ciclos de tu carrera? ¡Este programa es para ti!  Durante 3 días presenciales (20\, 21 y 22 de marzo) podrás reforzar\, bajo metodologías participativas y lúdicas\, distintas competencias claves para tu desarrollo personal y profesional. \nConoce más del programa aquí \n¡Pronto llegaremos a distintas universidades e institutos en todo el Perú!
URL:https://www.asociacionferreycorp.edu.pe/evento/programa-ferreycorp-para-la-empleabilidad-usmp-lima-2/
ATTACH;FMTTYPE=image/png:https://static.asociacionferreycorp.edu.pe/fcsaprdasocferreycorp02/2022/10/Programa-F.-para-la-Empleabilidad.png
END:VEVENT
BEGIN:VEVENT
DTSTART;TZID=America/Lima:20240321T200000
DTEND;TZID=America/Lima:20240321T210000
DTSTAMP:20260423T190628
CREATED:20240312T164528Z
LAST-MODIFIED:20240312T164644Z
UID:1989-1711051200-1711054800@www.asociacionferreycorp.edu.pe
SUMMARY:Supera las barreras de comunicación y fortalece tus relaciones profesionales
DESCRIPTION:Únete a nuestra próxima secuencia de Zona Franca junto a: \n\nLorena Villanueva: Psicóloga y facilitadora de la Asociación Ferreycorp para conversar sobre “Cómo superar las barreras de comunicación y fortalecer tus relaciones profesionales”\n\nEste evento sobre comunicación efectiva será de aporte para tu desarrollo profesional. \n¡No te lo pierdas!
URL:https://www.asociacionferreycorp.edu.pe/evento/supera-las-barreras-de-comunicacion-y-fortalece-tus-relaciones-profesionales/
CATEGORIES:Zona Franca
ATTACH;FMTTYPE=image/png:https://static.asociacionferreycorp.edu.pe/fcsaprdasocferreycorp02/2024/02/joven-presentador-hispano-explicando-plan-negocios-sus-companeros-trabajo-sala-reuniones.png
END:VEVENT
BEGIN:VEVENT
DTSTART;TZID=America/Lima:20240322T130000
DTEND;TZID=America/Lima:20240322T220000
DTSTAMP:20260423T190628
CREATED:20240305T185036Z
LAST-MODIFIED:20240305T192358Z
UID:1953-1711112400-1711144800@www.asociacionferreycorp.edu.pe
SUMMARY:Programa Impulsando Talento con Valores: TECSUP Trujillo
DESCRIPTION:Modalidad Presencial  \n¿Estudias en TECSUP Trujillo y te encuentras en los últimos ciclos de tu carrera? ¡Este programa es para ti! \nurante 3 días presenciales (22\, 23 y 24 de marzo) podrás reforzar\, bajo metodologías participativas y lúdicas\, distintas competencias claves para tu desarrollo personal y profesional. \nConoce más del programa aquí \n¡Pronto llegaremos a distintas universidades e institutos en todo el Perú!
URL:https://www.asociacionferreycorp.edu.pe/evento/programa-ferreycorp-para-la-empleabilidad-tecsup-trujillo-3/
ATTACH;FMTTYPE=image/png:https://static.asociacionferreycorp.edu.pe/fcsaprdasocferreycorp02/2023/01/123.png
END:VEVENT
BEGIN:VEVENT
DTSTART;TZID=America/Lima:20240325T130000
DTEND;TZID=America/Lima:20240325T220000
DTSTAMP:20260423T190628
CREATED:20240305T190710Z
LAST-MODIFIED:20240305T192026Z
UID:1955-1711371600-1711404000@www.asociacionferreycorp.edu.pe
SUMMARY:Programa Impulsando Talento con Valores: UNALM
DESCRIPTION:Modalidad Presencial  \n¿Estudias en UNALM y te encuentras en los últimos ciclos de tu carrera? ¡Este programa es para ti! \nDurante 3 días presenciales (25\, 26 y 27 de marzo) podrás reforzar\, bajo metodologías participativas y lúdicas\, distintas competencias claves para tu desarrollo personal y profesional. \nConoce más del programa aquí \n¡Pronto llegaremos a distintas universidades e institutos en todo el Perú!
URL:https://www.asociacionferreycorp.edu.pe/evento/programa-ferreycorp-para-la-empleabilidad-unalm/
ATTACH;FMTTYPE=image/png:https://static.asociacionferreycorp.edu.pe/fcsaprdasocferreycorp02/2022/10/2003.png
END:VEVENT
BEGIN:VEVENT
DTSTART;TZID=America/Lima:20240325T130000
DTEND;TZID=America/Lima:20240325T220000
DTSTAMP:20260423T190628
CREATED:20240305T193136Z
LAST-MODIFIED:20240305T195942Z
UID:1963-1711371600-1711404000@www.asociacionferreycorp.edu.pe
SUMMARY:Programa Impulsando Talento con Valores: UCH
DESCRIPTION:Modalidad Presencial  \n¿Estudias en UCH y te encuentras en los últimos ciclos de tu carrera? ¡Este programa es para ti! \nDurante 3 días presenciales (25\, 26 y 27 de marzo) podrás reforzar\, bajo metodologías participativas y lúdicas\, distintas competencias claves para tu desarrollo personal y profesional. \nConoce más del programa aquí \n¡Pronto llegaremos a distintas universidades e institutos en todo el Perú!
URL:https://www.asociacionferreycorp.edu.pe/evento/programa-impulsando-talento-con-valores-uch/
ATTACH;FMTTYPE=image/png:https://static.asociacionferreycorp.edu.pe/fcsaprdasocferreycorp02/2024/03/Foto-programa-1.png
END:VEVENT
BEGIN:VEVENT
DTSTART;TZID=America/Lima:20240404T130000
DTEND;TZID=America/Lima:20240404T220000
DTSTAMP:20260423T190628
CREATED:20240325T211718Z
LAST-MODIFIED:20240325T211718Z
UID:2006-1712235600-1712268000@www.asociacionferreycorp.edu.pe
SUMMARY:Programa Impulsando Talento con Valores: USAT Chiclayo
DESCRIPTION:Modalidad Presencial  \n¿Estudias en USAT Chiclayo y te encuentras en los últimos ciclos de tu carrera? ¡Este programa es para ti! \nDurante 3 días presenciales (04\, 05 y 06 de abril) podrás reforzar\, bajo metodologías participativas y lúdicas\, distintas competencias claves para tu desarrollo personal y profesional. \nConoce más del programa aquí \n¡Pronto llegaremos a distintas universidades e institutos en todo el Perú!
URL:https://www.asociacionferreycorp.edu.pe/evento/programa-impulsando-talento-con-valores-usat-chiclayo/
ATTACH;FMTTYPE=image/png:https://static.asociacionferreycorp.edu.pe/fcsaprdasocferreycorp02/2024/03/Foto-programa-1.png
END:VEVENT
BEGIN:VEVENT
DTSTART;TZID=America/Lima:20240411T200000
DTEND;TZID=America/Lima:20240411T210000
DTSTAMP:20260423T190628
CREATED:20240404T211204Z
LAST-MODIFIED:20240404T212528Z
UID:2034-1712865600-1712869200@www.asociacionferreycorp.edu.pe
SUMMARY:Habilidades técnicas y blandas: Un enfoque complementario
DESCRIPTION:Únete a nuestra próxima secuencia de Zona Franca junto a: \n\nMichelle Carrasco: Psicóloga y facilitadora de la Asociación Ferreycorp para conversar sobre cómo podemos complementar las habilidades técnicas y blandas para destacar en el mundo laboral.\n\n¡No te lo pierdas!
URL:https://www.asociacionferreycorp.edu.pe/evento/habilidades-tecnicas-y-blandas-un-enfoque-complementario/
CATEGORIES:Zona Franca
ATTACH;FMTTYPE=image/png:https://static.asociacionferreycorp.edu.pe/fcsaprdasocferreycorp02/2024/02/joven-presentador-hispano-explicando-plan-negocios-sus-companeros-trabajo-sala-reuniones.png
END:VEVENT
BEGIN:VEVENT
DTSTART;TZID=America/Lima:20240412T130000
DTEND;TZID=America/Lima:20240412T220000
DTSTAMP:20260423T190628
CREATED:20240325T212329Z
LAST-MODIFIED:20240325T212329Z
UID:2008-1712926800-1712959200@www.asociacionferreycorp.edu.pe
SUMMARY:Programa Impulsando Talento con Valores: SENATI Arequipa
DESCRIPTION:Modalidad Presencial  \n¿Estudias en SENATI Arequipa y te encuentras en los últimos ciclos de tu carrera? ¡Este programa es para ti! \nDurante 3 días presenciales (12\, 13 y 14 de abril) podrás reforzar\, bajo metodologías participativas y lúdicas\, distintas competencias claves para tu desarrollo personal y profesional. \nConoce más del programa aquí \n¡Pronto llegaremos a distintas universidades e institutos en todo el Perú!
URL:https://www.asociacionferreycorp.edu.pe/evento/programa-impulsando-talento-con-valores-senati-arequipa/
ATTACH;FMTTYPE=image/png:https://static.asociacionferreycorp.edu.pe/fcsaprdasocferreycorp02/2024/01/02-foto-nota-af.png
END:VEVENT
BEGIN:VEVENT
DTSTART;TZID=America/Lima:20240419T130000
DTEND;TZID=America/Lima:20240419T220000
DTSTAMP:20260423T190628
CREATED:20240325T212819Z
LAST-MODIFIED:20240325T212819Z
UID:2010-1713531600-1713564000@www.asociacionferreycorp.edu.pe
SUMMARY:Programa Impulsando Talento con Valores: UPT Tacna
DESCRIPTION:Modalidad Presencial  \n¿Estudias en UPT Tacna y te encuentras en los últimos ciclos de tu carrera? ¡Este programa es para ti! \nDurante 3 días presenciales (19\, 20 y 21 de abril) podrás reforzar\, bajo metodologías participativas y lúdicas\, distintas competencias claves para tu desarrollo personal y profesional. \nConoce más del programa aquí \n¡Pronto llegaremos a distintas universidades e institutos en todo el Perú!
URL:https://www.asociacionferreycorp.edu.pe/evento/programa-impulsando-talento-con-valores-upt-tacna/
ATTACH;FMTTYPE=image/png:https://static.asociacionferreycorp.edu.pe/fcsaprdasocferreycorp02/2023/01/123.png
END:VEVENT
BEGIN:VEVENT
DTSTART;TZID=America/Lima:20240419T130000
DTEND;TZID=America/Lima:20240419T220000
DTSTAMP:20260423T190628
CREATED:20240325T214826Z
LAST-MODIFIED:20240325T214826Z
UID:2016-1713531600-1713564000@www.asociacionferreycorp.edu.pe
SUMMARY:Programa Impulsando Talento con Valores: SENATI Juliaca
DESCRIPTION:Modalidad Presencial  \n¿Estudias en SENATI Juliaca  y te encuentras en los últimos ciclos de tu carrera? ¡Este programa es para ti! \nDurante 3 días presenciales (19\, 20 y 21 de abril) podrás reforzar\, bajo metodologías participativas y lúdicas\, distintas competencias claves para tu desarrollo personal y profesional. \nConoce más del programa aquí \n¡Pronto llegaremos a distintas universidades e institutos en todo el Perú!
URL:https://www.asociacionferreycorp.edu.pe/evento/programa-impulsando-talento-con-valores-senati-juliaca/
ATTACH;FMTTYPE=image/jpeg:https://static.asociacionferreycorp.edu.pe/fcsaprdasocferreycorp02/2024/03/IMG_2955.jpg
END:VEVENT
BEGIN:VEVENT
DTSTART;TZID=America/Lima:20240419T130000
DTEND;TZID=America/Lima:20240419T220000
DTSTAMP:20260423T190628
CREATED:20240325T215914Z
LAST-MODIFIED:20240325T215914Z
UID:2021-1713531600-1713564000@www.asociacionferreycorp.edu.pe
SUMMARY:Programa Impulsando Talento con Valores: UNALM
DESCRIPTION:Modalidad Presencial  \n¿Estudias en UNALM  y te encuentras en los últimos ciclos de tu carrera? ¡Este programa es para ti! \nDurante 3 días presenciales (19\, 20 y 21 de abril) podrás reforzar\, bajo metodologías participativas y lúdicas\, distintas competencias claves para tu desarrollo personal y profesional. \nConoce más del programa aquí \n¡Pronto llegaremos a distintas universidades e institutos en todo el Perú!
URL:https://www.asociacionferreycorp.edu.pe/evento/programa-impulsando-talento-con-valores-unalm/
ATTACH;FMTTYPE=image/png:https://static.asociacionferreycorp.edu.pe/fcsaprdasocferreycorp02/2022/10/2003.png
END:VEVENT
BEGIN:VEVENT
DTSTART;TZID=America/Lima:20240419T130000
DTEND;TZID=America/Lima:20240419T220000
DTSTAMP:20260423T190628
CREATED:20240408T171226Z
LAST-MODIFIED:20240408T171226Z
UID:2046-1713531600-1713564000@www.asociacionferreycorp.edu.pe
SUMMARY:Programa Impulsando Talento con Valores:  IESRFA Chiclayo
DESCRIPTION:Modalidad Presencial  \n¿Estudias en IESRFA Chiclayo  y te encuentras en los últimos ciclos de tu carrera? ¡Este programa es para ti! \nDurante 3 días presenciales (19\, 20 y 21 de abril) podrás reforzar\, bajo metodologías participativas y lúdicas\, distintas competencias claves para tu desarrollo personal y profesional. \nConoce más del programa aquí \n¡Pronto llegaremos a distintas universidades e institutos en todo el Perú!
URL:https://www.asociacionferreycorp.edu.pe/evento/programa-impulsando-talento-con-valores-iesrfa-chiclayo-2/
ATTACH;FMTTYPE=image/png:https://static.asociacionferreycorp.edu.pe/fcsaprdasocferreycorp02/2024/03/Foto-programa-1.png
END:VEVENT
BEGIN:VEVENT
DTSTART;TZID=America/Lima:20240424T130000
DTEND;TZID=America/Lima:20240424T220000
DTSTAMP:20260423T190628
CREATED:20240325T213317Z
LAST-MODIFIED:20240325T215350Z
UID:2012-1713963600-1713996000@www.asociacionferreycorp.edu.pe
SUMMARY:Programa Impulsando Talento con Valores: UNITRU
DESCRIPTION:Modalidad Presencial  \n¿Estudias en UNITRU y te encuentras en los últimos ciclos de tu carrera? ¡Este programa es para ti! \nDurante 3 días presenciales (24\, 25 Y 26 de abril) podrás reforzar\, bajo metodologías participativas y lúdicas\, distintas competencias claves para tu desarrollo personal y profesional. \nConoce más del programa aquí \n¡Pronto llegaremos a distintas universidades e institutos en todo el Perú!
URL:https://www.asociacionferreycorp.edu.pe/evento/programa-impulsando-talento-con-valores-unitru/
ATTACH;FMTTYPE=image/png:https://static.asociacionferreycorp.edu.pe/fcsaprdasocferreycorp02/2022/10/2003.png
END:VEVENT
BEGIN:VEVENT
DTSTART;TZID=America/Lima:20240424T130000
DTEND;TZID=America/Lima:20240424T220000
DTSTAMP:20260423T190628
CREATED:20240408T172615Z
LAST-MODIFIED:20240408T172835Z
UID:2048-1713963600-1713996000@www.asociacionferreycorp.edu.pe
SUMMARY:Programa Impulsando Talento con Valores:  ESAN
DESCRIPTION:Modalidad Presencial  \n¿Estudias en ESAN  y te encuentras en los últimos ciclos de tu carrera? ¡Este programa es para ti! \nDurante 3 días presenciales (24\, 25 y 26 de abril) podrás reforzar\, bajo metodologías participativas y lúdicas\, distintas competencias claves para tu desarrollo personal y profesional. \nConoce más del programa aquí \n¡Pronto llegaremos a distintas universidades e institutos en todo el Perú!
URL:https://www.asociacionferreycorp.edu.pe/evento/programa-impulsando-talento-con-valores-esan/
ATTACH;FMTTYPE=image/jpeg:https://static.asociacionferreycorp.edu.pe/fcsaprdasocferreycorp02/2024/01/Sin-titulo-1.jpg
END:VEVENT
BEGIN:VEVENT
DTSTART;TZID=America/Lima:20240425T200000
DTEND;TZID=America/Lima:20240425T210000
DTSTAMP:20260423T190628
CREATED:20240405T215317Z
LAST-MODIFIED:20240416T155227Z
UID:2040-1714075200-1714078800@www.asociacionferreycorp.edu.pe
SUMMARY:Competencias que potencian tu empleabilidad
DESCRIPTION:Únete a nuestra próxima secuencia de Zona Franca junto a: \n\nJuly Chávez: Psicóloga y facilitadora de la Asociación Ferreycorp para conversar sobre las competencias que debemos trabajar para mejorar nuestra empleabilidad.\n\n¡No te lo pierdas!
URL:https://www.asociacionferreycorp.edu.pe/evento/competencias-para-la-empleabilidad/
CATEGORIES:Zona Franca
ATTACH;FMTTYPE=image/jpeg:https://static.asociacionferreycorp.edu.pe/fcsaprdasocferreycorp02/2024/01/WhatsApp-Image-2024-01-18-at-14.42.34.jpeg
END:VEVENT
BEGIN:VEVENT
DTSTART;TZID=America/Lima:20240426T130000
DTEND;TZID=America/Lima:20240426T220000
DTSTAMP:20260423T190628
CREATED:20240408T173523Z
LAST-MODIFIED:20240408T173523Z
UID:2051-1714136400-1714168800@www.asociacionferreycorp.edu.pe
SUMMARY:Programa Impulsando Talento con Valores: CETEMIN Chosica
DESCRIPTION:Modalidad Presencial  \n¿Estudias en CETEMIN Chosica y te encuentras en los últimos ciclos de tu carrera? ¡Este programa es para ti! \nDurante 3 días presenciales (26\, 27 y 28 de abril) podrás reforzar\, bajo metodologías participativas y lúdicas\, distintas competencias claves para tu desarrollo personal y profesional. \nConoce más del programa aquí \n¡Pronto llegaremos a distintas universidades e institutos en todo el Perú!
URL:https://www.asociacionferreycorp.edu.pe/evento/programa-impulsando-talento-con-valores-cetemin-chosica/
ATTACH;FMTTYPE=image/jpeg:https://static.asociacionferreycorp.edu.pe/fcsaprdasocferreycorp02/2024/01/Sin-titulo-1.jpg
END:VEVENT
BEGIN:VEVENT
DTSTART;TZID=America/Lima:20240502T130000
DTEND;TZID=America/Lima:20240502T220000
DTSTAMP:20260423T190628
CREATED:20240423T160137Z
LAST-MODIFIED:20240423T160252Z
UID:2065-1714654800-1714687200@www.asociacionferreycorp.edu.pe
SUMMARY:Programa Impulsando Talento con Valores: UPAO
DESCRIPTION:Modalidad Presencial  \n¿Estudias en UPAO y te encuentras en los últimos ciclos de tu carrera? ¡Este programa es para ti! \nDurante 3 días presenciales (02\, 03 y 04 de mayo) podrás reforzar\, bajo metodologías participativas y lúdicas\, reforzar tus valores y distintas competencias claves como adaptación al cambio\, trabajo en equipo\, gestión de emociones\, liderazgo y otras para destacar como profesional. \n¡No te lo pierdas!
URL:https://www.asociacionferreycorp.edu.pe/evento/programa-impulsando-talento-con-valores-upao/
ATTACH;FMTTYPE=image/png:https://static.asociacionferreycorp.edu.pe/fcsaprdasocferreycorp02/2024/03/Foto-programa-1.png
END:VEVENT
BEGIN:VEVENT
DTSTART;TZID=America/Lima:20240503T130000
DTEND;TZID=America/Lima:20240503T220000
DTSTAMP:20260423T190628
CREATED:20240402T155905Z
LAST-MODIFIED:20240423T151606Z
UID:2027-1714741200-1714773600@www.asociacionferreycorp.edu.pe
SUMMARY:Impulsando Talento con Valores: Edición Especial en Lima
DESCRIPTION:Modalidad Presencial  \n¿Te encuentras en los últimos ciclos de tu carrera y estudias en Lima o el Callao?\nNo puedes perderte nuestro programa donde durante 3 días en modalidad presencial reforzarás\, bajo metodologías lúdicas\, distintas competencias claves para tu desarrollo personal y profesional. \nEl programa se llevará a cabo en Lima\, Edificio Ferreycorp los días 03\, 04 y 05 de mayo. \nContamos con cupos gratuitos. ¡Conoce más aquí!  \nAdemás tendremos una charla informativa para contarte más del programa este lunes 22 de abril a las 7 pm. ¡Regístrate gratis!
URL:https://www.asociacionferreycorp.edu.pe/evento/impulsando-talento-con-valores-edicion-especial-en-lima/
ATTACH;FMTTYPE=image/jpeg:https://static.asociacionferreycorp.edu.pe/fcsaprdasocferreycorp02/2024/03/IMG_2955.jpg
END:VEVENT
BEGIN:VEVENT
DTSTART;TZID=America/Lima:20240503T130000
DTEND;TZID=America/Lima:20240503T220000
DTSTAMP:20260423T190628
CREATED:20240409T140943Z
LAST-MODIFIED:20240409T141045Z
UID:2053-1714741200-1714773600@www.asociacionferreycorp.edu.pe
SUMMARY:Programa Impulsando Talento con Valores: PUCP
DESCRIPTION:Modalidad Presencial  \n¿Estudias en PUCP y te encuentras en los últimos ciclos de tu carrera? ¡Este programa es para ti! \nDurante 3 días presenciales (03\, 04 y 05 de mayo) podrás reforzar\, bajo metodologías participativas y lúdicas\, distintas competencias claves para tu desarrollo personal y profesional. \nConoce más del programa aquí \n¡Pronto llegaremos a distintas universidades e institutos en todo el Perú!
URL:https://www.asociacionferreycorp.edu.pe/evento/programa-impulsando-talento-con-valores-pucp/
ATTACH;FMTTYPE=image/jpeg:https://static.asociacionferreycorp.edu.pe/fcsaprdasocferreycorp02/2024/03/IMG_2955.jpg
END:VEVENT
BEGIN:VEVENT
DTSTART;TZID=America/Lima:20240503T130000
DTEND;TZID=America/Lima:20240503T220000
DTSTAMP:20260423T190628
CREATED:20240423T161404Z
LAST-MODIFIED:20240423T161757Z
UID:2067-1714741200-1714773600@www.asociacionferreycorp.edu.pe
SUMMARY:Programa Impulsando Talento con Valores: UTP Arequipa
DESCRIPTION:Modalidad Presencial  \n¿Estudias en UTP Arequipa y te encuentras en los últimos ciclos de tu carrera? ¡Este programa es para ti! \nDurante 3 días presenciales (03\, 04 y 05 de mayo) podrás reforzar\, bajo metodologías participativas y lúdicas\, distintas competencias claves para tu desarrollo personal y profesional. \nConoce más del programa aquí \n¡No te lo pierdas! Contamos con cupos gratuitos limitados. 
URL:https://www.asociacionferreycorp.edu.pe/evento/programa-impulsando-talento-con-valores-utp-arequipa/
ATTACH;FMTTYPE=image/png:https://static.asociacionferreycorp.edu.pe/fcsaprdasocferreycorp02/2024/01/02-foto-nota-af.png
END:VEVENT
BEGIN:VEVENT
DTSTART;TZID=America/Lima:20240503T130000
DTEND;TZID=America/Lima:20240503T220000
DTSTAMP:20260423T190628
CREATED:20240423T162320Z
LAST-MODIFIED:20240423T162320Z
UID:2069-1714741200-1714773600@www.asociacionferreycorp.edu.pe
SUMMARY:Programa Impulsando Talento con Valores: UNE La Cantuta
DESCRIPTION:Modalidad Presencial  \n¿Estudias en UNE La Cantuta y te encuentras en los últimos ciclos de tu carrera? ¡Este programa es para ti! \nDurante 3 días presenciales (03\, 04 y 05 de mayo) podrás reforzar\, bajo metodologías participativas y lúdicas\, distintas competencias claves como adaptación al cambio\, trabajo en equipo\, gestión de emociones\, liderazgo y otras para destacar como profesional. \n¡No te lo pierdas! Contamos con cupos gratuitos limitados. 
URL:https://www.asociacionferreycorp.edu.pe/evento/programa-impulsando-talento-con-valores-une-la-cantuta/
ATTACH;FMTTYPE=image/png:https://static.asociacionferreycorp.edu.pe/fcsaprdasocferreycorp02/2024/01/03-foto-nota-af-659ecc6fb813b.png
END:VEVENT
END:VCALENDAR