BEGIN:VCALENDAR
VERSION:2.0
PRODID:-//Asociación Ferreycorp - ECPv6.15.3//NONSGML v1.0//EN
CALSCALE:GREGORIAN
METHOD:PUBLISH
X-WR-CALNAME:Asociación Ferreycorp
X-ORIGINAL-URL:https://www.asociacionferreycorp.edu.pe
X-WR-CALDESC:Eventos para Asociación Ferreycorp
REFRESH-INTERVAL;VALUE=DURATION:PT1H
X-Robots-Tag:noindex
X-PUBLISHED-TTL:PT1H
BEGIN:VTIMEZONE
TZID:America/Lima
BEGIN:STANDARD
TZOFFSETFROM:-0500
TZOFFSETTO:-0500
TZNAME:-05
DTSTART:20230101T050000
END:STANDARD
END:VTIMEZONE
BEGIN:VEVENT
DTSTART;TZID=America/Lima:20230118T203000
DTEND;TZID=America/Lima:20230118T210000
DTSTAMP:20260422T180104
CREATED:20230104T172655Z
LAST-MODIFIED:20240708T212501Z
UID:1198-1674073800-1674075600@www.asociacionferreycorp.edu.pe
SUMMARY:Automotivación: ¿Qué es y cómo potenciarla?
DESCRIPTION:No dejes de asistir a esta interesante secuencia de Zona Franca donde aprenderás sobre la automotivación y cómo potenciarla para alcanzar lo que te propongas. 😉
URL:https://www.asociacionferreycorp.edu.pe/evento/automotivacion-que-es-y-como-potenciarla/
CATEGORIES:Zona Franca
ATTACH;FMTTYPE=image/png:https://static.asociacionferreycorp.edu.pe/fcsaprdasocferreycorp02/2022/10/ZF.png
END:VEVENT
BEGIN:VEVENT
DTSTART;TZID=America/Lima:20230125T203000
DTEND;TZID=America/Lima:20230125T210000
DTSTAMP:20260422T180104
CREATED:20230104T010209Z
LAST-MODIFIED:20230120T194238Z
UID:1169-1674678600-1674680400@www.asociacionferreycorp.edu.pe
SUMMARY:Consejos para planificar tu tiempo de estudio.
DESCRIPTION:No dejes de asistir a esta interesante secuencia de Zona Franca donde aprenderás sobre cómo planificar tu tiempo de estudio.
URL:https://www.asociacionferreycorp.edu.pe/evento/zona-franca-consejos-para-planificar-tu-tiempo-de-estudio/
CATEGORIES:Zona Franca
ATTACH;FMTTYPE=image/png:https://static.asociacionferreycorp.edu.pe/fcsaprdasocferreycorp02/2023/01/Imagen1-63b875523868d.png
END:VEVENT
BEGIN:VEVENT
DTSTART;TZID=America/Lima:20230208T203000
DTEND;TZID=America/Lima:20230208T210000
DTSTAMP:20260422T180104
CREATED:20230203T175442Z
LAST-MODIFIED:20230203T180215Z
UID:1306-1675888200-1675890000@www.asociacionferreycorp.edu.pe
SUMMARY:Tips para potenciar tu red de contactos.
DESCRIPTION:No dejes de asistir a esta interesante secuencia de Zona Franca donde te compartiremos distintos consejos para gestionar de forma óptima tu red de contactos.  ¡Regístrate gratis!
URL:https://www.asociacionferreycorp.edu.pe/evento/tips-para-potenciar-tu-red-de-contactos/
CATEGORIES:Zona Franca
ATTACH;FMTTYPE=image/png:https://static.asociacionferreycorp.edu.pe/fcsaprdasocferreycorp02/2023/01/Zona-Franca-08-02-23.png
END:VEVENT
BEGIN:VEVENT
DTSTART;TZID=America/Lima:20230218T203000
DTEND;TZID=America/Lima:20230218T210000
DTSTAMP:20260422T180104
CREATED:20230203T175551Z
LAST-MODIFIED:20230217T193906Z
UID:1312-1676752200-1676754000@www.asociacionferreycorp.edu.pe
SUMMARY:Manejo de redes sociales para la empleabilidad.
DESCRIPTION:Sé parte de nuestra próxima secuencia de Zona Franca donde te compartiremos sobre cómo gestionar tus redes sociales para la empleabilidad.  ¡Regístrate gratis!
URL:https://www.asociacionferreycorp.edu.pe/evento/manejo-de-redes-sociales-para-la-empleabilidad/
CATEGORIES:Zona Franca
ATTACH;FMTTYPE=image/png:https://static.asociacionferreycorp.edu.pe/fcsaprdasocferreycorp02/2023/01/Zona-Franca-15-02-23.png
END:VEVENT
BEGIN:VEVENT
DTSTART;TZID=America/Lima:20230322T203000
DTEND;TZID=America/Lima:20230322T210000
DTSTAMP:20260422T180104
CREATED:20230307T192558Z
LAST-MODIFIED:20230307T192558Z
UID:1377-1679517000-1679518800@www.asociacionferreycorp.edu.pe
SUMMARY:Aprendizaje Autónomo
DESCRIPTION:Sé parte de nuestra próxima secuencia de Zona Franca donde te compartiremos distintas formas de potenciar tu capacidad para aprender de manera autónoma. ¡Regístrate gratis!
URL:https://www.asociacionferreycorp.edu.pe/evento/aprendizaje-autonomo/
CATEGORIES:Zona Franca
ATTACH;FMTTYPE=image/png:https://static.asociacionferreycorp.edu.pe/fcsaprdasocferreycorp02/2023/03/Zona-Franca-22-03-23.png
END:VEVENT
BEGIN:VEVENT
DTSTART;TZID=America/Lima:20230330T130000
DTEND;TZID=America/Lima:20230330T220000
DTSTAMP:20260422T180104
CREATED:20230307T204355Z
LAST-MODIFIED:20230329T141930Z
UID:1395-1680181200-1680213600@www.asociacionferreycorp.edu.pe
SUMMARY:Programa Ferreycorp para la Empleabilidad - Tecsup Trujillo
DESCRIPTION:Modalidad Presencial  \n¿Estudias en Tecsup Trujillo y te encuentras en los últimos ciclos de tu carrera? ¡Este programa es para ti!  Durante 3 días presenciales (30\, 31 de marzo y 01 de abril) podrás reforzar\, bajo metodologías participativas y lúdicas\, distintas competencias claves para tu desarrollo personal y profesional. \n📌Conoce más en la charla virtual informativa este lunes 27 de marzo a las 7 p.m. \n*Si eres estudiante de otra universidad o instituto\, te invitamos a seguirnos en redes sociales y conocer más novedades. ¡Pronto estaremos realizando este programa en distintas universidades e institutos a nivel nacional!
URL:https://www.asociacionferreycorp.edu.pe/evento/programa-ferreycorp-para-la-empleabilidad-tecsup-trujillo/
END:VEVENT
BEGIN:VEVENT
DTSTART;TZID=America/Lima:20230419T203000
DTEND;TZID=America/Lima:20230419T210000
DTSTAMP:20260422T180104
CREATED:20230411T164730Z
LAST-MODIFIED:20230411T165337Z
UID:1479-1681936200-1681938000@www.asociacionferreycorp.edu.pe
SUMMARY:Recomendaciones para manejar situaciones críticas
DESCRIPTION:Sé parte de nuestra próxima secuencia de Zona Franca donde te compartiremos algunos tips para manejar situaciones críticas. ¡Regístrate gratis!
URL:https://www.asociacionferreycorp.edu.pe/evento/recomendaciones-para-manejar-situaciones-criticas/
CATEGORIES:Zona Franca
ATTACH;FMTTYPE=image/png:https://static.asociacionferreycorp.edu.pe/fcsaprdasocferreycorp02/2023/04/ZF-19-04-23.png
END:VEVENT
BEGIN:VEVENT
DTSTART;TZID=America/Lima:20230510T203000
DTEND;TZID=America/Lima:20230510T210000
DTSTAMP:20260422T180104
CREATED:20230502T203716Z
LAST-MODIFIED:20230502T204408Z
UID:1487-1683750600-1683752400@www.asociacionferreycorp.edu.pe
SUMMARY:Estudiar y trabajar\, ¿cómo equilibrar ambas áreas?
DESCRIPTION:Sé parte de nuestra próxima secuencia de Zona Franca donde te compartiremos sobre  cómo equilibrar tu rutina entre el estudio y el trabajo. ¡Regístrate gratis!
URL:https://www.asociacionferreycorp.edu.pe/evento/estudiar-y-trabajar-como-equilibrar-ambas-areas/
CATEGORIES:Zona Franca
END:VEVENT
BEGIN:VEVENT
DTSTART;TZID=America/Lima:20230525T203000
DTEND;TZID=America/Lima:20230525T210000
DTSTAMP:20260422T180104
CREATED:20230502T204304Z
LAST-MODIFIED:20230515T160219Z
UID:1492-1685046600-1685048400@www.asociacionferreycorp.edu.pe
SUMMARY:Herramientas para el bienestar
DESCRIPTION:Sé parte de nuestra próxima secuencia de Zona Franca donde te compartiremos sobre algunas herramientas que te ayuden a cuidar tu bienestar. ¡Regístrate gratis!
URL:https://www.asociacionferreycorp.edu.pe/evento/herramientas-para-el-bienestar/
CATEGORIES:Zona Franca
ATTACH;FMTTYPE=image/png:https://static.asociacionferreycorp.edu.pe/fcsaprdasocferreycorp02/2023/05/ZF-25-05-23.png
END:VEVENT
BEGIN:VEVENT
DTSTART;TZID=America/Lima:20230615T203000
DTEND;TZID=America/Lima:20230615T210000
DTSTAMP:20260422T180104
CREATED:20230607T145721Z
LAST-MODIFIED:20230607T145721Z
UID:1520-1686861000-1686862800@www.asociacionferreycorp.edu.pe
SUMMARY:Ideas para cuidar el medio ambiente en nuestro día a día
DESCRIPTION:Sé parte de nuestra próxima secuencia de Zona Franca donde te compartiremos distintas formas de cuidar el medio ambiente en nuestro día a día. ¡Regístrate gratis!
URL:https://www.asociacionferreycorp.edu.pe/evento/ideas-para-cuidar-el-medio-ambiente-en-nuestro-dia-a-dia/
CATEGORIES:Zona Franca
ATTACH;FMTTYPE=image/png:https://static.asociacionferreycorp.edu.pe/fcsaprdasocferreycorp02/2023/06/Imagen2.png
END:VEVENT
BEGIN:VEVENT
DTSTART;TZID=America/Lima:20230706T200000
DTEND;TZID=America/Lima:20230706T210000
DTSTAMP:20260422T180104
CREATED:20230630T184818Z
LAST-MODIFIED:20230630T184818Z
UID:1536-1688673600-1688677200@www.asociacionferreycorp.edu.pe
SUMMARY:Participación ciudadana
DESCRIPTION:Sé parte de nuestra próxima secuencia de Zona Franca para conversar sobre nuestra participación ciudadana y qué podemos hacer para aportar a una mejor sociedad ¡Regístrate gratis!
URL:https://www.asociacionferreycorp.edu.pe/evento/zonafrancaparticipacion-ciudadana/
CATEGORIES:Zona Franca
ATTACH;FMTTYPE=image/png:https://static.asociacionferreycorp.edu.pe/fcsaprdasocferreycorp02/2023/06/Zona-Franca-06-07-23.png
END:VEVENT
BEGIN:VEVENT
DTSTART;TZID=America/Lima:20230715T130000
DTEND;TZID=America/Lima:20230715T220000
DTSTAMP:20260422T180104
CREATED:20230712T213815Z
LAST-MODIFIED:20230712T215410Z
UID:1545-1689426000-1689458400@www.asociacionferreycorp.edu.pe
SUMMARY:Programa Ferreycorp para la Empleabilidad: CETEMIN - Chosica
DESCRIPTION:Modalidad Presencial  \n¿Estudias en CETEMIN Chosica y te encuentras en los últimos ciclos de tu carrera? ¡Este programa es para ti!  Durante 3 días presenciales (15\, 22 y 23 de julio) podrás reforzar\, bajo metodologías participativas y lúdicas\, distintas competencias claves para tu desarrollo personal y profesional. \nConoce más del programa aquí \n¡Pronto llegaremos a distintas universidades e institutos en todo el Perú!
URL:https://www.asociacionferreycorp.edu.pe/evento/programa-ferreycorp-para-la-empleabilidad-cetemin-chosica/
ATTACH;FMTTYPE=image/png:https://static.asociacionferreycorp.edu.pe/fcsaprdasocferreycorp02/2022/10/Programa-F.-para-la-Empleabilidad.png
END:VEVENT
BEGIN:VEVENT
DTSTART;TZID=America/Lima:20230718T130000
DTEND;TZID=America/Lima:20230718T220000
DTSTAMP:20260422T180104
CREATED:20230712T220559Z
LAST-MODIFIED:20230712T220559Z
UID:1554-1689685200-1689717600@www.asociacionferreycorp.edu.pe
SUMMARY:Programa Ferreycorp para la Empleabilidad: UNAJMA - Andahuaylas
DESCRIPTION:Modalidad Presencial  \n¿Estudias en la UNAJMA y te encuentras en los últimos ciclos de tu carrera? ¡Este programa es para ti!  Durante 3 días presenciales (18\, 19 y 20 de julio) podrás reforzar\, bajo metodologías participativas y lúdicas\, distintas competencias claves para tu desarrollo personal y profesional. \nConoce más del programa aquí \n¡Pronto llegaremos a distintas universidades e institutos en todo el Perú!
URL:https://www.asociacionferreycorp.edu.pe/evento/programa-ferreycorp-para-la-empleabilidad-unajma-andahuaylas/
ATTACH;FMTTYPE=image/png:https://static.asociacionferreycorp.edu.pe/fcsaprdasocferreycorp02/2022/10/Programa-F.-para-la-Empleabilidad.png
END:VEVENT
BEGIN:VEVENT
DTSTART;TZID=America/Lima:20230719T130000
DTEND;TZID=America/Lima:20230719T220000
DTSTAMP:20260422T180104
CREATED:20230712T221117Z
LAST-MODIFIED:20230712T221139Z
UID:1556-1689771600-1689804000@www.asociacionferreycorp.edu.pe
SUMMARY:Programa Ferreycorp para la Empleabilidad: UCSP - Arequipa
DESCRIPTION:Modalidad Presencial  \n¿Estudias en la UCSP y te encuentras en los últimos ciclos de tu carrera? ¡Este programa es para ti!  Durante 3 días presenciales (19\, 20 y 21 de julio) podrás reforzar\, bajo metodologías participativas y lúdicas\, distintas competencias claves para tu desarrollo personal y profesional. \nConoce más del programa aquí \n¡Pronto llegaremos a distintas universidades e institutos en todo el Perú!
URL:https://www.asociacionferreycorp.edu.pe/evento/programa-ferreycorp-para-la-empleabilidad-ucsp-arequipa/
ATTACH;FMTTYPE=image/png:https://static.asociacionferreycorp.edu.pe/fcsaprdasocferreycorp02/2022/10/Programa-F.-para-la-Empleabilidad.png
END:VEVENT
BEGIN:VEVENT
DTSTART;TZID=America/Lima:20230720T203000
DTEND;TZID=America/Lima:20230720T210000
DTSTAMP:20260422T180104
CREATED:20230703T202758Z
LAST-MODIFIED:20230703T202758Z
UID:1540-1689885000-1689886800@www.asociacionferreycorp.edu.pe
SUMMARY:Ética para la vida diaria
DESCRIPTION:Sé parte de nuestra próxima secuencia de Zona Franca para conversar sobre cómo tomar acciones y decisiones éticas en nuestro día a día nos ayudará a llegar lejos 😉 ¡Regístrate gratis!
URL:https://www.asociacionferreycorp.edu.pe/evento/etica-para-la-vida-diaria/
CATEGORIES:Zona Franca
ATTACH;FMTTYPE=image/png:https://static.asociacionferreycorp.edu.pe/fcsaprdasocferreycorp02/2023/07/Zona-Franca-20-07-23.png
END:VEVENT
BEGIN:VEVENT
DTSTART;TZID=America/Lima:20230724T130000
DTEND;TZID=America/Lima:20230724T220000
DTSTAMP:20260422T180104
CREATED:20230712T221601Z
LAST-MODIFIED:20230712T221922Z
UID:1558-1690203600-1690236000@www.asociacionferreycorp.edu.pe
SUMMARY:Programa Ferreycorp para la Empleabilidad: UNS - Nuevo Chimbote
DESCRIPTION:Modalidad Presencial  \n¿Estudias en la Universidad Nacional del Santa y te encuentras en los últimos ciclos de tu carrera? ¡Este programa es para ti!  Durante 3 días presenciales (24\, 25 y 26 de julio) podrás reforzar\, bajo metodologías participativas y lúdicas\, distintas competencias claves para tu desarrollo personal y profesional. \nConoce más del programa aquí \n¡Pronto llegaremos a distintas universidades e institutos en todo el Perú!
URL:https://www.asociacionferreycorp.edu.pe/evento/programa-ferreycorp-para-la-empleabilidad-uns-nuevo-chimbote/
ATTACH;FMTTYPE=image/png:https://static.asociacionferreycorp.edu.pe/fcsaprdasocferreycorp02/2022/10/Programa-F.-para-la-Empleabilidad.png
END:VEVENT
BEGIN:VEVENT
DTSTART;TZID=America/Lima:20230724T130000
DTEND;TZID=America/Lima:20230724T220000
DTSTAMP:20260422T180104
CREATED:20230712T221856Z
LAST-MODIFIED:20230712T221856Z
UID:1560-1690203600-1690236000@www.asociacionferreycorp.edu.pe
SUMMARY:Programa Ferreycorp para la Empleabilidad: SENATI - Iquitos
DESCRIPTION:Modalidad Presencial  \n¿Estudias en SENATI Iquitos y te encuentras en los últimos ciclos de tu carrera? ¡Este programa es para ti!  Durante 3 días presenciales (24\, 25 y 26 de julio) podrás reforzar\, bajo metodologías participativas y lúdicas\, distintas competencias claves para tu desarrollo personal y profesional. \nConoce más del programa aquí \n¡Pronto llegaremos a distintas universidades e institutos en todo el Perú!
URL:https://www.asociacionferreycorp.edu.pe/evento/programa-ferreycorp-para-la-empleabilidad-senati-iquitos/
ATTACH;FMTTYPE=image/png:https://static.asociacionferreycorp.edu.pe/fcsaprdasocferreycorp02/2022/10/Programa-F.-para-la-Empleabilidad.png
END:VEVENT
BEGIN:VEVENT
DTSTART;TZID=America/Lima:20230803T200000
DTEND;TZID=America/Lima:20230803T210000
DTSTAMP:20260422T180104
CREATED:20230725T145757Z
LAST-MODIFIED:20230725T145910Z
UID:1597-1691092800-1691096400@www.asociacionferreycorp.edu.pe
SUMMARY:Cómo fomentar la resiliencia
DESCRIPTION:Sé parte de nuestra próxima secuencia de Zona Franca para conversar sobre cómo podemos fomentar nuestra capacidad de resiliencia 😉 ¡Regístrate gratis!
URL:https://www.asociacionferreycorp.edu.pe/evento/como-fomentar-la-resiliencia/
CATEGORIES:Zona Franca
ATTACH;FMTTYPE=image/png:https://static.asociacionferreycorp.edu.pe/fcsaprdasocferreycorp02/2023/07/Zona-Franca-03-08-23.png
END:VEVENT
BEGIN:VEVENT
DTSTART;TZID=America/Lima:20230804T130000
DTEND;TZID=America/Lima:20230804T220000
DTSTAMP:20260422T180104
CREATED:20230720T174037Z
LAST-MODIFIED:20230720T174336Z
UID:1586-1691154000-1691186400@www.asociacionferreycorp.edu.pe
SUMMARY:Programa Ferreycorp para la Empleabilidad: SENATI - Piura
DESCRIPTION:Modalidad Presencial  \n¿Estudias en SENATI Piura y te encuentras en los últimos ciclos de tu carrera? ¡Este programa es para ti!  Durante 3 días presenciales (04\, 05 y 06 de agosto) podrás reforzar\, bajo metodologías participativas y lúdicas\, distintas competencias claves para tu desarrollo personal y profesional. \nConoce más del programa aquí \n¡Pronto llegaremos a distintas universidades e institutos en todo el Perú!
URL:https://www.asociacionferreycorp.edu.pe/evento/programa-ferreycorp-para-la-empleabilidad-senati-piura/
ATTACH;FMTTYPE=image/png:https://static.asociacionferreycorp.edu.pe/fcsaprdasocferreycorp02/2022/10/Programa-F.-para-la-Empleabilidad.png
END:VEVENT
BEGIN:VEVENT
DTSTART;TZID=America/Lima:20230805T130000
DTEND;TZID=America/Lima:20230805T220000
DTSTAMP:20260422T180104
CREATED:20230720T175153Z
LAST-MODIFIED:20230720T175153Z
UID:1590-1691240400-1691272800@www.asociacionferreycorp.edu.pe
SUMMARY:Programa Ferreycorp para la Empleabilidad: UNFV - Lima
DESCRIPTION:Modalidad Presencial  \n¿Estudias en UNFV y te encuentras en los últimos ciclos de tu carrera? ¡Este programa es para ti!  Durante 3 días presenciales (05\, 12 y 13 de agosto) podrás reforzar\, bajo metodologías participativas y lúdicas\, distintas competencias claves para tu desarrollo personal y profesional. \nConoce más del programa aquí \n¡Pronto llegaremos a distintas universidades e institutos en todo el Perú!
URL:https://www.asociacionferreycorp.edu.pe/evento/programa-ferreycorp-para-la-empleabilidad-unfv-lima/
ATTACH;FMTTYPE=image/png:https://static.asociacionferreycorp.edu.pe/fcsaprdasocferreycorp02/2022/10/Programa-F.-para-la-Empleabilidad.png
END:VEVENT
BEGIN:VEVENT
DTSTART;TZID=America/Lima:20230809T130000
DTEND;TZID=America/Lima:20230809T220000
DTSTAMP:20260422T180104
CREATED:20230720T171922Z
LAST-MODIFIED:20230720T171922Z
UID:1563-1691586000-1691618400@www.asociacionferreycorp.edu.pe
SUMMARY:Programa Ferreycorp para la Empleabilidad: UNMSM - Lima
DESCRIPTION:Modalidad Presencial  \n¿Estudias en UNMSM y te encuentras en los últimos ciclos de tu carrera? ¡Este programa es para ti!  Durante 3 días presenciales (09\, 10 y 11 de agosto) podrás reforzar\, bajo metodologías participativas y lúdicas\, distintas competencias claves para tu desarrollo personal y profesional. \nConoce más del programa aquí \n¡Pronto llegaremos a distintas universidades e institutos en todo el Perú!
URL:https://www.asociacionferreycorp.edu.pe/evento/programa-ferreycorp-para-la-empleabilidad-unmsm-lima/
ATTACH;FMTTYPE=image/png:https://static.asociacionferreycorp.edu.pe/fcsaprdasocferreycorp02/2022/10/Programa-F.-para-la-Empleabilidad.png
END:VEVENT
BEGIN:VEVENT
DTSTART;TZID=America/Lima:20230818T130000
DTEND;TZID=America/Lima:20230818T220000
DTSTAMP:20260422T180104
CREATED:20230720T173206Z
LAST-MODIFIED:20230720T173323Z
UID:1582-1692363600-1692396000@www.asociacionferreycorp.edu.pe
SUMMARY:Programa Ferreycorp para la Empleabilidad - Edición especial Lima
DESCRIPTION:Modalidad Presencial  \n¿Te encuentras en los últimos ciclos de tu carrera y estudias en Lima o el Callao? ¡Este programa es para ti!  Durante 3 días presenciales (18\, 19 y 20 de agosto) podrás reforzar\, bajo metodologías participativas y lúdicas\, distintas competencias claves para tu desarrollo personal y profesional. \nConoce más del programa aquí \n¡Pronto llegaremos a distintas universidades e institutos en todo el Perú!
URL:https://www.asociacionferreycorp.edu.pe/evento/programa-ferreycorp-para-la-empleabilidad-lima-2/
ATTACH;FMTTYPE=image/png:https://static.asociacionferreycorp.edu.pe/fcsaprdasocferreycorp02/2022/10/Programa-F.-para-la-Empleabilidad.png
END:VEVENT
BEGIN:VEVENT
DTSTART;TZID=America/Lima:20230823T130000
DTEND;TZID=America/Lima:20230823T220000
DTSTAMP:20260422T180104
CREATED:20230720T175951Z
LAST-MODIFIED:20230720T215034Z
UID:1595-1692795600-1692828000@www.asociacionferreycorp.edu.pe
SUMMARY:Programa Ferreycorp para la Empleabilidad: UNITRU - Trujillo
DESCRIPTION:Modalidad Presencial  \n¿Estudias en UNITRU y te encuentras en los últimos ciclos de tu carrera? ¡Este programa es para ti!  Durante 3 días presenciales ( 23\, 24 y 25 de agosto) podrás reforzar\, bajo metodologías participativas y lúdicas\, distintas competencias claves para tu desarrollo personal y profesional. \nConoce más del programa aquí \n¡Pronto llegaremos a distintas universidades e institutos en todo el Perú!
URL:https://www.asociacionferreycorp.edu.pe/evento/programa-ferreycorp-para-la-empleabilidad-unitru-trujillo/
ATTACH;FMTTYPE=image/png:https://static.asociacionferreycorp.edu.pe/fcsaprdasocferreycorp02/2022/10/Programa-F.-para-la-Empleabilidad.png
END:VEVENT
BEGIN:VEVENT
DTSTART;TZID=America/Lima:20230824T200000
DTEND;TZID=America/Lima:20230824T210000
DTSTAMP:20260422T180104
CREATED:20230810T144824Z
LAST-MODIFIED:20230810T145126Z
UID:1609-1692907200-1692910800@www.asociacionferreycorp.edu.pe
SUMMARY:Salud mental y alimentación consciente
DESCRIPTION:Sé parte de nuestra próxima secuencia de Zona Franca para conversar sobre cómo cuidar tu salud mental y mantener una alimentación consciente. 💚 ¡Regístrate gratis!
URL:https://www.asociacionferreycorp.edu.pe/evento/salud-mental-y-alimentacion-consciente/
CATEGORIES:Zona Franca
ATTACH;FMTTYPE=image/png:https://static.asociacionferreycorp.edu.pe/fcsaprdasocferreycorp02/2023/08/Zona-Franca-24-08-23.png
END:VEVENT
BEGIN:VEVENT
DTSTART;TZID=America/Lima:20230907T200000
DTEND;TZID=America/Lima:20230907T210000
DTSTAMP:20260422T180104
CREATED:20230829T000944Z
LAST-MODIFIED:20230829T000944Z
UID:1621-1694116800-1694120400@www.asociacionferreycorp.edu.pe
SUMMARY:Entrevista de trabajo ¿Cómo causar una buena impresión?
DESCRIPTION:Sé parte de nuestra próxima secuencia de Zona Franca para conversar sobre cómo desenvolverse y causar una buena impresión en las entrevistas de trabajo 💚 ¡Regístrate gratis!
URL:https://www.asociacionferreycorp.edu.pe/evento/entrevista-de-trabajo-como-causar-una-buena-impresion/
CATEGORIES:Zona Franca
ATTACH;FMTTYPE=image/png:https://static.asociacionferreycorp.edu.pe/fcsaprdasocferreycorp02/2023/08/Zona-Franca-07-08-23.png
END:VEVENT
BEGIN:VEVENT
DTSTART;TZID=America/Lima:20230915T130000
DTEND;TZID=America/Lima:20230915T220000
DTSTAMP:20260422T180104
CREATED:20230829T001803Z
LAST-MODIFIED:20230906T224115Z
UID:1625-1694782800-1694815200@www.asociacionferreycorp.edu.pe
SUMMARY:Programa Ferreycorp para la Empleabilidad - Edición especial Lima
DESCRIPTION:Modalidad Presencial  \n¿Te encuentras en los últimos ciclos de tu carrera y estudias en Lima o el Callao? ¡Este programa es para ti!  Durante 3 días presenciales (15\, 16 y 17 de setiembre) podrás reforzar\, bajo metodologías participativas y lúdicas\, distintas competencias claves para tu desarrollo personal y profesional. \nConoce más del programa aquí \n¡Pronto llegaremos a distintas universidades e institutos en todo el Perú!
URL:https://www.asociacionferreycorp.edu.pe/evento/programa-ferreycorp-para-la-empleabilidad-edicion-especial-lima/
ATTACH;FMTTYPE=image/png:https://static.asociacionferreycorp.edu.pe/fcsaprdasocferreycorp02/2022/10/Programa-F.-para-la-Empleabilidad.png
END:VEVENT
BEGIN:VEVENT
DTSTART;TZID=America/Lima:20230915T130000
DTEND;TZID=America/Lima:20230915T220000
DTSTAMP:20260422T180104
CREATED:20230829T002606Z
LAST-MODIFIED:20230829T002606Z
UID:1627-1694782800-1694815200@www.asociacionferreycorp.edu.pe
SUMMARY:Programa Ferreycorp para la Empleabilidad: UNAM - Moquegua
DESCRIPTION:Modalidad Presencial  \n¿Estudias en UNAM y te encuentras en los últimos ciclos de tu carrera? ¡Este programa es para ti!  Durante 3 días presenciales ( 15\, 16 y 17 de setiembre) podrás reforzar\, bajo metodologías participativas y lúdicas\, distintas competencias claves para tu desarrollo personal y profesional. \nConoce más del programa aquí \n¡Pronto llegaremos a distintas universidades e institutos en todo el Perú!
URL:https://www.asociacionferreycorp.edu.pe/evento/programa-ferreycorp-para-la-empleabilidad-unam-moquegua2/
ATTACH;FMTTYPE=image/png:https://static.asociacionferreycorp.edu.pe/fcsaprdasocferreycorp02/2022/10/Programa-F.-para-la-Empleabilidad.png
END:VEVENT
BEGIN:VEVENT
DTSTART;TZID=America/Lima:20230921T200000
DTEND;TZID=America/Lima:20230921T210000
DTSTAMP:20260422T180104
CREATED:20230912T215106Z
LAST-MODIFIED:20230912T215146Z
UID:1635-1695326400-1695330000@www.asociacionferreycorp.edu.pe
SUMMARY:Manejo de incertidumbre
DESCRIPTION:Sé parte de nuestra próxima secuencia de Zona Franca para conversar sobre cómo podemos manejar las situaciones de incertidumbre y lograr nuestros objetivos 💚 ¡Regístrate gratis!
URL:https://www.asociacionferreycorp.edu.pe/evento/manejo-de-incertidumbre/
CATEGORIES:Zona Franca
ATTACH;FMTTYPE=image/png:https://static.asociacionferreycorp.edu.pe/fcsaprdasocferreycorp02/2023/09/ZONA-FRANCA-21-09-23.png
END:VEVENT
BEGIN:VEVENT
DTSTART;TZID=America/Lima:20230922T130000
DTEND;TZID=America/Lima:20230922T220000
DTSTAMP:20260422T180104
CREATED:20230829T003144Z
LAST-MODIFIED:20230829T003207Z
UID:1629-1695387600-1695420000@www.asociacionferreycorp.edu.pe
SUMMARY:Programa Ferreycorp para la Empleabilidad: SENATI - Tarapoto
DESCRIPTION:Modalidad Presencial  \n¿Estudias en SENATI Tarapoto y te encuentras en los últimos ciclos de tu carrera? ¡Este programa es para ti!  Durante 3 días presenciales ( 22\, 23 y 24 de setiembre) podrás reforzar\, bajo metodologías participativas y lúdicas\, distintas competencias claves para tu desarrollo personal y profesional. \nConoce más del programa aquí \n¡Pronto llegaremos a distintas universidades e institutos en todo el Perú!
URL:https://www.asociacionferreycorp.edu.pe/evento/programa-ferreycorp-para-la-empleabilidad-senati-tarapoto/
ATTACH;FMTTYPE=image/png:https://static.asociacionferreycorp.edu.pe/fcsaprdasocferreycorp02/2022/10/Programa-F.-para-la-Empleabilidad.png
END:VEVENT
BEGIN:VEVENT
DTSTART;TZID=America/Lima:20230922T130000
DTEND;TZID=America/Lima:20230922T220000
DTSTAMP:20260422T180104
CREATED:20230912T223832Z
LAST-MODIFIED:20230912T224541Z
UID:1640-1695387600-1695420000@www.asociacionferreycorp.edu.pe
SUMMARY:Programa Ferreycorp para la Empleabilidad: UNCP - Huancayo
DESCRIPTION:Modalidad Presencial  \n¿Estudias en la UNCP – Huancayo y te encuentras en los últimos ciclos de tu carrera? ¡Este programa es para ti!  Durante 3 días presenciales (22\, 23 y 24 de setiembre) podrás reforzar\, bajo metodologías participativas y lúdicas\, distintas competencias claves para tu desarrollo personal y profesional. \nConoce más del programa aquí \n¡Pronto llegaremos a distintas universidades e institutos en todo el Perú!
URL:https://www.asociacionferreycorp.edu.pe/evento/programa-ferreycorp-para-la-empleabilidad-universidad-continental-arequipa/
ATTACH;FMTTYPE=image/png:https://static.asociacionferreycorp.edu.pe/fcsaprdasocferreycorp02/2022/10/Programa-F.-para-la-Empleabilidad.png
END:VEVENT
END:VCALENDAR