BEGIN:VCALENDAR
VERSION:2.0
PRODID:-//Asociación Ferreycorp - ECPv6.15.3//NONSGML v1.0//EN
CALSCALE:GREGORIAN
METHOD:PUBLISH
X-ORIGINAL-URL:https://www.asociacionferreycorp.edu.pe
X-WR-CALDESC:Eventos para Asociación Ferreycorp
REFRESH-INTERVAL;VALUE=DURATION:PT1H
X-Robots-Tag:noindex
X-PUBLISHED-TTL:PT1H
BEGIN:VTIMEZONE
TZID:America/Lima
BEGIN:STANDARD
TZOFFSETFROM:-0500
TZOFFSETTO:-0500
TZNAME:-05
DTSTART:20240101T050000
END:STANDARD
END:VTIMEZONE
BEGIN:VEVENT
DTSTART;TZID=America/Lima:20241205T200000
DTEND;TZID=America/Lima:20241205T210000
DTSTAMP:20260424T070549
CREATED:20241129T180959Z
LAST-MODIFIED:20241129T180959Z
UID:2547-1733428800-1733432400@www.asociacionferreycorp.edu.pe
SUMMARY:Bienestar y salud mental
DESCRIPTION:Únete a nuestra próxima secuencia de Conversaciones con Expertos junto a: \n\nVerousckha Uchofen: Psicóloga y Especialista Senior de Bienestar Ferreycorp.\n\n¡Conoce la importancia del bienestar y salud mental!
URL:https://www.asociacionferreycorp.edu.pe/evento/bienestar-y-salud-mental/
CATEGORIES:Conversaciones con Expertos
ATTACH;FMTTYPE=image/png:https://static.asociacionferreycorp.edu.pe/fcsaprdasocferreycorp02/2024/11/CCE-dic.png
END:VEVENT
END:VCALENDAR