BEGIN:VCALENDAR
VERSION:2.0
PRODID:-//Asociación Ferreycorp - ECPv6.15.3//NONSGML v1.0//EN
CALSCALE:GREGORIAN
METHOD:PUBLISH
X-ORIGINAL-URL:https://www.asociacionferreycorp.edu.pe
X-WR-CALDESC:Eventos para Asociación Ferreycorp
REFRESH-INTERVAL;VALUE=DURATION:PT1H
X-Robots-Tag:noindex
X-PUBLISHED-TTL:PT1H
BEGIN:VTIMEZONE
TZID:America/Lima
BEGIN:STANDARD
TZOFFSETFROM:-0500
TZOFFSETTO:-0500
TZNAME:-05
DTSTART:20240101T050000
END:STANDARD
END:VTIMEZONE
BEGIN:VEVENT
DTSTART;TZID=America/Lima:20240920T130000
DTEND;TZID=America/Lima:20240920T220000
DTSTAMP:20260424T030442
CREATED:20240828T170347Z
LAST-MODIFIED:20240828T173401Z
UID:2402-1726837200-1726869600@www.asociacionferreycorp.edu.pe
SUMMARY:Programa Impulsando Talento con Valores: Universidad Nacional de Tayacaja
DESCRIPTION:Modalidad Presencial  \n¿Estudias en la Universidad Nacional de Tayacaja y te encuentras en los últimos ciclos de tu carrera? ¡Este programa es para ti! \nDurante 3 días presenciales (20\, 21 y 22 de setiembre) podrás reforzar\, bajo metodologías participativas y lúdicas\, distintas competencias claves como adaptación al cambio\, trabajo en equipo\, gestión de emociones\, liderazgo y otras para destacar como profesional. \nConoce más aquí \n¡No te lo pierdas! Contamos con cupos gratuitos limitados.
URL:https://www.asociacionferreycorp.edu.pe/evento/programa-impulsando-talento-con-valores-universidad-nacional-de-tayacaja/
ATTACH;FMTTYPE=image/jpeg:https://static.asociacionferreycorp.edu.pe/fcsaprdasocferreycorp02/2024/08/PROMOCION-TAYACAJA-Facilitador-Lima-4.jpg
END:VEVENT
BEGIN:VEVENT
DTSTART;TZID=America/Lima:20240920T130000
DTEND;TZID=America/Lima:20240920T220000
DTSTAMP:20260424T030442
CREATED:20240828T173140Z
LAST-MODIFIED:20240828T173140Z
UID:2405-1726837200-1726869600@www.asociacionferreycorp.edu.pe
SUMMARY:Programa Impulsando Talento con Valores: Universidad Nacional de Huancavelica
DESCRIPTION:Modalidad Presencial  \n¿Estudias en la Universidad Nacional de Huancavelica y te encuentras en los últimos ciclos de tu carrera? ¡Este programa es para ti! \nDurante 3 días presenciales (20\, 21 y 22 de setiembre) podrás reforzar\, bajo metodologías participativas y lúdicas\, distintas competencias claves como adaptación al cambio\, trabajo en equipo\, gestión de emociones\, liderazgo y otras para destacar como profesional. \nConoce más aquí \n¡No te lo pierdas! Contamos con cupos gratuitos limitados.
URL:https://www.asociacionferreycorp.edu.pe/evento/programa-impulsando-talento-con-valores-universidad-nacional-de-huancavelica/
ATTACH;FMTTYPE=image/jpeg:https://static.asociacionferreycorp.edu.pe/fcsaprdasocferreycorp02/2024/08/IMG_4972-1-scaled.jpg
END:VEVENT
END:VCALENDAR