BEGIN:VCALENDAR
VERSION:2.0
PRODID:-//Asociación Ferreycorp - ECPv6.15.3//NONSGML v1.0//EN
CALSCALE:GREGORIAN
METHOD:PUBLISH
X-WR-CALNAME:Asociación Ferreycorp
X-ORIGINAL-URL:https://www.asociacionferreycorp.edu.pe
X-WR-CALDESC:Eventos para Asociación Ferreycorp
REFRESH-INTERVAL;VALUE=DURATION:PT1H
X-Robots-Tag:noindex
X-PUBLISHED-TTL:PT1H
BEGIN:VTIMEZONE
TZID:America/Lima
BEGIN:STANDARD
TZOFFSETFROM:-0500
TZOFFSETTO:-0500
TZNAME:-05
DTSTART:20240101T050000
END:STANDARD
END:VTIMEZONE
BEGIN:VEVENT
DTSTART;TZID=America/Lima:20240905T130000
DTEND;TZID=America/Lima:20240905T220000
DTSTAMP:20260424T030318
CREATED:20240828T145157Z
LAST-MODIFIED:20240828T145256Z
UID:2348-1725541200-1725573600@www.asociacionferreycorp.edu.pe
SUMMARY:Programa Impulsando Talento con Valores: SENATI sede Huaraz
DESCRIPTION:Modalidad Presencial  \n¿Estudias en Senati sede Huaraz y te encuentras en los últimos ciclos de tu carrera? ¡Este programa es para ti! \nDurante 3 días presenciales (05\, 06 y 07 de setiembre) podrás reforzar\, bajo metodologías participativas y lúdicas\, distintas competencias claves como adaptación al cambio\, trabajo en equipo\, gestión de emociones\, liderazgo y otras para destacar como profesional. \nConoce más aquí \n¡No te lo pierdas! Contamos con cupos gratuitos limitados.
URL:https://www.asociacionferreycorp.edu.pe/evento/programa-impulsando-talento-con-valores-senati-huaraz-2/
ATTACH;FMTTYPE=image/jpeg:https://static.asociacionferreycorp.edu.pe/fcsaprdasocferreycorp02/2024/05/IMG_0427-1-scaled.jpeg
END:VEVENT
BEGIN:VEVENT
DTSTART;TZID=America/Lima:20240905T200000
DTEND;TZID=America/Lima:20240905T210000
DTSTAMP:20260424T030318
CREATED:20240903T211942Z
LAST-MODIFIED:20240903T212100Z
UID:2414-1725566400-1725570000@www.asociacionferreycorp.edu.pe
SUMMARY:La importancia de ser\, para que el hacer tenga sentido
DESCRIPTION:Únete a nuestra próxima secuencia de Conversaciones con Expertos junto a: \n\nRocio Alba: Educadora y facilitadora AF\nMichelle Carrasco: Psicóloga y facilitadora AF\n\nDónde conversaremos sobre: La importancia de ser\, para que el hacer tenga sentido.
URL:https://www.asociacionferreycorp.edu.pe/evento/conversaciones-con-expertos-la-importancia-de-ser-para-que-el-hacer-tenga-sentido/
CATEGORIES:Conversaciones con Expertos
ATTACH;FMTTYPE=image/png:https://static.asociacionferreycorp.edu.pe/fcsaprdasocferreycorp02/2024/09/Conversaciones-con-Expertos-3.png
END:VEVENT
END:VCALENDAR