BEGIN:VCALENDAR
VERSION:2.0
PRODID:-//Asociación Ferreycorp - ECPv6.15.3//NONSGML v1.0//EN
CALSCALE:GREGORIAN
METHOD:PUBLISH
X-WR-CALNAME:Asociación Ferreycorp
X-ORIGINAL-URL:https://www.asociacionferreycorp.edu.pe
X-WR-CALDESC:Eventos para Asociación Ferreycorp
REFRESH-INTERVAL;VALUE=DURATION:PT1H
X-Robots-Tag:noindex
X-PUBLISHED-TTL:PT1H
BEGIN:VTIMEZONE
TZID:America/Lima
BEGIN:STANDARD
TZOFFSETFROM:-0500
TZOFFSETTO:-0500
TZNAME:-05
DTSTART:20240101T050000
END:STANDARD
END:VTIMEZONE
BEGIN:VEVENT
DTSTART;TZID=America/Lima:20240904T130000
DTEND;TZID=America/Lima:20240904T220000
DTSTAMP:20260424T030318
CREATED:20240813T143501Z
LAST-MODIFIED:20240813T143501Z
UID:2341-1725454800-1725487200@www.asociacionferreycorp.edu.pe
SUMMARY:Programa Impulsando Talento con Valores: TECSUP Trujillo
DESCRIPTION:Modalidad Presencial  \n¿Estudias en TECSUP de Trujillo y te encuentras en los últimos ciclos de tu carrera? ¡Este programa es para ti! \nDurante 3 días presenciales (04\, 05 y 06 de setiembre) podrás reforzar\, bajo metodologías participativas y lúdicas\, distintas competencias claves como adaptación al cambio\, trabajo en equipo\, gestión de emociones\, liderazgo y otras para destacar como profesional. \nConoce más aquí \n¡No te lo pierdas! Contamos con cupos gratuitos limitados.
URL:https://www.asociacionferreycorp.edu.pe/evento/programa-impulsando-talento-con-valores-tecsup-trujillo/
ATTACH;FMTTYPE=image/jpeg:https://static.asociacionferreycorp.edu.pe/fcsaprdasocferreycorp02/2024/08/IMG_3919_11zon-scaled.jpg
END:VEVENT
END:VCALENDAR