BEGIN:VCALENDAR
VERSION:2.0
PRODID:-//Asociación Ferreycorp - ECPv6.15.3//NONSGML v1.0//EN
CALSCALE:GREGORIAN
METHOD:PUBLISH
X-WR-CALNAME:Asociación Ferreycorp
X-ORIGINAL-URL:https://www.asociacionferreycorp.edu.pe
X-WR-CALDESC:Eventos para Asociación Ferreycorp
REFRESH-INTERVAL;VALUE=DURATION:PT1H
X-Robots-Tag:noindex
X-PUBLISHED-TTL:PT1H
BEGIN:VTIMEZONE
TZID:America/Lima
BEGIN:STANDARD
TZOFFSETFROM:-0500
TZOFFSETTO:-0500
TZNAME:-05
DTSTART:20240101T050000
END:STANDARD
END:VTIMEZONE
BEGIN:VEVENT
DTSTART;TZID=America/Lima:20240719T130000
DTEND;TZID=America/Lima:20240719T220000
DTSTAMP:20260424T002427
CREATED:20240702T212012Z
LAST-MODIFIED:20240702T213947Z
UID:2255-1721394000-1721426400@www.asociacionferreycorp.edu.pe
SUMMARY:Programa Impulsando Talento con Valores: ALFATEC Cajamarca
DESCRIPTION:Modalidad Presencial  \n¿Estudias en la Alfatec en Cajamarca y te encuentras en los últimos ciclos de tu carrera? ¡Este programa es para ti! \nDurante 3 días presenciales (19\, 20 y 21 de julio) podrás reforzar\, bajo metodologías participativas y lúdicas\, distintas competencias claves como adaptación al cambio\, trabajo en equipo\, gestión de emociones\, liderazgo y otras para destacar como profesional. \nConoce más aquí \n¡No te lo pierdas! Contamos con cupos gratuitos limitados. 
URL:https://www.asociacionferreycorp.edu.pe/evento/programa-impulsando-talento-con-valores-alfatec-cajamarca/
ATTACH;FMTTYPE=image/jpeg:https://static.asociacionferreycorp.edu.pe/fcsaprdasocferreycorp02/2024/01/01-Asociacion-Ferreycorp-record.jpg
END:VEVENT
BEGIN:VEVENT
DTSTART;TZID=America/Lima:20240719T130000
DTEND;TZID=America/Lima:20240719T220000
DTSTAMP:20260424T002427
CREATED:20240702T212630Z
LAST-MODIFIED:20240702T212630Z
UID:2258-1721394000-1721426400@www.asociacionferreycorp.edu.pe
SUMMARY:Programa Impulsando Talento con Valores: Universidad Nacional Pedro Ruiz Gallo de Lambayeque
DESCRIPTION:Modalidad Presencial  \n¿Estudias en la UNPRG en Cajamarca y te encuentras en los últimos ciclos de tu carrera? ¡Este programa es para ti! \nDurante 3 días presenciales (19\, 20 y 21 de julio) podrás reforzar\, bajo metodologías participativas y lúdicas\, distintas competencias claves como adaptación al cambio\, trabajo en equipo\, gestión de emociones\, liderazgo y otras para destacar como profesional. \nConoce más aquí \n¡No te lo pierdas! Contamos con cupos gratuitos limitados. 
URL:https://www.asociacionferreycorp.edu.pe/evento/programa-impulsando-talento-con-valores-universidad-nacional-pedro-ruiz-gallo-de-lambayeque/
ATTACH;FMTTYPE=image/jpeg:https://static.asociacionferreycorp.edu.pe/fcsaprdasocferreycorp02/2024/05/7d6a8986-86d5-429f-afe0-07087d1dd158.jpg
END:VEVENT
END:VCALENDAR