BEGIN:VCALENDAR
VERSION:2.0
PRODID:-//Asociación Ferreycorp - ECPv6.15.3//NONSGML v1.0//EN
CALSCALE:GREGORIAN
METHOD:PUBLISH
X-ORIGINAL-URL:https://www.asociacionferreycorp.edu.pe
X-WR-CALDESC:Eventos para Asociación Ferreycorp
REFRESH-INTERVAL;VALUE=DURATION:PT1H
X-Robots-Tag:noindex
X-PUBLISHED-TTL:PT1H
BEGIN:VTIMEZONE
TZID:America/Lima
BEGIN:STANDARD
TZOFFSETFROM:-0500
TZOFFSETTO:-0500
TZNAME:-05
DTSTART:20240101T050000
END:STANDARD
END:VTIMEZONE
BEGIN:VEVENT
DTSTART;TZID=America/Lima:20240712T130000
DTEND;TZID=America/Lima:20240712T220000
DTSTAMP:20260424T002546
CREATED:20240702T175344Z
LAST-MODIFIED:20240702T175850Z
UID:2242-1720789200-1720821600@www.asociacionferreycorp.edu.pe
SUMMARY:Programa Impulsando Talento con Valores: Universidad Nacional de Moquegua
DESCRIPTION:Modalidad Presencial  \n¿Estudias en la Universidad Nacional de Moquegua y te encuentras en los últimos ciclos de tu carrera? ¡Este programa es para ti! \nDurante 3 días presenciales (12\, 13 y 14 de julio) podrás reforzar\, bajo metodologías participativas y lúdicas\, distintas competencias claves como adaptación al cambio\, trabajo en equipo\, gestión de emociones\, liderazgo y otras para destacar como profesional. \nConoce más aquí \n¡No te lo pierdas! Contamos con cupos gratuitos limitados. 
URL:https://www.asociacionferreycorp.edu.pe/evento/programa-impulsando-talento-con-valores-universidad-nacional-de-moquegua/
ATTACH;FMTTYPE=image/png:https://static.asociacionferreycorp.edu.pe/fcsaprdasocferreycorp02/2024/05/IMAGEN-AF.png
END:VEVENT
BEGIN:VEVENT
DTSTART;TZID=America/Lima:20240712T130000
DTEND;TZID=America/Lima:20240712T220000
DTSTAMP:20260424T002546
CREATED:20240702T175805Z
LAST-MODIFIED:20240702T214018Z
UID:2244-1720789200-1720821600@www.asociacionferreycorp.edu.pe
SUMMARY:Programa Impulsando Talento con Valores: Universidad Continental Huancayo
DESCRIPTION:Modalidad Presencial  \n¿Estudias en la Universidad Continental en Huancayo y te encuentras en los últimos ciclos de tu carrera? ¡Este programa es para ti! \nDurante 3 días presenciales (12\, 13 y 14 de julio) podrás reforzar\, bajo metodologías participativas y lúdicas\, distintas competencias claves como adaptación al cambio\, trabajo en equipo\, gestión de emociones\, liderazgo y otras para destacar como profesional. \nConoce más aquí \n¡No te lo pierdas! Contamos con cupos gratuitos limitados. 
URL:https://www.asociacionferreycorp.edu.pe/evento/programa-impulsando-talento-con-valores-universidad-continental-huancayo/
ATTACH;FMTTYPE=image/jpeg:https://static.asociacionferreycorp.edu.pe/fcsaprdasocferreycorp02/2024/05/1711734917309.jpg
END:VEVENT
BEGIN:VEVENT
DTSTART;TZID=America/Lima:20240712T130000
DTEND;TZID=America/Lima:20240712T220000
DTSTAMP:20260424T002546
CREATED:20240702T181109Z
LAST-MODIFIED:20240702T181109Z
UID:2251-1720789200-1720821600@www.asociacionferreycorp.edu.pe
SUMMARY:Programa Impulsando Talento con Valores: IESTP Amazonas
DESCRIPTION:Modalidad Presencial  \n¿Estudias en el IESTP de Amazonas y te encuentras en los últimos ciclos de tu carrera? ¡Este programa es para ti! \nDurante 3 días presenciales (12\, 13 y 14 de julio) podrás reforzar\, bajo metodologías participativas y lúdicas\, distintas competencias claves como adaptación al cambio\, trabajo en equipo\, gestión de emociones\, liderazgo y otras para destacar como profesional. \nConoce más aquí \n¡No te lo pierdas! Contamos con cupos gratuitos limitados. 
URL:https://www.asociacionferreycorp.edu.pe/evento/programa-impulsando-talento-con-valores-iestp-amazonas-2/
ATTACH;FMTTYPE=image/jpeg:https://static.asociacionferreycorp.edu.pe/fcsaprdasocferreycorp02/2024/05/1711734917426.jpg
END:VEVENT
END:VCALENDAR