BEGIN:VCALENDAR
VERSION:2.0
PRODID:-//Asociación Ferreycorp - ECPv6.15.3//NONSGML v1.0//EN
CALSCALE:GREGORIAN
METHOD:PUBLISH
X-ORIGINAL-URL:https://www.asociacionferreycorp.edu.pe
X-WR-CALDESC:Eventos para Asociación Ferreycorp
REFRESH-INTERVAL;VALUE=DURATION:PT1H
X-Robots-Tag:noindex
X-PUBLISHED-TTL:PT1H
BEGIN:VTIMEZONE
TZID:America/Lima
BEGIN:STANDARD
TZOFFSETFROM:-0500
TZOFFSETTO:-0500
TZNAME:-05
DTSTART:20240101T050000
END:STANDARD
END:VTIMEZONE
BEGIN:VEVENT
DTSTART;TZID=America/Lima:20240710T130000
DTEND;TZID=America/Lima:20240710T220000
DTSTAMP:20260424T002507
CREATED:20240702T160408Z
LAST-MODIFIED:20240702T160430Z
UID:2236-1720616400-1720648800@www.asociacionferreycorp.edu.pe
SUMMARY:Programa Impulsando Talento con Valores: UPC San Isidro
DESCRIPTION:Modalidad Presencial  \n¿Estudias en la UPC San Isidro y te encuentras en los últimos ciclos de tu carrera? ¡Este programa es para ti! \nDurante 3 días presenciales (10\, 11 y 12 de julio) podrás reforzar\, bajo metodologías participativas y lúdicas\, distintas competencias claves como adaptación al cambio\, trabajo en equipo\, gestión de emociones\, liderazgo y otras para destacar como profesional. \nConoce más aquí \n¡No te lo pierdas! Contamos con cupos gratuitos limitados. 
URL:https://www.asociacionferreycorp.edu.pe/evento/programa-impulsando-talento-con-valores-upc-san-isidro/
ATTACH;FMTTYPE=image/jpeg:https://static.asociacionferreycorp.edu.pe/fcsaprdasocferreycorp02/2024/05/IMG_0381-scaled.jpeg
END:VEVENT
BEGIN:VEVENT
DTSTART;TZID=America/Lima:20240710T130000
DTEND;TZID=America/Lima:20240710T220000
DTSTAMP:20260424T002507
CREATED:20240702T174349Z
LAST-MODIFIED:20240702T174349Z
UID:2238-1720616400-1720648800@www.asociacionferreycorp.edu.pe
SUMMARY:Programa Impulsando Talento con Valores: UPC Villa
DESCRIPTION:Modalidad Presencial  \n¿Estudias en la UPC Villa y te encuentras en los últimos ciclos de tu carrera? ¡Este programa es para ti! \nDurante 3 días presenciales (10\, 11 y 12 de julio) podrás reforzar\, bajo metodologías participativas y lúdicas\, distintas competencias claves como adaptación al cambio\, trabajo en equipo\, gestión de emociones\, liderazgo y otras para destacar como profesional. \nConoce más aquí \n¡No te lo pierdas! Contamos con cupos gratuitos limitados. 
URL:https://www.asociacionferreycorp.edu.pe/evento/programa-impulsando-talento-con-valores-upc-villa/
ATTACH;FMTTYPE=image/jpeg:https://static.asociacionferreycorp.edu.pe/fcsaprdasocferreycorp02/2024/05/c88b8db1-f0f7-46c6-930a-9d323aba1f19.jpeg
END:VEVENT
BEGIN:VEVENT
DTSTART;TZID=America/Lima:20240710T130000
DTEND;TZID=America/Lima:20240710T220000
DTSTAMP:20260424T002507
CREATED:20240702T174715Z
LAST-MODIFIED:20240702T174715Z
UID:2240-1720616400-1720648800@www.asociacionferreycorp.edu.pe
SUMMARY:Programa Impulsando Talento con Valores: UPC Monterrico
DESCRIPTION:Modalidad Presencial  \n¿Estudias en la UPC Monterrico y te encuentras en los últimos ciclos de tu carrera? ¡Este programa es para ti! \nDurante 3 días presenciales (10\, 11 y 12 de julio) podrás reforzar\, bajo metodologías participativas y lúdicas\, distintas competencias claves como adaptación al cambio\, trabajo en equipo\, gestión de emociones\, liderazgo y otras para destacar como profesional. \nConoce más aquí \n¡No te lo pierdas! Contamos con cupos gratuitos limitados. 
URL:https://www.asociacionferreycorp.edu.pe/evento/programa-impulsando-talento-con-valores-upc-monterrico/
ATTACH;FMTTYPE=image/jpeg:https://static.asociacionferreycorp.edu.pe/fcsaprdasocferreycorp02/2024/06/pexels-fauxels-3184428-1-scaled.jpg
END:VEVENT
END:VCALENDAR