BEGIN:VCALENDAR
VERSION:2.0
PRODID:-//Asociación Ferreycorp - ECPv6.15.3//NONSGML v1.0//EN
CALSCALE:GREGORIAN
METHOD:PUBLISH
X-WR-CALNAME:Asociación Ferreycorp
X-ORIGINAL-URL:https://www.asociacionferreycorp.edu.pe
X-WR-CALDESC:Eventos para Asociación Ferreycorp
REFRESH-INTERVAL;VALUE=DURATION:PT1H
X-Robots-Tag:noindex
X-PUBLISHED-TTL:PT1H
BEGIN:VTIMEZONE
TZID:America/Lima
BEGIN:STANDARD
TZOFFSETFROM:-0500
TZOFFSETTO:-0500
TZNAME:-05
DTSTART:20240101T050000
END:STANDARD
END:VTIMEZONE
BEGIN:VEVENT
DTSTART;TZID=America/Lima:20240705T130000
DTEND;TZID=America/Lima:20240705T220000
DTSTAMP:20260424T002400
CREATED:20240702T153628Z
LAST-MODIFIED:20240702T153628Z
UID:2228-1720184400-1720216800@www.asociacionferreycorp.edu.pe
SUMMARY:Programa Impulsando Talento con Valores: UCV Huaraz
DESCRIPTION:Modalidad Presencial  \n¿Estudias en la UCV Huaraz y te encuentras en los últimos ciclos de tu carrera? ¡Este programa es para ti! \nDurante 3 días presenciales (05\, 06 y 07 de julio) podrás reforzar\, bajo metodologías participativas y lúdicas\, distintas competencias claves como adaptación al cambio\, trabajo en equipo\, gestión de emociones\, liderazgo y otras para destacar como profesional. \nConoce más aquí \n¡No te lo pierdas! Contamos con cupos gratuitos limitados. 
URL:https://www.asociacionferreycorp.edu.pe/evento/programa-impulsando-talento-con-valores-ucv-huaraz-2/
ATTACH;FMTTYPE=image/jpeg:https://static.asociacionferreycorp.edu.pe/fcsaprdasocferreycorp02/2024/05/Copia-de-IMG_7969-1.jpg
END:VEVENT
BEGIN:VEVENT
DTSTART;TZID=America/Lima:20240705T130000
DTEND;TZID=America/Lima:20240705T220000
DTSTAMP:20260424T002400
CREATED:20240702T154113Z
LAST-MODIFIED:20240702T154113Z
UID:2227-1720184400-1720216800@www.asociacionferreycorp.edu.pe
SUMMARY:Programa Impulsando Talento con Valores: Universidad Católica Sedes Sapientiae
DESCRIPTION:Modalidad Presencial  \n¿Estudias en la Universidad Católica Sedes Sapientiae y te encuentras en los últimos ciclos de tu carrera? ¡Este programa es para ti! \nDurante 3 días presenciales (05\, 06 y 07 de julio) podrás reforzar\, bajo metodologías participativas y lúdicas\, distintas competencias claves como adaptación al cambio\, trabajo en equipo\, gestión de emociones\, liderazgo y otras para destacar como profesional. \nConoce más aquí \n¡No te lo pierdas! Contamos con cupos gratuitos limitados. 
URL:https://www.asociacionferreycorp.edu.pe/evento/programa-impulsando-talento-con-valores-universidad-catolica-sedes-sapientiae/
ATTACH;FMTTYPE=image/jpeg:https://static.asociacionferreycorp.edu.pe/fcsaprdasocferreycorp02/2024/05/Copia-de-IMG_2968.jpg
END:VEVENT
BEGIN:VEVENT
DTSTART;TZID=America/Lima:20240705T130000
DTEND;TZID=America/Lima:20240705T220000
DTSTAMP:20260424T002400
CREATED:20240702T154416Z
LAST-MODIFIED:20240702T154416Z
UID:2232-1720184400-1720216800@www.asociacionferreycorp.edu.pe
SUMMARY:Programa Impulsando Talento con Valores: UCV Lima Norte
DESCRIPTION:Modalidad Presencial  \n¿Estudias en la UCV Lima Norte y te encuentras en los últimos ciclos de tu carrera? ¡Este programa es para ti! \nDurante 3 días presenciales (05\, 06 y 07 de julio) podrás reforzar\, bajo metodologías participativas y lúdicas\, distintas competencias claves como adaptación al cambio\, trabajo en equipo\, gestión de emociones\, liderazgo y otras para destacar como profesional. \nConoce más aquí \n¡No te lo pierdas! Contamos con cupos gratuitos limitados. 
URL:https://www.asociacionferreycorp.edu.pe/evento/programa-impulsando-talento-con-valores-ucv-lima-norte/
ATTACH;FMTTYPE=image/jpeg:https://static.asociacionferreycorp.edu.pe/fcsaprdasocferreycorp02/2024/05/0a397818-b5a8-4548-a8e4-3c1122826ded.jpg
END:VEVENT
END:VCALENDAR