BEGIN:VCALENDAR
VERSION:2.0
PRODID:-//Asociación Ferreycorp - ECPv6.15.3//NONSGML v1.0//EN
CALSCALE:GREGORIAN
METHOD:PUBLISH
X-ORIGINAL-URL:https://www.asociacionferreycorp.edu.pe
X-WR-CALDESC:Eventos para Asociación Ferreycorp
REFRESH-INTERVAL;VALUE=DURATION:PT1H
X-Robots-Tag:noindex
X-PUBLISHED-TTL:PT1H
BEGIN:VTIMEZONE
TZID:America/Lima
BEGIN:STANDARD
TZOFFSETFROM:-0500
TZOFFSETTO:-0500
TZNAME:-05
DTSTART:20240101T050000
END:STANDARD
END:VTIMEZONE
BEGIN:VEVENT
DTSTART;TZID=America/Lima:20240621T130000
DTEND;TZID=America/Lima:20240621T220000
DTSTAMP:20260423T230501
CREATED:20240521T203641Z
LAST-MODIFIED:20240521T203641Z
UID:2178-1718974800-1719007200@www.asociacionferreycorp.edu.pe
SUMMARY:Programa Impulsando Talento con Valores: ZEGEL Chiclayo
DESCRIPTION:Modalidad Presencial  \n¿Estudias en la ZEGEL de Chiclayo y te encuentras en los últimos ciclos de tu carrera? ¡Este programa es para ti! \nDurante 3 días presenciales (21\, 22 y 23 de junio) podrás reforzar\, bajo metodologías participativas y lúdicas\, distintas competencias claves como adaptación al cambio\, trabajo en equipo\, gestión de emociones\, liderazgo y otras para destacar como profesional. \nConoce más aquí \n¡No te lo pierdas! Contamos con cupos gratuitos limitados. 
URL:https://www.asociacionferreycorp.edu.pe/evento/programa-impulsando-talento-con-valores-zegel-chiclayo/
ATTACH;FMTTYPE=image/jpeg:https://static.asociacionferreycorp.edu.pe/fcsaprdasocferreycorp02/2024/05/1711734917426.jpg
END:VEVENT
BEGIN:VEVENT
DTSTART;TZID=America/Lima:20240621T130000
DTEND;TZID=America/Lima:20240621T220000
DTSTAMP:20260423T230501
CREATED:20240522T141707Z
LAST-MODIFIED:20240705T160311Z
UID:2181-1718974800-1719007200@www.asociacionferreycorp.edu.pe
SUMMARY:Programa Impulsando Talento con Valores: UCV Huaraz
DESCRIPTION:Modalidad Presencial  \n¿Estudias en la UCV de Huaraz y te encuentras en los últimos ciclos de tu carrera? ¡Este programa es para ti! \nDurante 3 días presenciales (21\, 22 y 23 de junio) podrás reforzar\, bajo metodologías participativas y lúdicas\, distintas competencias claves como adaptación al cambio\, trabajo en equipo\, gestión de emociones\, liderazgo y otras para destacar como profesional. \nConoce más aquí \n¡No te lo pierdas! Contamos con cupos gratuitos limitados. 
URL:https://www.asociacionferreycorp.edu.pe/evento/programa-impulsando-talento-con-valores-ucv-huaraz/
CATEGORIES:Programa Ferreycorp para la Empleabilidad,Zona Franca
ATTACH;FMTTYPE=image/jpeg:https://static.asociacionferreycorp.edu.pe/fcsaprdasocferreycorp02/2024/05/c88b8db1-f0f7-46c6-930a-9d323aba1f19.jpeg
END:VEVENT
BEGIN:VEVENT
DTSTART;TZID=America/Lima:20240621T130000
DTEND;TZID=America/Lima:20240621T220000
DTSTAMP:20260423T230501
CREATED:20240522T142305Z
LAST-MODIFIED:20240705T150159Z
UID:2190-1718974800-1719007200@www.asociacionferreycorp.edu.pe
SUMMARY:Programa Impulsando Talento con Valores: Universidad de la Salle\, Arequipa
DESCRIPTION:Modalidad Presencial  \n¿Estudias en la Universidad de la Salle en Arequipa y te encuentras en los últimos ciclos de tu carrera? ¡Este programa es para ti! \nDurante 3 días presenciales (21\, 22 y 23 de junio) podrás reforzar\, bajo metodologías participativas y lúdicas\, distintas competencias claves como adaptación al cambio\, trabajo en equipo\, gestión de emociones\, liderazgo y otras para destacar como profesional. \nConoce más aquí \n¡No te lo pierdas! Contamos con cupos gratuitos limitados. 
URL:https://www.asociacionferreycorp.edu.pe/evento/programa-impulsando-talento-con-valores-universidad-de-la-salle-arequipa/
CATEGORIES:Zona Franca
ATTACH;FMTTYPE=image/jpeg:https://static.asociacionferreycorp.edu.pe/fcsaprdasocferreycorp02/2024/05/0a397818-b5a8-4548-a8e4-3c1122826ded.jpg
END:VEVENT
END:VCALENDAR