BEGIN:VCALENDAR
VERSION:2.0
PRODID:-//Asociación Ferreycorp - ECPv6.15.3//NONSGML v1.0//EN
CALSCALE:GREGORIAN
METHOD:PUBLISH
X-WR-CALNAME:Asociación Ferreycorp
X-ORIGINAL-URL:https://www.asociacionferreycorp.edu.pe
X-WR-CALDESC:Eventos para Asociación Ferreycorp
REFRESH-INTERVAL;VALUE=DURATION:PT1H
X-Robots-Tag:noindex
X-PUBLISHED-TTL:PT1H
BEGIN:VTIMEZONE
TZID:America/Lima
BEGIN:STANDARD
TZOFFSETFROM:-0500
TZOFFSETTO:-0500
TZNAME:-05
DTSTART:20240101T050000
END:STANDARD
END:VTIMEZONE
BEGIN:VEVENT
DTSTART;TZID=America/Lima:20240606T130000
DTEND;TZID=America/Lima:20240606T220000
DTSTAMP:20260423T230823
CREATED:20240520T162700Z
LAST-MODIFIED:20240520T162700Z
UID:2133-1717678800-1717711200@www.asociacionferreycorp.edu.pe
SUMMARY:Programa Impulsando Talento con Valores: UTP Piura
DESCRIPTION:Modalidad Presencial  \n¿Estudias en la UTP Piura y te encuentras en los últimos ciclos de tu carrera? ¡Este programa es para ti! \nDurante 3 días presenciales (06\, 07 y 08 de junio) podrás reforzar\, bajo metodologías participativas y lúdicas\, distintas competencias claves como adaptación al cambio\, trabajo en equipo\, gestión de emociones\, liderazgo y otras para destacar como profesional. \nConoce más aquí \n¡No te lo pierdas! Contamos con cupos gratuitos limitados. 
URL:https://www.asociacionferreycorp.edu.pe/evento/programa-impulsando-talento-con-valores-utp-piura/
ATTACH;FMTTYPE=image/jpeg:https://static.asociacionferreycorp.edu.pe/fcsaprdasocferreycorp02/2024/03/IMG_2955.jpg
END:VEVENT
BEGIN:VEVENT
DTSTART;TZID=America/Lima:20240606T200000
DTEND;TZID=America/Lima:20240606T210000
DTSTAMP:20260423T230823
CREATED:20240530T203647Z
LAST-MODIFIED:20240530T205156Z
UID:2198-1717704000-1717707600@www.asociacionferreycorp.edu.pe
SUMMARY:La importancia de adaptarse a un entorno cambiante.
DESCRIPTION:Únete a nuestra próxima secuencia de Zona Franca junto a: \n\nLorena Villanueva: Psicóloga y Facilitadora de la Asociación Ferreycorp.\n\nDónde conversaremos sobre la importancia de adaptarse a un entorno cambiante. ¡No te lo pierdas!
URL:https://www.asociacionferreycorp.edu.pe/evento/la-importancia-de-adaptarse-a-un-entorno-cambiante/
CATEGORIES:Zona Franca
ATTACH;FMTTYPE=image/jpeg:https://static.asociacionferreycorp.edu.pe/fcsaprdasocferreycorp02/2024/01/WhatsApp-Image-2024-01-18-at-14.42.34.jpeg
END:VEVENT
END:VCALENDAR