BEGIN:VCALENDAR
VERSION:2.0
PRODID:-//Asociación Ferreycorp - ECPv6.15.3//NONSGML v1.0//EN
CALSCALE:GREGORIAN
METHOD:PUBLISH
X-WR-CALNAME:Asociación Ferreycorp
X-ORIGINAL-URL:https://www.asociacionferreycorp.edu.pe
X-WR-CALDESC:Eventos para Asociación Ferreycorp
REFRESH-INTERVAL;VALUE=DURATION:PT1H
X-Robots-Tag:noindex
X-PUBLISHED-TTL:PT1H
BEGIN:VTIMEZONE
TZID:America/Lima
BEGIN:STANDARD
TZOFFSETFROM:-0500
TZOFFSETTO:-0500
TZNAME:-05
DTSTART:20240101T050000
END:STANDARD
END:VTIMEZONE
BEGIN:VEVENT
DTSTART;TZID=America/Lima:20240524T130000
DTEND;TZID=America/Lima:20240524T220000
DTSTAMP:20260423T213950
CREATED:20240423T173431Z
LAST-MODIFIED:20240423T173431Z
UID:2091-1716555600-1716588000@www.asociacionferreycorp.edu.pe
SUMMARY:Programa Impulsando Talento con Valores: TECSUP Arequipa
DESCRIPTION:Modalidad Presencial  \n¿Estudias en TECSUP Arequipa y te encuentras en los últimos ciclos de tu carrera? ¡Este programa es para ti! \nDurante 3 días presenciales (24\, 25 y 26 de mayo) podrás reforzar\, bajo metodologías participativas y lúdicas\, distintas competencias claves como adaptación al cambio\, trabajo en equipo\, gestión de emociones\, liderazgo y otras para destacar como profesional. \nConoce más aquí \n¡No te lo pierdas! Contamos con cupos gratuitos limitados. 
URL:https://www.asociacionferreycorp.edu.pe/evento/programa-impulsando-talento-con-valores-tecsup-arequipa/
ATTACH;FMTTYPE=image/png:https://static.asociacionferreycorp.edu.pe/fcsaprdasocferreycorp02/2023/01/123.png
END:VEVENT
BEGIN:VEVENT
DTSTART;TZID=America/Lima:20240524T130000
DTEND;TZID=America/Lima:20240524T220000
DTSTAMP:20260423T213950
CREATED:20240423T173742Z
LAST-MODIFIED:20240423T173742Z
UID:2093-1716555600-1716588000@www.asociacionferreycorp.edu.pe
SUMMARY:Programa Impulsando Talento con Valores: UAC Cusco
DESCRIPTION:Modalidad Presencial  \n¿Estudias en UAC Cusco y te encuentras en los últimos ciclos de tu carrera? ¡Este programa es para ti! \nDurante 3 días presenciales (24\, 25 y 26 de mayo) podrás reforzar\, bajo metodologías participativas y lúdicas\, distintas competencias claves como adaptación al cambio\, trabajo en equipo\, gestión de emociones\, liderazgo y otras para destacar como profesional. \nConoce más aquí \n¡No te lo pierdas! Contamos con cupos gratuitos limitados. 
URL:https://www.asociacionferreycorp.edu.pe/evento/programa-impulsando-talento-con-valores-uac-cusco/
ATTACH;FMTTYPE=image/png:https://static.asociacionferreycorp.edu.pe/fcsaprdasocferreycorp02/2023/01/123.png
END:VEVENT
END:VCALENDAR