BEGIN:VCALENDAR
VERSION:2.0
PRODID:-//Asociación Ferreycorp - ECPv6.15.3//NONSGML v1.0//EN
CALSCALE:GREGORIAN
METHOD:PUBLISH
X-ORIGINAL-URL:https://www.asociacionferreycorp.edu.pe
X-WR-CALDESC:Eventos para Asociación Ferreycorp
REFRESH-INTERVAL;VALUE=DURATION:PT1H
X-Robots-Tag:noindex
X-PUBLISHED-TTL:PT1H
BEGIN:VTIMEZONE
TZID:America/Lima
BEGIN:STANDARD
TZOFFSETFROM:-0500
TZOFFSETTO:-0500
TZNAME:-05
DTSTART:20240101T050000
END:STANDARD
END:VTIMEZONE
BEGIN:VEVENT
DTSTART;TZID=America/Lima:20240523T130000
DTEND;TZID=America/Lima:20240523T220000
DTSTAMP:20260423T214225
CREATED:20240423T172756Z
LAST-MODIFIED:20240423T172756Z
UID:2089-1716469200-1716501600@www.asociacionferreycorp.edu.pe
SUMMARY:Programa Impulsando Talento con Valores: USIL
DESCRIPTION:Modalidad Presencial  \n¿Estudias en la USIL y te encuentras en los últimos ciclos de tu carrera? ¡Este programa es para ti! \nDurante 3 días presenciales (23\, 24 y 25 de mayo) podrás reforzar\, bajo metodologías participativas y lúdicas\, distintas competencias claves como adaptación al cambio\, trabajo en equipo\, gestión de emociones\, liderazgo y otras para destacar como profesional. \nConoce más aquí \n¡No te lo pierdas! Contamos con cupos gratuitos limitados. 
URL:https://www.asociacionferreycorp.edu.pe/evento/programa-impulsando-talento-con-valores-usil/
ATTACH;FMTTYPE=image/jpeg:https://static.asociacionferreycorp.edu.pe/fcsaprdasocferreycorp02/2024/01/01-Asociacion-Ferreycorp-record.jpg
END:VEVENT
BEGIN:VEVENT
DTSTART;TZID=America/Lima:20240523T200000
DTEND;TZID=America/Lima:20240523T210000
DTSTAMP:20260423T214225
CREATED:20240520T205350Z
LAST-MODIFIED:20240520T205350Z
UID:2123-1716494400-1716498000@www.asociacionferreycorp.edu.pe
SUMMARY:El impacto de una buena imagen y reputación
DESCRIPTION:Únete a nuestra próxima secuencia de Zona Franca junto a: \n\nPamela Abdala: Coordinadora Ejecutiva de la Asociación Ferreycorp.\nMiguel Inga: Facilitador de la Asociación Ferreycorp.\n\nDónde conversaremos sobre el poder de una buena imagen y una reputación basada en valores. ¡No te lo pierdas!
URL:https://www.asociacionferreycorp.edu.pe/evento/el-impacto-de-una-buena-imagen-y-reputacion/
CATEGORIES:Zona Franca
ATTACH;FMTTYPE=image/jpeg:https://static.asociacionferreycorp.edu.pe/fcsaprdasocferreycorp02/2024/02/pexels-andrea-piacquadio-3756678-scaled.jpg
END:VEVENT
END:VCALENDAR