BEGIN:VCALENDAR
VERSION:2.0
PRODID:-//Asociación Ferreycorp - ECPv6.15.3//NONSGML v1.0//EN
CALSCALE:GREGORIAN
METHOD:PUBLISH
X-ORIGINAL-URL:https://www.asociacionferreycorp.edu.pe
X-WR-CALDESC:Eventos para Asociación Ferreycorp
REFRESH-INTERVAL;VALUE=DURATION:PT1H
X-Robots-Tag:noindex
X-PUBLISHED-TTL:PT1H
BEGIN:VTIMEZONE
TZID:America/Lima
BEGIN:STANDARD
TZOFFSETFROM:-0500
TZOFFSETTO:-0500
TZNAME:-05
DTSTART:20240101T050000
END:STANDARD
END:VTIMEZONE
BEGIN:VEVENT
DTSTART;TZID=America/Lima:20240517T130000
DTEND;TZID=America/Lima:20240517T220000
DTSTAMP:20260423T213938
CREATED:20240423T163944Z
LAST-MODIFIED:20240423T163944Z
UID:2075-1715950800-1715983200@www.asociacionferreycorp.edu.pe
SUMMARY:Programa Impulsando Talento con Valores: SENATI Chiclayo
DESCRIPTION:Modalidad Presencial  \n¿Estudias en SENATI Chiclayo y te encuentras en los últimos ciclos de tu carrera? ¡Este programa es para ti! \nDurante 3 días presenciales (17\, 18 y 19 de mayo) podrás reforzar\, bajo metodologías participativas y lúdicas\, distintas competencias claves como adaptación al cambio\, trabajo en equipo\, gestión de emociones\, liderazgo y otras para destacar como profesional. \nConoce más aquí \n¡No te lo pierdas! Contamos con cupos gratuitos limitados. 
URL:https://www.asociacionferreycorp.edu.pe/evento/programa-impulsando-talento-con-valores-senati-chiclayo/
ATTACH;FMTTYPE=image/png:https://static.asociacionferreycorp.edu.pe/fcsaprdasocferreycorp02/2024/03/Foto-programa-1.png
END:VEVENT
BEGIN:VEVENT
DTSTART;TZID=America/Lima:20240517T130000
DTEND;TZID=America/Lima:20240517T220000
DTSTAMP:20260423T213938
CREATED:20240423T164528Z
LAST-MODIFIED:20240423T164528Z
UID:2077-1715950800-1715983200@www.asociacionferreycorp.edu.pe
SUMMARY:Programa Impulsando Talento con Valores: SENATI Huacho
DESCRIPTION:Modalidad Presencial  \n¿Estudias en SENATI Huacho y te encuentras en los últimos ciclos de tu carrera? ¡Este programa es para ti! \nDurante 3 días presenciales (17\, 18 y 19 de mayo) podrás reforzar\, bajo metodologías participativas y lúdicas\, distintas competencias claves como adaptación al cambio\, trabajo en equipo\, gestión de emociones\, liderazgo y otras para destacar como profesional. \nConoce más aquí \n¡No te lo pierdas! Contamos con cupos gratuitos limitados. 
URL:https://www.asociacionferreycorp.edu.pe/evento/programa-impulsando-talento-con-valores-senati-huacho/
ATTACH;FMTTYPE=image/png:https://fcsaprdasocferreycorp01.blo
b.core.windows.net/fcsaprdasocferreycorp02/2022/11/2003-1.png
END:VEVENT
BEGIN:VEVENT
DTSTART;TZID=America/Lima:20240517T130000
DTEND;TZID=America/Lima:20240517T220000
DTSTAMP:20260423T213938
CREATED:20240423T165323Z
LAST-MODIFIED:20240423T165323Z
UID:2079-1715950800-1715983200@www.asociacionferreycorp.edu.pe
SUMMARY:Programa Impulsando Talento con Valores: SENATI Cajamarca
DESCRIPTION:Modalidad Presencial  \n¿Estudias en SENATI Cajamarca y te encuentras en los últimos ciclos de tu carrera? ¡Este programa es para ti! \nDurante 3 días presenciales (17\, 18 y 19 de mayo) podrás reforzar\, bajo metodologías participativas y lúdicas\, distintas competencias claves como adaptación al cambio\, trabajo en equipo\, gestión de emociones\, liderazgo y otras para destacar como profesional. \nConoce más aquí \n¡No te lo pierdas! Contamos con cupos gratuitos limitados. 
URL:https://www.asociacionferreycorp.edu.pe/evento/programa-impulsando-talento-con-valores-senati-cajamarca/
ATTACH;FMTTYPE=image/png:https://static.asociacionferreycorp.edu.pe/fcsaprdasocferreycorp02/2024/01/04-foto-nota-af.png
END:VEVENT
BEGIN:VEVENT
DTSTART;TZID=America/Lima:20240517T130000
DTEND;TZID=America/Lima:20240517T220000
DTSTAMP:20260423T213938
CREATED:20240423T165709Z
LAST-MODIFIED:20240423T172245Z
UID:2082-1715950800-1715983200@www.asociacionferreycorp.edu.pe
SUMMARY:Programa Impulsando Talento con Valores: CETEMIN Arequipa
DESCRIPTION:Modalidad Presencial  \n¿Estudias en CETEMIN Arequipa y te encuentras en los últimos ciclos de tu carrera? ¡Este programa es para ti! \nDurante 3 días presenciales (17\, 18 y 19 de mayo) podrás reforzar\, bajo metodologías participativas y lúdicas\, distintas competencias claves como adaptación al cambio\, trabajo en equipo\, gestión de emociones\, liderazgo y otras para destacar como profesional. \nConoce más aquí \n¡No te lo pierdas! Contamos con cupos gratuitos limitados. 
URL:https://www.asociacionferreycorp.edu.pe/evento/programa-impulsando-talento-con-valores-cetemin-arequipa/
ATTACH;FMTTYPE=image/jpeg:https://static.asociacionferreycorp.edu.pe/fcsaprdasocferreycorp02/2024/03/IMG_2955.jpg
END:VEVENT
BEGIN:VEVENT
DTSTART;TZID=America/Lima:20240517T130000
DTEND;TZID=America/Lima:20240517T220000
DTSTAMP:20260423T213938
CREATED:20240423T171150Z
LAST-MODIFIED:20240423T171150Z
UID:2084-1715950800-1715983200@www.asociacionferreycorp.edu.pe
SUMMARY:Programa Impulsando Talento con Valores: IESTP Honorio Delgado Espinoza
DESCRIPTION:Modalidad Presencial  \n¿Estudias en IESTP Honorio Delgado Espinoza en Arequipa y te encuentras en los últimos ciclos de tu carrera? ¡Este programa es para ti! \nDurante 3 días presenciales (17\, 18 y 19 de mayo) podrás reforzar\, bajo metodologías participativas y lúdicas\, distintas competencias claves como adaptación al cambio\, trabajo en equipo\, gestión de emociones\, liderazgo y otras para destacar como profesional. \nConoce más aquí \n¡No te lo pierdas! Contamos con cupos gratuitos limitados. 
URL:https://www.asociacionferreycorp.edu.pe/evento/programa-impulsando-talento-con-valores-iestp-honorio-delgado-espinoza/
ATTACH;FMTTYPE=image/png:https://static.asociacionferreycorp.edu.pe/fcsaprdasocferreycorp02/2024/01/02-foto-nota-af.png
END:VEVENT
BEGIN:VEVENT
DTSTART;TZID=America/Lima:20240517T130000
DTEND;TZID=America/Lima:20240517T220000
DTSTAMP:20260423T213938
CREATED:20240423T172051Z
LAST-MODIFIED:20240423T172051Z
UID:2086-1715950800-1715983200@www.asociacionferreycorp.edu.pe
SUMMARY:Programa Impulsando Talento con Valores: UCV Campus SJL
DESCRIPTION:Modalidad Presencial  \n¿Estudias en UCV Campus SJL y te encuentras en los últimos ciclos de tu carrera? ¡Este programa es para ti! \nDurante 3 días presenciales (17\, 18 y 19 de mayo) podrás reforzar\, bajo metodologías participativas y lúdicas\, distintas competencias claves como adaptación al cambio\, trabajo en equipo\, gestión de emociones\, liderazgo y otras para destacar como profesional. \nConoce más aquí \n¡No te lo pierdas! Contamos con cupos gratuitos limitados. 
URL:https://www.asociacionferreycorp.edu.pe/evento/programa-impulsando-talento-con-valores-ucv-campus-sjl/
ATTACH;FMTTYPE=image/png:https://static.asociacionferreycorp.edu.pe/fcsaprdasocferreycorp02/2024/01/03-foto-nota-af-659ecc6fb813b.png
END:VEVENT
END:VCALENDAR