BEGIN:VCALENDAR
VERSION:2.0
PRODID:-//Asociación Ferreycorp - ECPv6.15.3//NONSGML v1.0//EN
CALSCALE:GREGORIAN
METHOD:PUBLISH
X-ORIGINAL-URL:https://www.asociacionferreycorp.edu.pe
X-WR-CALDESC:Eventos para Asociación Ferreycorp
REFRESH-INTERVAL;VALUE=DURATION:PT1H
X-Robots-Tag:noindex
X-PUBLISHED-TTL:PT1H
BEGIN:VTIMEZONE
TZID:America/Lima
BEGIN:STANDARD
TZOFFSETFROM:-0500
TZOFFSETTO:-0500
TZNAME:-05
DTSTART:20240101T050000
END:STANDARD
END:VTIMEZONE
BEGIN:VEVENT
DTSTART;TZID=America/Lima:20240305T130000
DTEND;TZID=America/Lima:20240305T220000
DTSTAMP:20260423T190413
CREATED:20240209T174235Z
LAST-MODIFIED:20240228T152744Z
UID:1914-1709643600-1709676000@www.asociacionferreycorp.edu.pe
SUMMARY:Programa Ferreycorp para la Empleabilidad: Edición Especial en Lima
DESCRIPTION:Modalidad Presencial  \n¿Te encuentras en los últimos ciclos de tu carrera y estudias en Lima o el Callao?\nNo puedes perderte nuestro programa donde durante 3 días en modalidad presencial reforzarás\, bajo metodologías lúdicas\, distintas competencias claves para tu desarrollo personal y profesional. \nEl programa se llevará a cabo en Lima\, Edificio Ferreycorp los días 05\, 06 y 07 de marzo. \nContamos con cupos gratuitos. ¡Conoce más aquí!
URL:https://www.asociacionferreycorp.edu.pe/evento/programa-ferreycorp-para-la-empleabilidad-edicion-especial-en-lima/
ATTACH;FMTTYPE=image/png:https://static.asociacionferreycorp.edu.pe/fcsaprdasocferreycorp02/2022/10/Programa-F.-para-la-Empleabilidad.png
END:VEVENT
END:VCALENDAR