BEGIN:VCALENDAR
VERSION:2.0
PRODID:-//Asociación Ferreycorp - ECPv6.15.3//NONSGML v1.0//EN
CALSCALE:GREGORIAN
METHOD:PUBLISH
X-ORIGINAL-URL:https://www.asociacionferreycorp.edu.pe
X-WR-CALDESC:Eventos para Asociación Ferreycorp
REFRESH-INTERVAL;VALUE=DURATION:PT1H
X-Robots-Tag:noindex
X-PUBLISHED-TTL:PT1H
BEGIN:VTIMEZONE
TZID:America/Lima
BEGIN:STANDARD
TZOFFSETFROM:-0500
TZOFFSETTO:-0500
TZNAME:-05
DTSTART:20240101T050000
END:STANDARD
END:VTIMEZONE
BEGIN:VEVENT
DTSTART;TZID=America/Lima:20240208T200000
DTEND;TZID=America/Lima:20240208T210000
DTSTAMP:20260423T173803
CREATED:20240206T145210Z
LAST-MODIFIED:20240321T165853Z
UID:1871-1707422400-1707426000@www.asociacionferreycorp.edu.pe
SUMMARY:La importancia de la inteligencia emocional para el éxito profesional
DESCRIPTION:Únete a nuestra próxima secuencia de Zona Franca junto a: \n\nKatiuska Tacanga: Psicóloga y Facilitadora de la Asociación Ferreycorp para conversar sobre “La importancia de la inteligencia emocional en el éxito profesional.”\n\nEste evento sobre la importancia de la inteligencia emocional será de aporte para tu crecimiento profesional. \n¡No te lo pierdas!
URL:https://www.asociacionferreycorp.edu.pe/evento/la-importancia-de-la-inteligencia-emocional-para-el-exito-profesional/
CATEGORIES:Zona Franca
ATTACH;FMTTYPE=image/jpeg:https://static.asociacionferreycorp.edu.pe/fcsaprdasocferreycorp02/2024/02/arreglo-plano-diferentes-sentimientos-scaled.jpg
END:VEVENT
END:VCALENDAR