BEGIN:VCALENDAR
VERSION:2.0
PRODID:-//Asociación Ferreycorp - ECPv6.15.3//NONSGML v1.0//EN
CALSCALE:GREGORIAN
METHOD:PUBLISH
X-WR-CALNAME:Asociación Ferreycorp
X-ORIGINAL-URL:https://www.asociacionferreycorp.edu.pe
X-WR-CALDESC:Eventos para Asociación Ferreycorp
REFRESH-INTERVAL;VALUE=DURATION:PT1H
X-Robots-Tag:noindex
X-PUBLISHED-TTL:PT1H
BEGIN:VTIMEZONE
TZID:America/Lima
BEGIN:STANDARD
TZOFFSETFROM:-0500
TZOFFSETTO:-0500
TZNAME:-05
DTSTART:20230101T050000
END:STANDARD
END:VTIMEZONE
BEGIN:VEVENT
DTSTART;TZID=America/Lima:20231124T130000
DTEND;TZID=America/Lima:20231124T220000
DTSTAMP:20260423T133119
CREATED:20231102T143813Z
LAST-MODIFIED:20231102T144639Z
UID:1744-1700830800-1700863200@www.asociacionferreycorp.edu.pe
SUMMARY:Programa Ferreycorp para la Empleabilidad: UTP Ica
DESCRIPTION:Modalidad Presencial  \n¿Estudias en UTP Ica y te encuentras en los últimos ciclos de tu carrera? ¡Este programa es para ti!  Durante 3 días presenciales (24\, 25 y 26 de noviembre) podrás reforzar\, bajo metodologías participativas y lúdicas\, distintas competencias claves para tu desarrollo personal y profesional. \nConoce más del programa aquí \n¡Pronto llegaremos a distintas universidades e institutos en todo el Perú!
URL:https://www.asociacionferreycorp.edu.pe/evento/programa-ferreycorp-para-la-empleabilidad-tecsup-trujillo-2/
ATTACH;FMTTYPE=image/png:https://static.asociacionferreycorp.edu.pe/fcsaprdasocferreycorp02/2022/10/Programa-F.-para-la-Empleabilidad.png
END:VEVENT
BEGIN:VEVENT
DTSTART;TZID=America/Lima:20231124T130000
DTEND;TZID=America/Lima:20231124T220000
DTSTAMP:20260423T133119
CREATED:20231102T144127Z
LAST-MODIFIED:20231102T144127Z
UID:1747-1700830800-1700863200@www.asociacionferreycorp.edu.pe
SUMMARY:Programa Ferreycorp para la Empleabilidad: UCV Piura
DESCRIPTION:Modalidad Presencial  \n¿Estudias en UCV Piura y te encuentras en los últimos ciclos de tu carrera? ¡Este programa es para ti!  Durante 3 días presenciales (24\, 25 y 26 de noviembre) podrás reforzar\, bajo metodologías participativas y lúdicas\, distintas competencias claves para tu desarrollo personal y profesional. \nConoce más del programa aquí \n¡Pronto llegaremos a distintas universidades e institutos en todo el Perú!
URL:https://www.asociacionferreycorp.edu.pe/evento/programa-ferreycorp-para-la-empleabilidad-ucv-piura/
ATTACH;FMTTYPE=image/png:https://static.asociacionferreycorp.edu.pe/fcsaprdasocferreycorp02/2022/10/Programa-F.-para-la-Empleabilidad.png
END:VEVENT
BEGIN:VEVENT
DTSTART;TZID=America/Lima:20231124T130000
DTEND;TZID=America/Lima:20231124T220000
DTSTAMP:20260423T133119
CREATED:20231102T145238Z
LAST-MODIFIED:20231102T145238Z
UID:1752-1700830800-1700863200@www.asociacionferreycorp.edu.pe
SUMMARY:Programa Ferreycorp para la Empleabilidad: Universidad Continental - Los Olivos
DESCRIPTION:Modalidad Presencial  \n¿Estudias en Universidad Continental – Los Olivos y te encuentras en los últimos ciclos de tu carrera? ¡Este programa es para ti!  Durante 3 días presenciales (24\, 25 y 26 de noviembre) podrás reforzar\, bajo metodologías participativas y lúdicas\, distintas competencias claves para tu desarrollo personal y profesional. \nConoce más del programa aquí \n¡Pronto llegaremos a distintas universidades e institutos en todo el Perú!
URL:https://www.asociacionferreycorp.edu.pe/evento/programa-ferreycorp-para-la-empleabilidad-universidad-continental-los-olivos/
ATTACH;FMTTYPE=image/png:https://static.asociacionferreycorp.edu.pe/fcsaprdasocferreycorp02/2022/10/Programa-F.-para-la-Empleabilidad.png
END:VEVENT
BEGIN:VEVENT
DTSTART;TZID=America/Lima:20231124T130000
DTEND;TZID=America/Lima:20231124T220000
DTSTAMP:20260423T133119
CREATED:20231102T145714Z
LAST-MODIFIED:20231102T145917Z
UID:1754-1700830800-1700863200@www.asociacionferreycorp.edu.pe
SUMMARY:Programa Ferreycorp para la Empleabilidad: UNALM La Molina
DESCRIPTION:Modalidad Presencial  \n¿Estudias en la UNALM La Molina y te encuentras en los últimos ciclos de tu carrera? ¡Este programa es para ti!  Durante 3 días presenciales (24\, 25 y 26 de noviembre) podrás reforzar\, bajo metodologías participativas y lúdicas\, distintas competencias claves para tu desarrollo personal y profesional. \nConoce más del programa aquí \n¡Pronto llegaremos a distintas universidades e institutos en todo el Perú!
URL:https://www.asociacionferreycorp.edu.pe/evento/programa-ferreycorp-para-la-empleabilidad-unalm-la-molina/
ATTACH;FMTTYPE=image/png:https://static.asociacionferreycorp.edu.pe/fcsaprdasocferreycorp02/2022/10/Programa-F.-para-la-Empleabilidad.png
END:VEVENT
END:VCALENDAR