BEGIN:VCALENDAR
VERSION:2.0
PRODID:-//Asociación Ferreycorp - ECPv6.15.3//NONSGML v1.0//EN
CALSCALE:GREGORIAN
METHOD:PUBLISH
X-ORIGINAL-URL:https://www.asociacionferreycorp.edu.pe
X-WR-CALDESC:Eventos para Asociación Ferreycorp
REFRESH-INTERVAL;VALUE=DURATION:PT1H
X-Robots-Tag:noindex
X-PUBLISHED-TTL:PT1H
BEGIN:VTIMEZONE
TZID:America/Lima
BEGIN:STANDARD
TZOFFSETFROM:-0500
TZOFFSETTO:-0500
TZNAME:-05
DTSTART:20230101T050000
END:STANDARD
END:VTIMEZONE
BEGIN:VEVENT
DTSTART;TZID=America/Lima:20231123T130000
DTEND;TZID=America/Lima:20231123T220000
DTSTAMP:20260423T133237
CREATED:20231102T143151Z
LAST-MODIFIED:20231102T143151Z
UID:1742-1700744400-1700776800@www.asociacionferreycorp.edu.pe
SUMMARY:Programa Ferreycorp para la Empleabilidad: Universidad Andina del Cusco
DESCRIPTION:Modalidad Presencial  \n¿Estudias en Universidad Andina del Cusco y te encuentras en los últimos ciclos de tu carrera? ¡Este programa es para ti!  Durante 3 días presenciales (23\, 24 y 25 de noviembre) podrás reforzar\, bajo metodologías participativas y lúdicas\, distintas competencias claves para tu desarrollo personal y profesional. \nConoce más del programa aquí \n¡Pronto llegaremos a distintas universidades e institutos en todo el Perú!
URL:https://www.asociacionferreycorp.edu.pe/evento/programa-ferreycorp-para-la-empleabilidad-universidad-andina-del-cusco/
ATTACH;FMTTYPE=image/png:https://static.asociacionferreycorp.edu.pe/fcsaprdasocferreycorp02/2022/10/Programa-F.-para-la-Empleabilidad.png
END:VEVENT
BEGIN:VEVENT
DTSTART;TZID=America/Lima:20231123T200000
DTEND;TZID=America/Lima:20231123T210000
DTSTAMP:20260423T133237
CREATED:20231110T211138Z
LAST-MODIFIED:20231115T180442Z
UID:1762-1700769600-1700773200@www.asociacionferreycorp.edu.pe
SUMMARY:Empatía: Un ejercicio que te lleva a la solidaridad
DESCRIPTION:Sé parte de nuestra próxima secuencia de Zona Franca para conversar sobre cómo desarrollar nuestra empatía 😉 ¡Regístrate gratis!
URL:https://www.asociacionferreycorp.edu.pe/evento/empatia-un-ejercicio-que-te-lleva-a-la-solidaridad/
CATEGORIES:Zona Franca
ATTACH;FMTTYPE=image/png:https://static.asociacionferreycorp.edu.pe/fcsaprdasocferreycorp02/2023/11/ZF-23-11-23.png
END:VEVENT
END:VCALENDAR