BEGIN:VCALENDAR
VERSION:2.0
PRODID:-//Asociación Ferreycorp - ECPv6.15.3//NONSGML v1.0//EN
CALSCALE:GREGORIAN
METHOD:PUBLISH
X-ORIGINAL-URL:https://www.asociacionferreycorp.edu.pe
X-WR-CALDESC:Eventos para Asociación Ferreycorp
REFRESH-INTERVAL;VALUE=DURATION:PT1H
X-Robots-Tag:noindex
X-PUBLISHED-TTL:PT1H
BEGIN:VTIMEZONE
TZID:America/Lima
BEGIN:STANDARD
TZOFFSETFROM:-0500
TZOFFSETTO:-0500
TZNAME:-05
DTSTART:20230101T050000
END:STANDARD
END:VTIMEZONE
BEGIN:VEVENT
DTSTART;TZID=America/Lima:20231026T130000
DTEND;TZID=America/Lima:20231026T220000
DTSTAMP:20260423T121830
CREATED:20231005T020707Z
LAST-MODIFIED:20231005T020815Z
UID:1687-1698325200-1698357600@www.asociacionferreycorp.edu.pe
SUMMARY:Programa Ferreycorp para la Empleabilidad: UNSCH - Huamanga
DESCRIPTION:Modalidad Presencial  \n¿Estudias en UNSCH – Huamanga y te encuentras en los últimos ciclos de tu carrera? ¡Este programa es para ti!  Durante 3 días presenciales (26\, 27 y 28 de octubre) podrás reforzar\, bajo metodologías participativas y lúdicas\, distintas competencias claves para tu desarrollo personal y profesional. \nConoce más del programa aquí \n¡Pronto llegaremos a distintas universidades e institutos en todo el Perú!
URL:https://www.asociacionferreycorp.edu.pe/evento/programa-ferreycorp-para-la-empleabilidad-unsch-huamanga/
ATTACH;FMTTYPE=image/png:https://static.asociacionferreycorp.edu.pe/fcsaprdasocferreycorp02/2022/10/Programa-F.-para-la-Empleabilidad.png
END:VEVENT
BEGIN:VEVENT
DTSTART;TZID=America/Lima:20231026T200000
DTEND;TZID=America/Lima:20231026T210000
DTSTAMP:20260423T121830
CREATED:20231018T153723Z
LAST-MODIFIED:20231018T153723Z
UID:1699-1698350400-1698354000@www.asociacionferreycorp.edu.pe
SUMMARY:Claves para una negociación exitosa
DESCRIPTION:Sé parte de nuestra próxima secuencia de Zona Franca para conversar sobre cómo liderar una negociación exitosa. 😉 ¡Regístrate gratis!
URL:https://www.asociacionferreycorp.edu.pe/evento/claves-para-una-negociacion-exitosa/
CATEGORIES:Zona Franca
ATTACH;FMTTYPE=image/png:https://static.asociacionferreycorp.edu.pe/fcsaprdasocferreycorp02/2023/10/Zona-Franca-26-09-23.png
END:VEVENT
END:VCALENDAR