BEGIN:VCALENDAR
VERSION:2.0
PRODID:-//Asociación Ferreycorp - ECPv6.15.3//NONSGML v1.0//EN
CALSCALE:GREGORIAN
METHOD:PUBLISH
X-ORIGINAL-URL:https://www.asociacionferreycorp.edu.pe
X-WR-CALDESC:Eventos para Asociación Ferreycorp
REFRESH-INTERVAL;VALUE=DURATION:PT1H
X-Robots-Tag:noindex
X-PUBLISHED-TTL:PT1H
BEGIN:VTIMEZONE
TZID:America/Lima
BEGIN:STANDARD
TZOFFSETFROM:-0500
TZOFFSETTO:-0500
TZNAME:-05
DTSTART:20230101T050000
END:STANDARD
END:VTIMEZONE
BEGIN:VEVENT
DTSTART;TZID=America/Lima:20230907T200000
DTEND;TZID=America/Lima:20230907T210000
DTSTAMP:20260423T105207
CREATED:20230829T000944Z
LAST-MODIFIED:20230829T000944Z
UID:1621-1694116800-1694120400@www.asociacionferreycorp.edu.pe
SUMMARY:Entrevista de trabajo ¿Cómo causar una buena impresión?
DESCRIPTION:Sé parte de nuestra próxima secuencia de Zona Franca para conversar sobre cómo desenvolverse y causar una buena impresión en las entrevistas de trabajo 💚 ¡Regístrate gratis!
URL:https://www.asociacionferreycorp.edu.pe/evento/entrevista-de-trabajo-como-causar-una-buena-impresion/
CATEGORIES:Zona Franca
ATTACH;FMTTYPE=image/png:https://static.asociacionferreycorp.edu.pe/fcsaprdasocferreycorp02/2023/08/Zona-Franca-07-08-23.png
END:VEVENT
END:VCALENDAR