BEGIN:VCALENDAR
VERSION:2.0
PRODID:-//Asociación Ferreycorp - ECPv6.15.3//NONSGML v1.0//EN
CALSCALE:GREGORIAN
METHOD:PUBLISH
X-ORIGINAL-URL:https://www.asociacionferreycorp.edu.pe
X-WR-CALDESC:Eventos para Asociación Ferreycorp
REFRESH-INTERVAL;VALUE=DURATION:PT1H
X-Robots-Tag:noindex
X-PUBLISHED-TTL:PT1H
BEGIN:VTIMEZONE
TZID:America/Lima
BEGIN:STANDARD
TZOFFSETFROM:-0500
TZOFFSETTO:-0500
TZNAME:-05
DTSTART:20230101T050000
END:STANDARD
END:VTIMEZONE
BEGIN:VEVENT
DTSTART;TZID=America/Lima:20230330T130000
DTEND;TZID=America/Lima:20230330T220000
DTSTAMP:20260422T201607
CREATED:20230307T204355Z
LAST-MODIFIED:20230329T141930Z
UID:1395-1680181200-1680213600@www.asociacionferreycorp.edu.pe
SUMMARY:Programa Ferreycorp para la Empleabilidad - Tecsup Trujillo
DESCRIPTION:Modalidad Presencial  \n¿Estudias en Tecsup Trujillo y te encuentras en los últimos ciclos de tu carrera? ¡Este programa es para ti!  Durante 3 días presenciales (30\, 31 de marzo y 01 de abril) podrás reforzar\, bajo metodologías participativas y lúdicas\, distintas competencias claves para tu desarrollo personal y profesional. \n📌Conoce más en la charla virtual informativa este lunes 27 de marzo a las 7 p.m. \n*Si eres estudiante de otra universidad o instituto\, te invitamos a seguirnos en redes sociales y conocer más novedades. ¡Pronto estaremos realizando este programa en distintas universidades e institutos a nivel nacional!
URL:https://www.asociacionferreycorp.edu.pe/evento/programa-ferreycorp-para-la-empleabilidad-tecsup-trujillo/
END:VEVENT
END:VCALENDAR